BEGIN:VCALENDAR
VERSION:2.0
PRODID:-//BoiraBaixa - ECPv6.15.20//NONSGML v1.0//EN
CALSCALE:GREGORIAN
METHOD:PUBLISH
X-ORIGINAL-URL:https://boirabaixa.cat
X-WR-CALDESC:Esdeveniments per BoiraBaixa
REFRESH-INTERVAL;VALUE=DURATION:PT1H
X-Robots-Tag:noindex
X-PUBLISHED-TTL:PT1H
BEGIN:VTIMEZONE
TZID:Europe/Andorra
BEGIN:DAYLIGHT
TZOFFSETFROM:+0100
TZOFFSETTO:+0200
TZNAME:CEST
DTSTART:20240331T010000
END:DAYLIGHT
BEGIN:STANDARD
TZOFFSETFROM:+0200
TZOFFSETTO:+0100
TZNAME:CET
DTSTART:20241027T010000
END:STANDARD
BEGIN:DAYLIGHT
TZOFFSETFROM:+0100
TZOFFSETTO:+0200
TZNAME:CEST
DTSTART:20250330T010000
END:DAYLIGHT
BEGIN:STANDARD
TZOFFSETFROM:+0200
TZOFFSETTO:+0100
TZNAME:CET
DTSTART:20251026T010000
END:STANDARD
BEGIN:DAYLIGHT
TZOFFSETFROM:+0100
TZOFFSETTO:+0200
TZNAME:CEST
DTSTART:20260329T010000
END:DAYLIGHT
BEGIN:STANDARD
TZOFFSETFROM:+0200
TZOFFSETTO:+0100
TZNAME:CET
DTSTART:20261025T010000
END:STANDARD
END:VTIMEZONE
BEGIN:VEVENT
DTSTART;TZID=Europe/Andorra:20250615T123000
DTEND;TZID=Europe/Andorra:20250615T140000
DTSTAMP:20260425T014400
CREATED:20250519T140453Z
LAST-MODIFIED:20250531T092631Z
UID:8537-1749990600-1749996000@boirabaixa.cat
SUMMARY:Concert-vermut amb la Coral Contratemps
DESCRIPTION:Cançons i paraules de taverna. Amb taquilla inversa.
URL:https://boirabaixa.cat/esdeveniment/concert-vermut-amb-la-coral-contratemps/
LOCATION:Casal Popular Boira Baixa\, Plaça Flama del Canigó\, 2\, Manlleu\, Països Catalans\, 08560
ATTACH;FMTTYPE=image/jpeg:https://boirabaixa.cat/wp-content/uploads/sites/36/2025/05/Contratemps.jpeg
ORGANIZER;CN="Casal Popular Boira Baixa":MAILTO:boirabaixa@gmail.com
END:VEVENT
BEGIN:VEVENT
DTSTART;TZID=Europe/Andorra:20250615T190000
DTEND;TZID=Europe/Andorra:20250615T200000
DTSTAMP:20260425T014400
CREATED:20250519T140716Z
LAST-MODIFIED:20250531T142138Z
UID:8539-1750014000-1750017600@boirabaixa.cat
SUMMARY:Concert del Cor del Teatre Centre de Manlleu
DESCRIPTION:Del rock català al pop actual passant per Mar i Cel o el clàssic “Stand by me”. Dirigit per Guillem Soler. Amb taquilla inversa.
URL:https://boirabaixa.cat/esdeveniment/concert-del-cor-de-teatre-centre-de-manlleu/
LOCATION:Casal Popular Boira Baixa\, Plaça Flama del Canigó\, 2\, Manlleu\, Països Catalans\, 08560
ATTACH;FMTTYPE=image/jpeg:https://boirabaixa.cat/wp-content/uploads/sites/36/2025/05/Cor_TC_concert_BB-1.jpeg
ORGANIZER;CN="Casal Popular Boira Baixa":MAILTO:boirabaixa@gmail.com
END:VEVENT
END:VCALENDAR