BEGIN:VCALENDAR
VERSION:2.0
PRODID:-//BoiraBaixa - ECPv6.15.20//NONSGML v1.0//EN
CALSCALE:GREGORIAN
METHOD:PUBLISH
X-WR-CALNAME:BoiraBaixa
X-ORIGINAL-URL:https://boirabaixa.cat
X-WR-CALDESC:Esdeveniments per BoiraBaixa
REFRESH-INTERVAL;VALUE=DURATION:PT1H
X-Robots-Tag:noindex
X-PUBLISHED-TTL:PT1H
BEGIN:VTIMEZONE
TZID:Europe/Andorra
BEGIN:DAYLIGHT
TZOFFSETFROM:+0100
TZOFFSETTO:+0200
TZNAME:CEST
DTSTART:20240331T010000
END:DAYLIGHT
BEGIN:STANDARD
TZOFFSETFROM:+0200
TZOFFSETTO:+0100
TZNAME:CET
DTSTART:20241027T010000
END:STANDARD
BEGIN:DAYLIGHT
TZOFFSETFROM:+0100
TZOFFSETTO:+0200
TZNAME:CEST
DTSTART:20250330T010000
END:DAYLIGHT
BEGIN:STANDARD
TZOFFSETFROM:+0200
TZOFFSETTO:+0100
TZNAME:CET
DTSTART:20251026T010000
END:STANDARD
BEGIN:DAYLIGHT
TZOFFSETFROM:+0100
TZOFFSETTO:+0200
TZNAME:CEST
DTSTART:20260329T010000
END:DAYLIGHT
BEGIN:STANDARD
TZOFFSETFROM:+0200
TZOFFSETTO:+0100
TZNAME:CET
DTSTART:20261025T010000
END:STANDARD
END:VTIMEZONE
BEGIN:VEVENT
DTSTART;TZID=Europe/Andorra:20250705T103000
DTEND;TZID=Europe/Andorra:20250705T123000
DTSTAMP:20260425T002529
CREATED:20250625T131445Z
LAST-MODIFIED:20250626T184634Z
UID:8964-1751711400-1751718600@boirabaixa.cat
SUMMARY:Taller sobre plantes depuratives dinamitzat per La Remeiera
DESCRIPTION:Taller sobre plantes depuratives dinamitzat per La Remeiera – Plantes i benestar. Inscripcions prèvies fins al dijous 3 de juliol o fins a exhaurir places\, a florderemeiera@gmail.com o escrivint a @florderemeiera (Instagram). \nPreu: 15€ socis/es\, 17€ no socis/es. \nConeix la importància de les depuracions per mantenir l’equilibri i el bon funcionament del nostre organisme\, a partir de les plantes remeieres del territori.
URL:https://boirabaixa.cat/esdeveniment/taller-sobre-plantes-depuratives-dinamitzat-per-la-remeiera/
LOCATION:Casal Popular Boira Baixa\, Plaça Flama del Canigó\, 2\, Manlleu\, Països Catalans\, 08560
ATTACH;FMTTYPE=image/jpeg:https://boirabaixa.cat/wp-content/uploads/sites/36/2025/06/Taller_plantes_depuratives.jpeg
END:VEVENT
BEGIN:VEVENT
DTSTART;TZID=Europe/Andorra:20250705T203000
DTEND;TZID=Europe/Andorra:20250705T223000
DTSTAMP:20260425T002529
CREATED:20250625T131617Z
LAST-MODIFIED:20250626T133946Z
UID:8966-1751747400-1751754600@boirabaixa.cat
SUMMARY:Vespre-nit de "Pub Quiz" amb Teatre Centre
DESCRIPTION:Competició per equips en què s’han de respondre preguntes de cultura general en un ambient de taverna. \nInscripcions abans de començar (preu simbòlic de 5€ per grup).
URL:https://boirabaixa.cat/esdeveniment/vespre-nit-de-pub-quiz-amb-teatre-centre/
LOCATION:Casal Popular Boira Baixa\, Plaça Flama del Canigó\, 2\, Manlleu\, Països Catalans\, 08560
ATTACH;FMTTYPE=image/jpeg:https://boirabaixa.cat/wp-content/uploads/sites/36/2025/06/Nit-Pub-Quiz-TC-estiu-25.jpeg
ORGANIZER;CN="Teatre Centre":MAILTO:info@teatrecentre.cat
END:VEVENT
END:VCALENDAR