BEGIN:VCALENDAR
VERSION:2.0
PRODID:-//BoiraBaixa - ECPv6.15.20//NONSGML v1.0//EN
CALSCALE:GREGORIAN
METHOD:PUBLISH
X-ORIGINAL-URL:https://boirabaixa.cat
X-WR-CALDESC:Esdeveniments per BoiraBaixa
REFRESH-INTERVAL;VALUE=DURATION:PT1H
X-Robots-Tag:noindex
X-PUBLISHED-TTL:PT1H
BEGIN:VTIMEZONE
TZID:Europe/Andorra
BEGIN:DAYLIGHT
TZOFFSETFROM:+0100
TZOFFSETTO:+0200
TZNAME:CEST
DTSTART:20240331T010000
END:DAYLIGHT
BEGIN:STANDARD
TZOFFSETFROM:+0200
TZOFFSETTO:+0100
TZNAME:CET
DTSTART:20241027T010000
END:STANDARD
BEGIN:DAYLIGHT
TZOFFSETFROM:+0100
TZOFFSETTO:+0200
TZNAME:CEST
DTSTART:20250330T010000
END:DAYLIGHT
BEGIN:STANDARD
TZOFFSETFROM:+0200
TZOFFSETTO:+0100
TZNAME:CET
DTSTART:20251026T010000
END:STANDARD
BEGIN:DAYLIGHT
TZOFFSETFROM:+0100
TZOFFSETTO:+0200
TZNAME:CEST
DTSTART:20260329T010000
END:DAYLIGHT
BEGIN:STANDARD
TZOFFSETFROM:+0200
TZOFFSETTO:+0100
TZNAME:CET
DTSTART:20261025T010000
END:STANDARD
END:VTIMEZONE
BEGIN:VEVENT
DTSTART;TZID=Europe/Andorra:20250808T170000
DTEND;TZID=Europe/Andorra:20250817T200000
DTSTAMP:20260424T230433
CREATED:20250730T102127Z
LAST-MODIFIED:20250730T102127Z
UID:9342-1754672400-1755460800@boirabaixa.cat
SUMMARY:Fes-te Jove 2025
DESCRIPTION:
URL:https://boirabaixa.cat/esdeveniment/fes-te-jove-2025/
LOCATION:Manlleu\, 08560
ATTACH;FMTTYPE=image/jpeg:https://boirabaixa.cat/wp-content/uploads/sites/36/2025/07/FJ_2025.jpeg
ORGANIZER;CN="Fes-te Jove":MAILTO:festejovemanlleu@gmail.com
END:VEVENT
BEGIN:VEVENT
DTSTART;TZID=Europe/Andorra:20250809T140000
DTEND;TZID=Europe/Andorra:20250809T210000
DTSTAMP:20260424T230433
CREATED:20250730T103021Z
LAST-MODIFIED:20250801T154652Z
UID:9347-1754748000-1754773200@boirabaixa.cat
SUMMARY:Dinar de Festa Major i Cantabars de lluïment
DESCRIPTION:14:30h | Gran dinar de Festa Major i Cantabars de lluïment. Menú: gaspatxo de síndria\, galtes de vedella estofades (amb opció vegetariana) i pastís de xocolata. Inclou pa\, aigua\, vi i gasosa. Preu: 15€ socis/es\, 17€ no socis/es. Tiquets aquí. \n18h | Escalfem motors i omplim la panxa abans de la nit de concerts de Fes-te Jove! Amb la música de PD Nanfu.
URL:https://boirabaixa.cat/esdeveniment/dinar-de-festa-major-i-cantabars-de-lluiment/
LOCATION:Casal Popular Boira Baixa\, Plaça Flama del Canigó\, 2\, Manlleu\, Països Catalans\, 08560
ATTACH;FMTTYPE=image/jpeg:https://boirabaixa.cat/wp-content/uploads/sites/36/2025/07/Cartell-mida-post-Dinar-FM-scaled.jpg
ORGANIZER;CN="Casal Popular Boira Baixa":MAILTO:boirabaixa@gmail.com
END:VEVENT
END:VCALENDAR