BEGIN:VCALENDAR
VERSION:2.0
PRODID:-//BoiraBaixa - ECPv6.15.20//NONSGML v1.0//EN
CALSCALE:GREGORIAN
METHOD:PUBLISH
X-ORIGINAL-URL:https://boirabaixa.cat
X-WR-CALDESC:Esdeveniments per BoiraBaixa
REFRESH-INTERVAL;VALUE=DURATION:PT1H
X-Robots-Tag:noindex
X-PUBLISHED-TTL:PT1H
BEGIN:VTIMEZONE
TZID:Europe/Andorra
BEGIN:DAYLIGHT
TZOFFSETFROM:+0100
TZOFFSETTO:+0200
TZNAME:CEST
DTSTART:20240331T010000
END:DAYLIGHT
BEGIN:STANDARD
TZOFFSETFROM:+0200
TZOFFSETTO:+0100
TZNAME:CET
DTSTART:20241027T010000
END:STANDARD
BEGIN:DAYLIGHT
TZOFFSETFROM:+0100
TZOFFSETTO:+0200
TZNAME:CEST
DTSTART:20250330T010000
END:DAYLIGHT
BEGIN:STANDARD
TZOFFSETFROM:+0200
TZOFFSETTO:+0100
TZNAME:CET
DTSTART:20251026T010000
END:STANDARD
BEGIN:DAYLIGHT
TZOFFSETFROM:+0100
TZOFFSETTO:+0200
TZNAME:CEST
DTSTART:20260329T010000
END:DAYLIGHT
BEGIN:STANDARD
TZOFFSETFROM:+0200
TZOFFSETTO:+0100
TZNAME:CET
DTSTART:20261025T010000
END:STANDARD
END:VTIMEZONE
BEGIN:VEVENT
DTSTART;TZID=Europe/Andorra:20251003T200000
DTEND;TZID=Europe/Andorra:20251003T220000
DTSTAMP:20260424T202859
CREATED:20250924T112323Z
LAST-MODIFIED:20250925T151319Z
UID:9743-1759521600-1759528800@boirabaixa.cat
SUMMARY:Verro i birra | Sopar popular: galtes de porc a la cassola amb patates
DESCRIPTION:
URL:https://boirabaixa.cat/esdeveniment/verro-i-birra-sopar-popular-galtes-de-porc-a-la-cassola-amb-patates/
LOCATION:Casal Popular Boira Baixa\, Plaça Flama del Canigó\, 2\, Manlleu\, Països Catalans\, 08560
CATEGORIES:Festa del Verro i la Birra
ATTACH;FMTTYPE=image/jpeg:https://boirabaixa.cat/wp-content/uploads/sites/36/2025/09/VerroBirraBB_dv3.jpeg
ORGANIZER;CN="Casal Popular Boira Baixa":MAILTO:boirabaixa@gmail.com
END:VEVENT
BEGIN:VEVENT
DTSTART;TZID=Europe/Andorra:20251003T223000
DTEND;TZID=Europe/Andorra:20251004T010000
DTSTAMP:20260424T202859
CREATED:20250924T112900Z
LAST-MODIFIED:20250925T151505Z
UID:9745-1759530600-1759539600@boirabaixa.cat
SUMMARY:Verro i birra | Concert amb Borrissol i Tremendu
DESCRIPTION:Concert amb Borrissol (pop\, Barcelona)\, membre de Dan Peralbo i El Comboi\, Alavedra\, Falciots Ninja\, MiNE!Virtudes\, Capità Moore i altres\, i Tremendu (cantamanyanes de la Plana). Amb taquilla inversa.
URL:https://boirabaixa.cat/esdeveniment/verro-i-birra-concert-amb-ret-i-tremendu/
LOCATION:Casal Popular Boira Baixa\, Plaça Flama del Canigó\, 2\, Manlleu\, Països Catalans\, 08560
CATEGORIES:Festa del Verro i la Birra
ATTACH;FMTTYPE=image/jpeg:https://boirabaixa.cat/wp-content/uploads/sites/36/2025/09/VerroBirraBB_dv3.jpeg
ORGANIZER;CN="Casal Popular Boira Baixa":MAILTO:boirabaixa@gmail.com
END:VEVENT
END:VCALENDAR