BEGIN:VCALENDAR
VERSION:2.0
PRODID:-//BoiraBaixa - ECPv6.15.20//NONSGML v1.0//EN
CALSCALE:GREGORIAN
METHOD:PUBLISH
X-WR-CALNAME:BoiraBaixa
X-ORIGINAL-URL:https://boirabaixa.cat
X-WR-CALDESC:Esdeveniments per BoiraBaixa
REFRESH-INTERVAL;VALUE=DURATION:PT1H
X-Robots-Tag:noindex
X-PUBLISHED-TTL:PT1H
BEGIN:VTIMEZONE
TZID:Europe/Andorra
BEGIN:DAYLIGHT
TZOFFSETFROM:+0100
TZOFFSETTO:+0200
TZNAME:CEST
DTSTART:20240331T010000
END:DAYLIGHT
BEGIN:STANDARD
TZOFFSETFROM:+0200
TZOFFSETTO:+0100
TZNAME:CET
DTSTART:20241027T010000
END:STANDARD
BEGIN:DAYLIGHT
TZOFFSETFROM:+0100
TZOFFSETTO:+0200
TZNAME:CEST
DTSTART:20250330T010000
END:DAYLIGHT
BEGIN:STANDARD
TZOFFSETFROM:+0200
TZOFFSETTO:+0100
TZNAME:CET
DTSTART:20251026T010000
END:STANDARD
BEGIN:DAYLIGHT
TZOFFSETFROM:+0100
TZOFFSETTO:+0200
TZNAME:CEST
DTSTART:20260329T010000
END:DAYLIGHT
BEGIN:STANDARD
TZOFFSETFROM:+0200
TZOFFSETTO:+0100
TZNAME:CET
DTSTART:20261025T010000
END:STANDARD
END:VTIMEZONE
BEGIN:VEVENT
DTSTART;TZID=Europe/Andorra:20251003T223000
DTEND;TZID=Europe/Andorra:20251004T010000
DTSTAMP:20260424T203232
CREATED:20250924T112900Z
LAST-MODIFIED:20250925T151505Z
UID:9745-1759530600-1759539600@boirabaixa.cat
SUMMARY:Verro i birra | Concert amb Borrissol i Tremendu
DESCRIPTION:Concert amb Borrissol (pop\, Barcelona)\, membre de Dan Peralbo i El Comboi\, Alavedra\, Falciots Ninja\, MiNE!Virtudes\, Capità Moore i altres\, i Tremendu (cantamanyanes de la Plana). Amb taquilla inversa.
URL:https://boirabaixa.cat/esdeveniment/verro-i-birra-concert-amb-ret-i-tremendu/
LOCATION:Casal Popular Boira Baixa\, Plaça Flama del Canigó\, 2\, Manlleu\, Països Catalans\, 08560
CATEGORIES:Festa del Verro i la Birra
ATTACH;FMTTYPE=image/jpeg:https://boirabaixa.cat/wp-content/uploads/sites/36/2025/09/VerroBirraBB_dv3.jpeg
ORGANIZER;CN="Casal Popular Boira Baixa":MAILTO:boirabaixa@gmail.com
END:VEVENT
BEGIN:VEVENT
DTSTART;TZID=Europe/Andorra:20251004T123000
DTEND;TZID=Europe/Andorra:20251004T140000
DTSTAMP:20260424T203232
CREATED:20250924T113001Z
LAST-MODIFIED:20250924T211006Z
UID:9750-1759581000-1759586400@boirabaixa.cat
SUMMARY:Verro i birra | Vermut - degustació d'embotits de proximitat
DESCRIPTION:
URL:https://boirabaixa.cat/esdeveniment/verro-i-birra-vermut-degustacio-dembotits-de-proximitat/
LOCATION:Casal Popular Boira Baixa\, Plaça Flama del Canigó\, 2\, Manlleu\, Països Catalans\, 08560
CATEGORIES:Festa del Verro i la Birra
ATTACH;FMTTYPE=image/jpeg:https://boirabaixa.cat/wp-content/uploads/sites/36/2025/09/Diss4_verrobirra.jpeg
ORGANIZER;CN="Casal Popular Boira Baixa":MAILTO:boirabaixa@gmail.com
END:VEVENT
BEGIN:VEVENT
DTSTART;TZID=Europe/Andorra:20251004T180000
DTEND;TZID=Europe/Andorra:20251004T193000
DTSTAMP:20260424T203232
CREATED:20250924T113253Z
LAST-MODIFIED:20250924T211110Z
UID:9755-1759600800-1759606200@boirabaixa.cat
SUMMARY:Verro i birra | Tast de cerveses artesanes amb Montseny\, Engorile i Guineu
DESCRIPTION:Amb maridatge amb embotits locals. Preu: 8€ socis/es\, 10€ no socis/es. Inscripcions a www.boirabaixa.cat/verroibirra.
URL:https://boirabaixa.cat/esdeveniment/verro-i-birra-tast-de-cerveses-artesanes-amb-montseny-engorile-i-guineu/
LOCATION:Casal Popular Boira Baixa\, Plaça Flama del Canigó\, 2\, Manlleu\, Països Catalans\, 08560
CATEGORIES:Festa del Verro i la Birra
ATTACH;FMTTYPE=image/jpeg:https://boirabaixa.cat/wp-content/uploads/sites/36/2025/09/Diss4_verrobirra.jpeg
ORGANIZER;CN="Casal Popular Boira Baixa":MAILTO:boirabaixa@gmail.com
END:VEVENT
BEGIN:VEVENT
DTSTART;TZID=Europe/Andorra:20251004T200000
DTEND;TZID=Europe/Andorra:20251004T210000
DTSTAMP:20260424T203232
CREATED:20250924T113542Z
LAST-MODIFIED:20251002T203959Z
UID:9758-1759608000-1759611600@boirabaixa.cat
SUMMARY:Verro i birra | I Gran concurs de menjar botifarra
DESCRIPTION:Seràs el més ràpid a menjar-te un metre de botifarra? Preu 5€. Inscripcions prèvies a www.boirabaixa.cat/verroibirra. Places limitades.
URL:https://boirabaixa.cat/esdeveniment/verro-i-birra-i-gran-concurs-de-menjar-botifarra/
LOCATION:Casal Popular Boira Baixa\, Plaça Flama del Canigó\, 2\, Manlleu\, Països Catalans\, 08560
CATEGORIES:Festa del Verro i la Birra
ATTACH;FMTTYPE=image/jpeg:https://boirabaixa.cat/wp-content/uploads/sites/36/2025/09/1m-botifarra-post-scaled.jpg
ORGANIZER;CN="Casal Popular Boira Baixa":MAILTO:boirabaixa@gmail.com
END:VEVENT
BEGIN:VEVENT
DTSTART;TZID=Europe/Andorra:20251004T200000
DTEND;TZID=Europe/Andorra:20251004T220000
DTSTAMP:20260424T203232
CREATED:20250924T113658Z
LAST-MODIFIED:20250924T211354Z
UID:9761-1759608000-1759615200@boirabaixa.cat
SUMMARY:Verro i birra | Sopar popular: costellam de porc al fumador\, acompanyat de mongetes i pebrots
DESCRIPTION:
URL:https://boirabaixa.cat/esdeveniment/verro-i-birra-sopar-popular-costellam-de-porc-al-fumador-acompanyat-de-mongetes-i-pebrots/
LOCATION:Casal Popular Boira Baixa\, Plaça Flama del Canigó\, 2\, Manlleu\, Països Catalans\, 08560
CATEGORIES:Festa del Verro i la Birra
ATTACH;FMTTYPE=image/jpeg:https://boirabaixa.cat/wp-content/uploads/sites/36/2025/09/Diss4_verrobirra.jpeg
ORGANIZER;CN="Casal Popular Boira Baixa":MAILTO:boirabaixa@gmail.com
END:VEVENT
BEGIN:VEVENT
DTSTART;TZID=Europe/Andorra:20251004T220000
DTEND;TZID=Europe/Andorra:20251005T010000
DTSTAMP:20260424T203232
CREATED:20250924T113834Z
LAST-MODIFIED:20250924T211207Z
UID:9763-1759615200-1759626000@boirabaixa.cat
SUMMARY:Verro i birra | Concert amb Punkxada i 666 Capille Sixteen
DESCRIPTION:Concert amb Punkxada (punk\, Sallent) i 666 Capille Sixteen (versions punk-rock i metal\, Manlleu). Amb taquilla inversa.
URL:https://boirabaixa.cat/esdeveniment/verro-i-birra-concert-amb-punkxada-i-666-capille-sixteen/
LOCATION:Casal Popular Boira Baixa\, Plaça Flama del Canigó\, 2\, Manlleu\, Països Catalans\, 08560
CATEGORIES:Festa del Verro i la Birra
ATTACH;FMTTYPE=image/jpeg:https://boirabaixa.cat/wp-content/uploads/sites/36/2025/09/Diss4_verrobirra.jpeg
ORGANIZER;CN="Casal Popular Boira Baixa":MAILTO:boirabaixa@gmail.com
END:VEVENT
END:VCALENDAR