BEGIN:VCALENDAR
VERSION:2.0
PRODID:-//BoiraBaixa - ECPv6.15.20//NONSGML v1.0//EN
CALSCALE:GREGORIAN
METHOD:PUBLISH
X-ORIGINAL-URL:https://boirabaixa.cat
X-WR-CALDESC:Esdeveniments per BoiraBaixa
REFRESH-INTERVAL;VALUE=DURATION:PT1H
X-Robots-Tag:noindex
X-PUBLISHED-TTL:PT1H
BEGIN:VTIMEZONE
TZID:Europe/Andorra
BEGIN:DAYLIGHT
TZOFFSETFROM:+0100
TZOFFSETTO:+0200
TZNAME:CEST
DTSTART:20240331T010000
END:DAYLIGHT
BEGIN:STANDARD
TZOFFSETFROM:+0200
TZOFFSETTO:+0100
TZNAME:CET
DTSTART:20241027T010000
END:STANDARD
BEGIN:DAYLIGHT
TZOFFSETFROM:+0100
TZOFFSETTO:+0200
TZNAME:CEST
DTSTART:20250330T010000
END:DAYLIGHT
BEGIN:STANDARD
TZOFFSETFROM:+0200
TZOFFSETTO:+0100
TZNAME:CET
DTSTART:20251026T010000
END:STANDARD
BEGIN:DAYLIGHT
TZOFFSETFROM:+0100
TZOFFSETTO:+0200
TZNAME:CEST
DTSTART:20260329T010000
END:DAYLIGHT
BEGIN:STANDARD
TZOFFSETFROM:+0200
TZOFFSETTO:+0100
TZNAME:CET
DTSTART:20261025T010000
END:STANDARD
END:VTIMEZONE
BEGIN:VEVENT
DTSTART;TZID=Europe/Andorra:20251020T193000
DTEND;TZID=Europe/Andorra:20251020T210000
DTSTAMP:20260424T202847
CREATED:20250910T154705Z
LAST-MODIFIED:20251009T215517Z
UID:9604-1760988600-1760994000@boirabaixa.cat
SUMMARY:“Debat a bat”: grup de formació\, lectura i debat. “Polítiques de la por: seguretat o control?”
DESCRIPTION:“Debat a bat”: grup de formació\, lectura i debat. Més informació i lectures prèvies\, a www.boirabaixa.cat/debatabat. \nNova data: dilluns 20 d’octubre de 2025\, a 2/4 de 8 del vespre (19:30h). \nLa por és un dels instruments de poder més efectius: crea alarma social\, justifica retallades de drets i perpetua prejudicis contra col·lectius vulnerabilitzats. En la segona trobada de “Debat a bat” analitzarem la construcció\, socialització i ús dels temors i les baixes passions com a eines per convertir problemes socioeconòmics en qüestions vinculades a la criminalitat. Alhora\, també farem referència al negoci securitari que se n’està lucrant. \nDavant de tot plegat\, plantejarem idees i estratègies per capgirar el paradigma dominant al voltant de la seguretat\, posant la responsabilitat col·lectiva i la construcció de comunitat al centre. Perquè un poble només serà segur si està organitzat i cohesionat!
URL:https://boirabaixa.cat/esdeveniment/debat-a-bat-grup-de-formacio-lectura-i-debat-politiques-de-la-por-seguretat-o-control/
LOCATION:Casal Popular Boira Baixa\, Plaça Flama del Canigó\, 2\, Manlleu\, Països Catalans\, 08560
ATTACH;FMTTYPE=image/jpeg:https://boirabaixa.cat/wp-content/uploads/sites/36/2025/09/Sessio-2_Debatabat_novadatadill.jpg
ORGANIZER;CN="Casal Popular Boira Baixa":MAILTO:boirabaixa@gmail.com
END:VEVENT
END:VCALENDAR