BEGIN:VCALENDAR
VERSION:2.0
PRODID:-//BoiraBaixa - ECPv6.15.20//NONSGML v1.0//EN
CALSCALE:GREGORIAN
METHOD:PUBLISH
X-ORIGINAL-URL:https://boirabaixa.cat
X-WR-CALDESC:Esdeveniments per BoiraBaixa
REFRESH-INTERVAL;VALUE=DURATION:PT1H
X-Robots-Tag:noindex
X-PUBLISHED-TTL:PT1H
BEGIN:VTIMEZONE
TZID:Europe/Andorra
BEGIN:DAYLIGHT
TZOFFSETFROM:+0100
TZOFFSETTO:+0200
TZNAME:CEST
DTSTART:20240331T010000
END:DAYLIGHT
BEGIN:STANDARD
TZOFFSETFROM:+0200
TZOFFSETTO:+0100
TZNAME:CET
DTSTART:20241027T010000
END:STANDARD
BEGIN:DAYLIGHT
TZOFFSETFROM:+0100
TZOFFSETTO:+0200
TZNAME:CEST
DTSTART:20250330T010000
END:DAYLIGHT
BEGIN:STANDARD
TZOFFSETFROM:+0200
TZOFFSETTO:+0100
TZNAME:CET
DTSTART:20251026T010000
END:STANDARD
BEGIN:DAYLIGHT
TZOFFSETFROM:+0100
TZOFFSETTO:+0200
TZNAME:CEST
DTSTART:20260329T010000
END:DAYLIGHT
BEGIN:STANDARD
TZOFFSETFROM:+0200
TZOFFSETTO:+0100
TZNAME:CET
DTSTART:20261025T010000
END:STANDARD
END:VTIMEZONE
BEGIN:VEVENT
DTSTART;TZID=Europe/Andorra:20251026T100000
DTEND;TZID=Europe/Andorra:20251026T140000
DTSTAMP:20260424T202901
CREATED:20251025T123007Z
LAST-MODIFIED:20251025T123058Z
UID:10115-1761472800-1761487200@boirabaixa.cat
SUMMARY:VIII Assemblea d'Habitatge d'Osona i El Lluçanès
DESCRIPTION:
URL:https://boirabaixa.cat/esdeveniment/viii-assemblea-dhabitatge-dosona-i-el-llucanes/
LOCATION:Casal Popular Boira Baixa\, Plaça Flama del Canigó\, 2\, Manlleu\, Països Catalans\, 08560
ATTACH;FMTTYPE=image/jpeg:https://boirabaixa.cat/wp-content/uploads/sites/36/2025/10/ASSEMBLEA-VIII-A5.jpg
END:VEVENT
BEGIN:VEVENT
DTSTART;TZID=Europe/Andorra:20251026T190000
DTEND;TZID=Europe/Andorra:20251026T203000
DTSTAMP:20260424T202901
CREATED:20250924T111604Z
LAST-MODIFIED:20251019T093059Z
UID:9728-1761505200-1761510600@boirabaixa.cat
SUMMARY:Projecció del documental "L'últim arròs"
DESCRIPTION:Projecció de L’últim arròs. Documental sobre l’últim dia a Cabrera de la Montse\, la Pilar i la Maria\, custodis del santuari durant més de 20 anys. Amb la presència dels directors\, Ramon Villegas i Marc Parramon\, i de Pilar Soler\, una de les protagonistes.
URL:https://boirabaixa.cat/esdeveniment/projeccio-del-documental-lultim-arros/
LOCATION:Casal Popular Boira Baixa\, Plaça Flama del Canigó\, 2\, Manlleu\, Països Catalans\, 08560
ATTACH;FMTTYPE=image/jpeg:https://boirabaixa.cat/wp-content/uploads/sites/36/2025/09/BB_ultimarros.jpeg
ORGANIZER;CN="Casal Popular Boira Baixa":MAILTO:boirabaixa@gmail.com
END:VEVENT
END:VCALENDAR