BEGIN:VCALENDAR
VERSION:2.0
PRODID:-//BoiraBaixa - ECPv6.15.20//NONSGML v1.0//EN
CALSCALE:GREGORIAN
METHOD:PUBLISH
X-ORIGINAL-URL:https://boirabaixa.cat
X-WR-CALDESC:Esdeveniments per BoiraBaixa
REFRESH-INTERVAL;VALUE=DURATION:PT1H
X-Robots-Tag:noindex
X-PUBLISHED-TTL:PT1H
BEGIN:VTIMEZONE
TZID:Europe/Andorra
BEGIN:DAYLIGHT
TZOFFSETFROM:+0100
TZOFFSETTO:+0200
TZNAME:CEST
DTSTART:20240331T010000
END:DAYLIGHT
BEGIN:STANDARD
TZOFFSETFROM:+0200
TZOFFSETTO:+0100
TZNAME:CET
DTSTART:20241027T010000
END:STANDARD
BEGIN:DAYLIGHT
TZOFFSETFROM:+0100
TZOFFSETTO:+0200
TZNAME:CEST
DTSTART:20250330T010000
END:DAYLIGHT
BEGIN:STANDARD
TZOFFSETFROM:+0200
TZOFFSETTO:+0100
TZNAME:CET
DTSTART:20251026T010000
END:STANDARD
BEGIN:DAYLIGHT
TZOFFSETFROM:+0100
TZOFFSETTO:+0200
TZNAME:CEST
DTSTART:20260329T010000
END:DAYLIGHT
BEGIN:STANDARD
TZOFFSETFROM:+0200
TZOFFSETTO:+0100
TZNAME:CET
DTSTART:20261025T010000
END:STANDARD
END:VTIMEZONE
BEGIN:VEVENT
DTSTART;TZID=Europe/Andorra:20251107T190000
DTEND;TZID=Europe/Andorra:20251107T203000
DTSTAMP:20260424T190658
CREATED:20251027T195827Z
LAST-MODIFIED:20251027T195827Z
UID:10170-1762542000-1762547400@boirabaixa.cat
SUMMARY:Assemblea oberta "Eleccions municipals 2027: quina candidatura i per a fer què?" (CUP)
DESCRIPTION:
URL:https://boirabaixa.cat/esdeveniment/assemblea-oberta-eleccions-municipals-2027-quina-candidatura-i-per-a-fer-que-cup/
LOCATION:Casal Popular Boira Baixa\, Plaça Flama del Canigó\, 2\, Manlleu\, Països Catalans\, 08560
ATTACH;FMTTYPE=image/jpeg:https://boirabaixa.cat/wp-content/uploads/sites/36/2025/10/AO_eleccions_CUP_LQ.jpeg
END:VEVENT
BEGIN:VEVENT
DTSTART;TZID=Europe/Andorra:20251107T220000
DTEND;TZID=Europe/Andorra:20251107T233000
DTSTAMP:20260424T190658
CREATED:20251027T195654Z
LAST-MODIFIED:20251029T182506Z
UID:10168-1762552800-1762558200@boirabaixa.cat
SUMMARY:Primera assemblea de Fes-te Jove 2026
DESCRIPTION:
URL:https://boirabaixa.cat/esdeveniment/primera-assemblea-de-fes-e-jove-2026/
LOCATION:Casal Popular Boira Baixa\, Plaça Flama del Canigó\, 2\, Manlleu\, Països Catalans\, 08560
ATTACH;FMTTYPE=image/jpeg:https://boirabaixa.cat/wp-content/uploads/sites/36/2025/10/1a_ass_FJ26.jpeg
ORGANIZER;CN="Fes-te Jove":MAILTO:festejovemanlleu@gmail.com
END:VEVENT
END:VCALENDAR