BEGIN:VCALENDAR
VERSION:2.0
PRODID:-//BoiraBaixa - ECPv6.15.20//NONSGML v1.0//EN
CALSCALE:GREGORIAN
METHOD:PUBLISH
X-ORIGINAL-URL:https://boirabaixa.cat
X-WR-CALDESC:Esdeveniments per BoiraBaixa
REFRESH-INTERVAL;VALUE=DURATION:PT1H
X-Robots-Tag:noindex
X-PUBLISHED-TTL:PT1H
BEGIN:VTIMEZONE
TZID:Europe/Andorra
BEGIN:DAYLIGHT
TZOFFSETFROM:+0100
TZOFFSETTO:+0200
TZNAME:CEST
DTSTART:20240331T010000
END:DAYLIGHT
BEGIN:STANDARD
TZOFFSETFROM:+0200
TZOFFSETTO:+0100
TZNAME:CET
DTSTART:20241027T010000
END:STANDARD
BEGIN:DAYLIGHT
TZOFFSETFROM:+0100
TZOFFSETTO:+0200
TZNAME:CEST
DTSTART:20250330T010000
END:DAYLIGHT
BEGIN:STANDARD
TZOFFSETFROM:+0200
TZOFFSETTO:+0100
TZNAME:CET
DTSTART:20251026T010000
END:STANDARD
BEGIN:DAYLIGHT
TZOFFSETFROM:+0100
TZOFFSETTO:+0200
TZNAME:CEST
DTSTART:20260329T010000
END:DAYLIGHT
BEGIN:STANDARD
TZOFFSETFROM:+0200
TZOFFSETTO:+0100
TZNAME:CET
DTSTART:20261025T010000
END:STANDARD
END:VTIMEZONE
BEGIN:VEVENT
DTSTART;TZID=Europe/Andorra:20251108T234500
DTEND;TZID=Europe/Andorra:20251109T010000
DTSTAMP:20260424T190721
CREATED:20251027T222059Z
LAST-MODIFIED:20251027T222404Z
UID:10222-1762645500-1762650000@boirabaixa.cat
SUMMARY:Nit de punxadiscs: PD Germanes Borroka
DESCRIPTION:Rock amistós i punk emotiu amb PD Germanes Borroka.
URL:https://boirabaixa.cat/esdeveniment/nit-de-punxadiscs-pd-germanes-borroka-2/
LOCATION:Països Catalans
ATTACH;FMTTYPE=image/jpeg:https://boirabaixa.cat/wp-content/uploads/sites/36/2025/10/Nits_PDs_BB.jpeg
END:VEVENT
BEGIN:VEVENT
DTSTART;TZID=Europe/Andorra:20251109T190000
DTEND;TZID=Europe/Andorra:20251109T200000
DTSTAMP:20260424T190721
CREATED:20251008T103503Z
LAST-MODIFIED:20251027T221502Z
UID:9938-1762714800-1762718400@boirabaixa.cat
SUMMARY:Projecció del documental "El monstre de la selva"\, de Roger Usart
DESCRIPTION:La història d’una estranya criatura que va espantar la gent de la Selva i el Gironès l’any 1968. \nAmb la presència de Roger Usart\, director\, i els protagonistes.
URL:https://boirabaixa.cat/esdeveniment/projeccio-del-documental-el-monstre-de-la-selva-de-roger-usart/
LOCATION:Casal Popular Boira Baixa\, Plaça Flama del Canigó\, 2\, Manlleu\, Països Catalans\, 08560
ATTACH;FMTTYPE=image/jpeg:https://boirabaixa.cat/wp-content/uploads/sites/36/2025/10/Monstre_selva_BB.jpeg
ORGANIZER;CN="Casal Popular Boira Baixa":MAILTO:boirabaixa@gmail.com
END:VEVENT
END:VCALENDAR