BEGIN:VCALENDAR
VERSION:2.0
PRODID:-//BoiraBaixa - ECPv6.15.20//NONSGML v1.0//EN
CALSCALE:GREGORIAN
METHOD:PUBLISH
X-WR-CALNAME:BoiraBaixa
X-ORIGINAL-URL:https://boirabaixa.cat
X-WR-CALDESC:Esdeveniments per BoiraBaixa
REFRESH-INTERVAL;VALUE=DURATION:PT1H
X-Robots-Tag:noindex
X-PUBLISHED-TTL:PT1H
BEGIN:VTIMEZONE
TZID:Europe/Andorra
BEGIN:DAYLIGHT
TZOFFSETFROM:+0100
TZOFFSETTO:+0200
TZNAME:CEST
DTSTART:20240331T010000
END:DAYLIGHT
BEGIN:STANDARD
TZOFFSETFROM:+0200
TZOFFSETTO:+0100
TZNAME:CET
DTSTART:20241027T010000
END:STANDARD
BEGIN:DAYLIGHT
TZOFFSETFROM:+0100
TZOFFSETTO:+0200
TZNAME:CEST
DTSTART:20250330T010000
END:DAYLIGHT
BEGIN:STANDARD
TZOFFSETFROM:+0200
TZOFFSETTO:+0100
TZNAME:CET
DTSTART:20251026T010000
END:STANDARD
BEGIN:DAYLIGHT
TZOFFSETFROM:+0100
TZOFFSETTO:+0200
TZNAME:CEST
DTSTART:20260329T010000
END:DAYLIGHT
BEGIN:STANDARD
TZOFFSETFROM:+0200
TZOFFSETTO:+0100
TZNAME:CET
DTSTART:20261025T010000
END:STANDARD
END:VTIMEZONE
BEGIN:VEVENT
DTSTART;TZID=Europe/Andorra:20251114T190000
DTEND;TZID=Europe/Andorra:20251114T203000
DTSTAMP:20260424T185922
CREATED:20251025T210159Z
LAST-MODIFIED:20251103T143958Z
UID:10126-1763146800-1763152200@boirabaixa.cat
SUMMARY:Presentació de la novel·la "El joc del silenci"\, de Gil Pratsobrerroca
DESCRIPTION:Amb la presència de l’autor\, Gil Pratsobrerroca\, que en conversarà amb Clàudia Cavaller. Sobre El joc del silenci: \nEl 15 de juny de l’any 2025 té lloc la desaparició de la Valèria Costa\, una nena encisadora de set anys. A partir d’aquest plantejament\, els seus pares es veuran immersos en una investigació que no deixarà d’assenyalar-los directament\, obligant-los a confessar fins a l’últim secret que s’han estat ocultant. \nAmb un frenètic compte enrere i un ritme trepidant\, aquesta història s’endinsa en les profunditats de l’amor i el desig a través d’una trama ambiciosa\, teixida amb cura i precisió\, plena de girs inesperats i de viatges al passat.
URL:https://boirabaixa.cat/esdeveniment/presentacio-de-la-novella-el-joc-del-silenci-de-gil-pratsobrerroca/
LOCATION:Casal Popular Boira Baixa\, Plaça Flama del Canigó\, 2\, Manlleu\, Països Catalans\, 08560
ATTACH;FMTTYPE=image/jpeg:https://boirabaixa.cat/wp-content/uploads/sites/36/2025/10/Presentacio_jocsilenci_BB.jpeg
ORGANIZER;CN="Casal Popular Boira Baixa":MAILTO:boirabaixa@gmail.com
END:VEVENT
BEGIN:VEVENT
DTSTART;TZID=Europe/Andorra:20251114T230000
DTEND;TZID=Europe/Andorra:20251115T003000
DTSTAMP:20260424T185922
CREATED:20251025T210542Z
LAST-MODIFIED:20251109T210313Z
UID:10131-1763161200-1763166600@boirabaixa.cat
SUMMARY:Concert de Carles Belda
DESCRIPTION:Recital ballable de cançó tavernícola. Amb taquilla inversa.
URL:https://boirabaixa.cat/esdeveniment/concert-de-carles-belda/
LOCATION:Casal Popular Boira Baixa\, Plaça Flama del Canigó\, 2\, Manlleu\, Països Catalans\, 08560
ATTACH;FMTTYPE=image/jpeg:https://boirabaixa.cat/wp-content/uploads/sites/36/2025/10/Concert_CarlesBelda_BB.jpeg
ORGANIZER;CN="Casal Popular Boira Baixa":MAILTO:boirabaixa@gmail.com
END:VEVENT
END:VCALENDAR