BEGIN:VCALENDAR
VERSION:2.0
PRODID:-//BoiraBaixa - ECPv6.15.20//NONSGML v1.0//EN
CALSCALE:GREGORIAN
METHOD:PUBLISH
X-ORIGINAL-URL:https://boirabaixa.cat
X-WR-CALDESC:Esdeveniments per BoiraBaixa
REFRESH-INTERVAL;VALUE=DURATION:PT1H
X-Robots-Tag:noindex
X-PUBLISHED-TTL:PT1H
BEGIN:VTIMEZONE
TZID:Europe/Andorra
BEGIN:DAYLIGHT
TZOFFSETFROM:+0100
TZOFFSETTO:+0200
TZNAME:CEST
DTSTART:20240331T010000
END:DAYLIGHT
BEGIN:STANDARD
TZOFFSETFROM:+0200
TZOFFSETTO:+0100
TZNAME:CET
DTSTART:20241027T010000
END:STANDARD
BEGIN:DAYLIGHT
TZOFFSETFROM:+0100
TZOFFSETTO:+0200
TZNAME:CEST
DTSTART:20250330T010000
END:DAYLIGHT
BEGIN:STANDARD
TZOFFSETFROM:+0200
TZOFFSETTO:+0100
TZNAME:CET
DTSTART:20251026T010000
END:STANDARD
BEGIN:DAYLIGHT
TZOFFSETFROM:+0100
TZOFFSETTO:+0200
TZNAME:CEST
DTSTART:20260329T010000
END:DAYLIGHT
BEGIN:STANDARD
TZOFFSETFROM:+0200
TZOFFSETTO:+0100
TZNAME:CET
DTSTART:20261025T010000
END:STANDARD
END:VTIMEZONE
BEGIN:VEVENT
DTSTART;TZID=Europe/Andorra:20251123T190000
DTEND;TZID=Europe/Andorra:20251123T203000
DTSTAMP:20260424T190656
CREATED:20251008T103645Z
LAST-MODIFIED:20251105T175016Z
UID:9940-1763924400-1763929800@boirabaixa.cat
SUMMARY:Projecció del documental "Esbec 37"
DESCRIPTION:Un documental sobre els 600 infants de Burkina Faso que es van formar a Cuba en el marc de la revolució. \nAmb la presència de Nebon Babou (protagonista)\, Pepa Rosselló (productora) i Àlex Verdejo (director). \nAmb taquilla inversa.
URL:https://boirabaixa.cat/esdeveniment/projeccio-del-documental-esbec-37/
LOCATION:Casal Popular Boira Baixa\, Plaça Flama del Canigó\, 2\, Manlleu\, Països Catalans\, 08560
ATTACH;FMTTYPE=image/jpeg:https://boirabaixa.cat/wp-content/uploads/sites/36/2025/10/ESBEC_BB.jpeg
ORGANIZER;CN="Casal Popular Boira Baixa":MAILTO:boirabaixa@gmail.com
END:VEVENT
BEGIN:VEVENT
DTSTART;TZID=Europe/Andorra:20251123T203000
DTEND;TZID=Europe/Andorra:20251123T210000
DTSTAMP:20260424T190656
CREATED:20251122T191730Z
LAST-MODIFIED:20251122T191730Z
UID:10419-1763929800-1763931600@boirabaixa.cat
SUMMARY:Brindis de celebració: 1 any de bar-restaurant Boira Baixa!
DESCRIPTION:
URL:https://boirabaixa.cat/esdeveniment/brindis-de-celebracio-1-any-de-bar-restaurant-boira-baixa/
LOCATION:Casal Popular Boira Baixa\, Plaça Flama del Canigó\, 2\, Manlleu\, Països Catalans\, 08560
ATTACH;FMTTYPE=image/jpeg:https://boirabaixa.cat/wp-content/uploads/sites/36/2025/11/Brindis_1any_post-scaled.jpg
ORGANIZER;CN="Casal Popular Boira Baixa":MAILTO:boirabaixa@gmail.com
END:VEVENT
END:VCALENDAR