BEGIN:VCALENDAR
VERSION:2.0
PRODID:-//BoiraBaixa - ECPv6.15.20//NONSGML v1.0//EN
CALSCALE:GREGORIAN
METHOD:PUBLISH
X-ORIGINAL-URL:https://boirabaixa.cat
X-WR-CALDESC:Esdeveniments per BoiraBaixa
REFRESH-INTERVAL;VALUE=DURATION:PT1H
X-Robots-Tag:noindex
X-PUBLISHED-TTL:PT1H
BEGIN:VTIMEZONE
TZID:Europe/Andorra
BEGIN:DAYLIGHT
TZOFFSETFROM:+0100
TZOFFSETTO:+0200
TZNAME:CEST
DTSTART:20240331T010000
END:DAYLIGHT
BEGIN:STANDARD
TZOFFSETFROM:+0200
TZOFFSETTO:+0100
TZNAME:CET
DTSTART:20241027T010000
END:STANDARD
BEGIN:DAYLIGHT
TZOFFSETFROM:+0100
TZOFFSETTO:+0200
TZNAME:CEST
DTSTART:20250330T010000
END:DAYLIGHT
BEGIN:STANDARD
TZOFFSETFROM:+0200
TZOFFSETTO:+0100
TZNAME:CET
DTSTART:20251026T010000
END:STANDARD
BEGIN:DAYLIGHT
TZOFFSETFROM:+0100
TZOFFSETTO:+0200
TZNAME:CEST
DTSTART:20260329T010000
END:DAYLIGHT
BEGIN:STANDARD
TZOFFSETFROM:+0200
TZOFFSETTO:+0100
TZNAME:CET
DTSTART:20261025T010000
END:STANDARD
END:VTIMEZONE
BEGIN:VEVENT
DTSTART;TZID=Europe/Andorra:20251127T190000
DTEND;TZID=Europe/Andorra:20251127T203000
DTSTAMP:20260424T190654
CREATED:20251025T212004Z
LAST-MODIFIED:20251116T221341Z
UID:10141-1764270000-1764275400@boirabaixa.cat
SUMMARY:Presentació del llibre "Quan t'acaronin els estels"\, de Xavi Prat
DESCRIPTION:Amb l’autor\, Xavi Prat\, que en conversarà amb Anna Piella. Sobre Quan t’acaronin els estels. Una història en deu cançons: \nÉs una obra intensa i profundament emotiva que explora les complexitats del dol i la pèrdua a través d’una història íntima i personal\, on cada capítol està basat en una cançó\, la seva lletra i la seva essència. Aquesta obra ofereix una visió sincera de les emocions humanes en els seus moments més vulnerables\, utilitzant una narrativa poètica i carregada d’imatges sensorials per donar vida a les experiències dels personatges.
URL:https://boirabaixa.cat/esdeveniment/presentacio-del-llibre-quan-tacaronin-els-estels-de-xavi-prat/
LOCATION:Casal Popular Boira Baixa\, Plaça Flama del Canigó\, 2\, Manlleu\, Països Catalans\, 08560
ATTACH;FMTTYPE=image/jpeg:https://boirabaixa.cat/wp-content/uploads/sites/36/2025/10/Llibre_Quan_acaronin_estels.jpeg
ORGANIZER;CN="Casal Popular Boira Baixa":MAILTO:boirabaixa@gmail.com
END:VEVENT
END:VCALENDAR