BEGIN:VCALENDAR
VERSION:2.0
PRODID:-//BoiraBaixa - ECPv6.15.20//NONSGML v1.0//EN
CALSCALE:GREGORIAN
METHOD:PUBLISH
X-WR-CALNAME:BoiraBaixa
X-ORIGINAL-URL:https://boirabaixa.cat
X-WR-CALDESC:Esdeveniments per BoiraBaixa
REFRESH-INTERVAL;VALUE=DURATION:PT1H
X-Robots-Tag:noindex
X-PUBLISHED-TTL:PT1H
BEGIN:VTIMEZONE
TZID:Europe/Andorra
BEGIN:DAYLIGHT
TZOFFSETFROM:+0100
TZOFFSETTO:+0200
TZNAME:CEST
DTSTART:20240331T010000
END:DAYLIGHT
BEGIN:STANDARD
TZOFFSETFROM:+0200
TZOFFSETTO:+0100
TZNAME:CET
DTSTART:20241027T010000
END:STANDARD
BEGIN:DAYLIGHT
TZOFFSETFROM:+0100
TZOFFSETTO:+0200
TZNAME:CEST
DTSTART:20250330T010000
END:DAYLIGHT
BEGIN:STANDARD
TZOFFSETFROM:+0200
TZOFFSETTO:+0100
TZNAME:CET
DTSTART:20251026T010000
END:STANDARD
BEGIN:DAYLIGHT
TZOFFSETFROM:+0100
TZOFFSETTO:+0200
TZNAME:CEST
DTSTART:20260329T010000
END:DAYLIGHT
BEGIN:STANDARD
TZOFFSETFROM:+0200
TZOFFSETTO:+0100
TZNAME:CET
DTSTART:20261025T010000
END:STANDARD
END:VTIMEZONE
BEGIN:VEVENT
DTSTART;TZID=Europe/Andorra:20251221T190000
DTEND;TZID=Europe/Andorra:20251221T200000
DTSTAMP:20260424T175328
CREATED:20251119T213205Z
LAST-MODIFIED:20251214T210701Z
UID:10398-1766343600-1766347200@boirabaixa.cat
SUMMARY:"Els Pastorets emboirats"
DESCRIPTION:Dels (no) creadors d’en Lluquet i en Rovelló arriben… en Boira i la Baixa! S’endinsaran als boscos tenebrosos per conèixer el Casal; el trobaran? Vine i descobreix la nostra particular i breu versió d’Els Pastorets!
URL:https://boirabaixa.cat/esdeveniment/els-pastorets-emboirats/
LOCATION:Casal Popular Boira Baixa\, Plaça Flama del Canigó\, 2\, Manlleu\, Països Catalans\, 08560
ATTACH;FMTTYPE=image/jpeg:https://boirabaixa.cat/wp-content/uploads/sites/36/2025/11/Pastorets_emboirats_LQ.jpeg
ORGANIZER;CN="Casal Popular Boira Baixa":MAILTO:boirabaixa@gmail.com
END:VEVENT
END:VCALENDAR