BEGIN:VCALENDAR
VERSION:2.0
PRODID:-//BoiraBaixa - ECPv6.15.20//NONSGML v1.0//EN
CALSCALE:GREGORIAN
METHOD:PUBLISH
X-WR-CALNAME:BoiraBaixa
X-ORIGINAL-URL:https://boirabaixa.cat
X-WR-CALDESC:Esdeveniments per BoiraBaixa
REFRESH-INTERVAL;VALUE=DURATION:PT1H
X-Robots-Tag:noindex
X-PUBLISHED-TTL:PT1H
BEGIN:VTIMEZONE
TZID:Europe/Andorra
BEGIN:DAYLIGHT
TZOFFSETFROM:+0100
TZOFFSETTO:+0200
TZNAME:CEST
DTSTART:20240331T010000
END:DAYLIGHT
BEGIN:STANDARD
TZOFFSETFROM:+0200
TZOFFSETTO:+0100
TZNAME:CET
DTSTART:20241027T010000
END:STANDARD
BEGIN:DAYLIGHT
TZOFFSETFROM:+0100
TZOFFSETTO:+0200
TZNAME:CEST
DTSTART:20250330T010000
END:DAYLIGHT
BEGIN:STANDARD
TZOFFSETFROM:+0200
TZOFFSETTO:+0100
TZNAME:CET
DTSTART:20251026T010000
END:STANDARD
BEGIN:DAYLIGHT
TZOFFSETFROM:+0100
TZOFFSETTO:+0200
TZNAME:CEST
DTSTART:20260329T010000
END:DAYLIGHT
BEGIN:STANDARD
TZOFFSETFROM:+0200
TZOFFSETTO:+0100
TZNAME:CET
DTSTART:20261025T010000
END:STANDARD
END:VTIMEZONE
BEGIN:VEVENT
DTSTART;TZID=Europe/Andorra:20251227T210000
DTEND;TZID=Europe/Andorra:20251227T233000
DTSTAMP:20260424T174544
CREATED:20251119T213747Z
LAST-MODIFIED:20251130T201916Z
UID:10405-1766869200-1766878200@boirabaixa.cat
SUMMARY:Sopar popular d'aniversari: 23 anys de Boira Baixa!
DESCRIPTION:Menú: piruleta de llagostins\, canelons XL de cua de bou i carbassa\, pollastre amb gambes a la cassola i pastís d’aniversari. Inclou: aigua\, vi i gasosa. Amb opció vegana\, vegetariana i sense gluten. Tiquets a la venda\, fins al dijous 25 de desembre\, a www.boirabaixa.cat/soparaniversari.
URL:https://boirabaixa.cat/esdeveniment/sopar-popular-daniversari-23-anys-de-boira-baixa/
LOCATION:Casal Popular Boira Baixa\, Plaça Flama del Canigó\, 2\, Manlleu\, Països Catalans\, 08560
ATTACH;FMTTYPE=image/jpeg:https://boirabaixa.cat/wp-content/uploads/sites/36/2025/11/Sopar_BB_LQ.jpeg
ORGANIZER;CN="Casal Popular Boira Baixa":MAILTO:boirabaixa@gmail.com
END:VEVENT
BEGIN:VEVENT
DTSTART;TZID=Europe/Andorra:20251227T233000
DTEND;TZID=Europe/Andorra:20251228T000000
DTSTAMP:20260424T174544
CREATED:20251119T213911Z
LAST-MODIFIED:20251129T100132Z
UID:10407-1766878200-1766880000@boirabaixa.cat
SUMMARY:Concert d'Auca
DESCRIPTION:Concert del grup local Auca (“punk desendreçat”\, Manlleu).
URL:https://boirabaixa.cat/esdeveniment/concert-dauca/
LOCATION:Països Catalans
ATTACH;FMTTYPE=image/jpeg:https://boirabaixa.cat/wp-content/uploads/sites/36/2025/11/Concert_Auca27D.jpeg
END:VEVENT
END:VCALENDAR