BEGIN:VCALENDAR
VERSION:2.0
PRODID:-//BoiraBaixa - ECPv6.15.20//NONSGML v1.0//EN
CALSCALE:GREGORIAN
METHOD:PUBLISH
X-ORIGINAL-URL:https://boirabaixa.cat
X-WR-CALDESC:Esdeveniments per BoiraBaixa
REFRESH-INTERVAL;VALUE=DURATION:PT1H
X-Robots-Tag:noindex
X-PUBLISHED-TTL:PT1H
BEGIN:VTIMEZONE
TZID:Europe/Andorra
BEGIN:DAYLIGHT
TZOFFSETFROM:+0100
TZOFFSETTO:+0200
TZNAME:CEST
DTSTART:20250330T010000
END:DAYLIGHT
BEGIN:STANDARD
TZOFFSETFROM:+0200
TZOFFSETTO:+0100
TZNAME:CET
DTSTART:20251026T010000
END:STANDARD
BEGIN:DAYLIGHT
TZOFFSETFROM:+0100
TZOFFSETTO:+0200
TZNAME:CEST
DTSTART:20260329T010000
END:DAYLIGHT
BEGIN:STANDARD
TZOFFSETFROM:+0200
TZOFFSETTO:+0100
TZNAME:CET
DTSTART:20261025T010000
END:STANDARD
BEGIN:DAYLIGHT
TZOFFSETFROM:+0100
TZOFFSETTO:+0200
TZNAME:CEST
DTSTART:20270328T010000
END:DAYLIGHT
BEGIN:STANDARD
TZOFFSETFROM:+0200
TZOFFSETTO:+0100
TZNAME:CET
DTSTART:20271031T010000
END:STANDARD
END:VTIMEZONE
BEGIN:VEVENT
DTSTART;TZID=Europe/Andorra:20260201T110000
DTEND;TZID=Europe/Andorra:20260201T133000
DTSTAMP:20260423T214830
CREATED:20260125T221442Z
LAST-MODIFIED:20260126T153519Z
UID:10933-1769943600-1769952600@boirabaixa.cat
SUMMARY:"Cures amb vermut"\, acte del Nou Congrés de Cultura Catalana
DESCRIPTION:
URL:https://boirabaixa.cat/esdeveniment/cures-amb-vermut-acte-del-nou-congres-de-cultura-catalana/
LOCATION:Casal Popular Boira Baixa\, Plaça Flama del Canigó\, 2\, Manlleu\, Països Catalans\, 08560
ATTACH;FMTTYPE=image/png:https://boirabaixa.cat/wp-content/uploads/sites/36/2026/01/Cartell-Manlleu-cures-complet.png
END:VEVENT
BEGIN:VEVENT
DTSTART;TZID=Europe/Andorra:20260201T180000
DTEND;TZID=Europe/Andorra:20260201T200000
DTSTAMP:20260423T214830
CREATED:20260121T231240Z
LAST-MODIFIED:20260121T231300Z
UID:10907-1769968800-1769976000@boirabaixa.cat
SUMMARY:Cicle solidari "Cinema des del riu fins al mar": projecció de "Bye Bye Tiberias"
DESCRIPTION:
URL:https://boirabaixa.cat/esdeveniment/cicle-solidari-cinema-des-del-riu-fins-al-mar-projeccio-de-bye-bye-tiberias/
LOCATION:Teatre Municipal de Manlleu\, Carrer del Pont\, 9\, Manlleu\, Barcelona\, 08560\, Espanya
ATTACH;FMTTYPE=image/jpeg:https://boirabaixa.cat/wp-content/uploads/sites/36/2026/01/Cinema_riumar.jpeg
END:VEVENT
END:VCALENDAR