BEGIN:VCALENDAR
VERSION:2.0
PRODID:-//BoiraBaixa - ECPv6.15.20//NONSGML v1.0//EN
CALSCALE:GREGORIAN
METHOD:PUBLISH
X-ORIGINAL-URL:https://boirabaixa.cat
X-WR-CALDESC:Esdeveniments per BoiraBaixa
REFRESH-INTERVAL;VALUE=DURATION:PT1H
X-Robots-Tag:noindex
X-PUBLISHED-TTL:PT1H
BEGIN:VTIMEZONE
TZID:Europe/Andorra
BEGIN:DAYLIGHT
TZOFFSETFROM:+0100
TZOFFSETTO:+0200
TZNAME:CEST
DTSTART:20250330T010000
END:DAYLIGHT
BEGIN:STANDARD
TZOFFSETFROM:+0200
TZOFFSETTO:+0100
TZNAME:CET
DTSTART:20251026T010000
END:STANDARD
BEGIN:DAYLIGHT
TZOFFSETFROM:+0100
TZOFFSETTO:+0200
TZNAME:CEST
DTSTART:20260329T010000
END:DAYLIGHT
BEGIN:STANDARD
TZOFFSETFROM:+0200
TZOFFSETTO:+0100
TZNAME:CET
DTSTART:20261025T010000
END:STANDARD
BEGIN:DAYLIGHT
TZOFFSETFROM:+0100
TZOFFSETTO:+0200
TZNAME:CEST
DTSTART:20270328T010000
END:DAYLIGHT
BEGIN:STANDARD
TZOFFSETFROM:+0200
TZOFFSETTO:+0100
TZNAME:CET
DTSTART:20271031T010000
END:STANDARD
END:VTIMEZONE
BEGIN:VEVENT
DTSTART;TZID=Europe/Andorra:20260307T110000
DTEND;TZID=Europe/Andorra:20260307T123000
DTSTAMP:20260423T202149
CREATED:20260210T172940Z
LAST-MODIFIED:20260224T215311Z
UID:11089-1772881200-1772886600@boirabaixa.cat
SUMMARY:Assemblea General de Socis/es del Boira Baixa
DESCRIPTION:L’Assemblea General de Socis/es és el màxim òrgan decisori del Casal Popular Boira Baixa. Us animem a assistir-hi i a participar-hi activament per\, entre totes i tots\, valorar la feina feta fins ara i decidir col·lectivament el futur del projecte que compartim. I si encara no sou socis/es del Boira Baixa\, us recordem que fer-vos-en és molt senzill\, només cal omplir el formulari que trobareu a www.boirabaixa.cat/socies. Tot seguit\, vermut popular!
URL:https://boirabaixa.cat/esdeveniment/assemblea-general-de-socis-es-del-boira-baixa/
LOCATION:Casal Popular Boira Baixa\, Plaça Flama del Canigó\, 2\, Manlleu\, Països Catalans\, 08560
ATTACH;FMTTYPE=image/jpeg:https://boirabaixa.cat/wp-content/uploads/sites/36/2026/02/Ass_socies_BB.jpeg
ORGANIZER;CN="Casal Popular Boira Baixa":MAILTO:boirabaixa@gmail.com
END:VEVENT
BEGIN:VEVENT
DTSTART;TZID=Europe/Andorra:20260307T190000
DTEND;TZID=Europe/Andorra:20260307T203000
DTSTAMP:20260423T202149
CREATED:20260225T205619Z
LAST-MODIFIED:20260304T115121Z
UID:11163-1772910000-1772915400@boirabaixa.cat
SUMMARY:Concert del cantautor Josep Lluís Notari
DESCRIPTION:Presentant el disc “Geografies sentimentals”. Cançó protesta des de La Plana (País Valencià). Amb taquilla inversa.
URL:https://boirabaixa.cat/esdeveniment/concert-del-cantautor-josep-lluis-notari/
LOCATION:Casal Popular Boira Baixa\, Plaça Flama del Canigó\, 2\, Manlleu\, Països Catalans\, 08560
ATTACH;FMTTYPE=image/jpeg:https://boirabaixa.cat/wp-content/uploads/sites/36/2026/02/Concert-Josep-Lluis-Notari-BB_LQ-scaled.jpg
ORGANIZER;CN="Casal Popular Boira Baixa":MAILTO:boirabaixa@gmail.com
END:VEVENT
END:VCALENDAR