BEGIN:VCALENDAR
VERSION:2.0
PRODID:-//BoiraBaixa - ECPv6.15.20//NONSGML v1.0//EN
CALSCALE:GREGORIAN
METHOD:PUBLISH
X-WR-CALNAME:BoiraBaixa
X-ORIGINAL-URL:https://boirabaixa.cat
X-WR-CALDESC:Esdeveniments per BoiraBaixa
REFRESH-INTERVAL;VALUE=DURATION:PT1H
X-Robots-Tag:noindex
X-PUBLISHED-TTL:PT1H
BEGIN:VTIMEZONE
TZID:Europe/Helsinki
BEGIN:DAYLIGHT
TZOFFSETFROM:+0200
TZOFFSETTO:+0300
TZNAME:EEST
DTSTART:20210328T010000
END:DAYLIGHT
BEGIN:STANDARD
TZOFFSETFROM:+0300
TZOFFSETTO:+0200
TZNAME:EET
DTSTART:20211031T010000
END:STANDARD
BEGIN:DAYLIGHT
TZOFFSETFROM:+0200
TZOFFSETTO:+0300
TZNAME:EEST
DTSTART:20220327T010000
END:DAYLIGHT
BEGIN:STANDARD
TZOFFSETFROM:+0300
TZOFFSETTO:+0200
TZNAME:EET
DTSTART:20221030T010000
END:STANDARD
BEGIN:DAYLIGHT
TZOFFSETFROM:+0200
TZOFFSETTO:+0300
TZNAME:EEST
DTSTART:20230326T010000
END:DAYLIGHT
BEGIN:STANDARD
TZOFFSETFROM:+0300
TZOFFSETTO:+0200
TZNAME:EET
DTSTART:20231029T010000
END:STANDARD
END:VTIMEZONE
BEGIN:VEVENT
DTSTART;TZID=Europe/Helsinki:20220423T180000
DTEND;TZID=Europe/Helsinki:20220423T200000
DTSTAMP:20260426T002218
CREATED:20220411T102450Z
LAST-MODIFIED:20220411T102450Z
UID:980-1650736800-1650744000@boirabaixa.cat
SUMMARY:Converses literàries especial St. Jordi: "La plaça del Diamant"\, de Mercè Rodoreda
DESCRIPTION:El proper dissabte 23 d’abril\, a les 18h\, movem les converses literàries a l’aire lliure! Aquest mes d’abril ens trobarem a la plaça de la Flama del Canigó. \nComentarem tot un clàssic de la literatura catalana com és La plaça del Diamant\, de Mercè Rodoreda. A peu de carrer\, obert a tothom i amb moltes ganes de parlar de llibres durant tot el dia. \nUs hi esperem!
URL:https://boirabaixa.cat/esdeveniment/converses-literaries-especial-st-jordi-la-placa-del-diamant-de-merce-rodoreda/
LOCATION:Plaça Flama del Canigó\, Plaça Flama del Canigó\, Manlleu\, Països Catalans\, 08560\, Espanya
CATEGORIES:Converses literàries
ATTACH;FMTTYPE=image/jpeg:https://boirabaixa.cat/wp-content/uploads/sites/36/2022/04/Converses_literàries_StJordi.jpeg
END:VEVENT
END:VCALENDAR