BEGIN:VCALENDAR
VERSION:2.0
PRODID:-//BoiraBaixa - ECPv6.15.20//NONSGML v1.0//EN
CALSCALE:GREGORIAN
METHOD:PUBLISH
X-ORIGINAL-URL:https://boirabaixa.cat
X-WR-CALDESC:Esdeveniments per BoiraBaixa
REFRESH-INTERVAL;VALUE=DURATION:PT1H
X-Robots-Tag:noindex
X-PUBLISHED-TTL:PT1H
BEGIN:VTIMEZONE
TZID:Europe/Andorra
BEGIN:DAYLIGHT
TZOFFSETFROM:+0100
TZOFFSETTO:+0200
TZNAME:CEST
DTSTART:20240331T010000
END:DAYLIGHT
BEGIN:STANDARD
TZOFFSETFROM:+0200
TZOFFSETTO:+0100
TZNAME:CET
DTSTART:20241027T010000
END:STANDARD
BEGIN:DAYLIGHT
TZOFFSETFROM:+0100
TZOFFSETTO:+0200
TZNAME:CEST
DTSTART:20250330T010000
END:DAYLIGHT
BEGIN:STANDARD
TZOFFSETFROM:+0200
TZOFFSETTO:+0100
TZNAME:CET
DTSTART:20251026T010000
END:STANDARD
BEGIN:DAYLIGHT
TZOFFSETFROM:+0100
TZOFFSETTO:+0200
TZNAME:CEST
DTSTART:20260329T010000
END:DAYLIGHT
BEGIN:STANDARD
TZOFFSETFROM:+0200
TZOFFSETTO:+0100
TZNAME:CET
DTSTART:20261025T010000
END:STANDARD
END:VTIMEZONE
BEGIN:VEVENT
DTSTART;TZID=Europe/Andorra:20250522T200000
DTEND;TZID=Europe/Andorra:20250522T210000
DTSTAMP:20260422T122044
CREATED:20250407T193110Z
LAST-MODIFIED:20250504T114704Z
UID:7983-1747944000-1747947600@boirabaixa.cat
SUMMARY:Converses literàries: "Ofert a les mans\, el paradís crema"\, de Pol Guasch
DESCRIPTION:☄️ El proper dijous 22 de maig\, a les converses literàries\, comentarem Ofert a les mans\, el paradís crema\, de Pol Guasch. \n📖 Una novel·la que ressegueix la història de dos amics: la infantesa en contextos oposats\, el descobriment del desig\, els seus amors i la nostàlgia del futur que no serà. En un món abocat al col·lapse\, la Rita i en Líton converteixen l’amistat en una confabulació per pensar un univers habitable. \n✨ Gaudiu de la lectura!
URL:https://boirabaixa.cat/esdeveniment/converses-literaries-ofert-a-les-mans-el-paradis-crema-de-pol-guasch/
LOCATION:Casal Popular Boira Baixa\, Plaça Flama del Canigó\, 2\, Manlleu\, Països Catalans\, 08560
CATEGORIES:Converses literàries
ATTACH;FMTTYPE=image/jpeg:https://boirabaixa.cat/wp-content/uploads/sites/36/2025/04/Converses_PolGuasch.jpeg
ORGANIZER;CN="Casal Popular Boira Baixa":MAILTO:boirabaixa@gmail.com
END:VEVENT
END:VCALENDAR