BEGIN:VCALENDAR
VERSION:2.0
PRODID:-//BoiraBaixa - ECPv6.15.20//NONSGML v1.0//EN
CALSCALE:GREGORIAN
METHOD:PUBLISH
X-ORIGINAL-URL:https://boirabaixa.cat
X-WR-CALDESC:Esdeveniments per BoiraBaixa
REFRESH-INTERVAL;VALUE=DURATION:PT1H
X-Robots-Tag:noindex
X-PUBLISHED-TTL:PT1H
BEGIN:VTIMEZONE
TZID:Europe/Helsinki
BEGIN:DAYLIGHT
TZOFFSETFROM:+0200
TZOFFSETTO:+0300
TZNAME:EEST
DTSTART:20210328T010000
END:DAYLIGHT
BEGIN:STANDARD
TZOFFSETFROM:+0300
TZOFFSETTO:+0200
TZNAME:EET
DTSTART:20211031T010000
END:STANDARD
BEGIN:DAYLIGHT
TZOFFSETFROM:+0200
TZOFFSETTO:+0300
TZNAME:EEST
DTSTART:20220327T010000
END:DAYLIGHT
BEGIN:STANDARD
TZOFFSETFROM:+0300
TZOFFSETTO:+0200
TZNAME:EET
DTSTART:20221030T010000
END:STANDARD
BEGIN:DAYLIGHT
TZOFFSETFROM:+0200
TZOFFSETTO:+0300
TZNAME:EEST
DTSTART:20230326T010000
END:DAYLIGHT
BEGIN:STANDARD
TZOFFSETFROM:+0300
TZOFFSETTO:+0200
TZNAME:EET
DTSTART:20231029T010000
END:STANDARD
END:VTIMEZONE
BEGIN:VEVENT
DTSTART;TZID=Europe/Helsinki:20220222T193000
DTEND;TZID=Europe/Helsinki:20220222T210000
DTSTAMP:20260426T043324
CREATED:20220203T200659Z
LAST-MODIFIED:20220203T201434Z
UID:919-1645558200-1645563600@boirabaixa.cat
SUMMARY:Converses literàries: "Fugir era el més bell que teníem"\, de Marta Marín-Dòmine
DESCRIPTION:📚 Després de l’èxit de les converses literàries del mes de gener\, aquest febrer seguim parlant de llibres. El dimarts 22 de febrer a 2/4 de 8 comentarem Fugir era el més bell que teníem\, de Marta Marín-Dòmine. \n📖 Un llibre sobre l’exili\, la memòria i la successió de fugides\, escrit des del testimoni i la reflexió assagística. Al principi del llibre hi llegim: “Qui erra recorda els paisatges\, qui arrela recorda els anys.” \n🤝 Si t’interessa llegir aquest llibre i no el tens\, contacta’ns a través de boirabaixa@gmail.com i entre totes compartirem els exemplars que tinguem.
URL:https://boirabaixa.cat/esdeveniment/converses-literaries-fugir-era-el-mes-bell-que-teniem-de-marta-marin-domine/
LOCATION:Països Catalans
CATEGORIES:Converses literàries
ATTACH;FMTTYPE=image/jpeg:https://boirabaixa.cat/wp-content/uploads/sites/36/2022/02/Club-de-lectura_BB.jpeg
END:VEVENT
END:VCALENDAR