BEGIN:VCALENDAR
VERSION:2.0
PRODID:-//BoiraBaixa - ECPv6.15.20//NONSGML v1.0//EN
CALSCALE:GREGORIAN
METHOD:PUBLISH
X-ORIGINAL-URL:https://boirabaixa.cat
X-WR-CALDESC:Esdeveniments per BoiraBaixa
REFRESH-INTERVAL;VALUE=DURATION:PT1H
X-Robots-Tag:noindex
X-PUBLISHED-TTL:PT1H
BEGIN:VTIMEZONE
TZID:Europe/Helsinki
BEGIN:DAYLIGHT
TZOFFSETFROM:+0200
TZOFFSETTO:+0300
TZNAME:EEST
DTSTART:20210328T010000
END:DAYLIGHT
BEGIN:STANDARD
TZOFFSETFROM:+0300
TZOFFSETTO:+0200
TZNAME:EET
DTSTART:20211031T010000
END:STANDARD
BEGIN:DAYLIGHT
TZOFFSETFROM:+0200
TZOFFSETTO:+0300
TZNAME:EEST
DTSTART:20220327T010000
END:DAYLIGHT
BEGIN:STANDARD
TZOFFSETFROM:+0300
TZOFFSETTO:+0200
TZNAME:EET
DTSTART:20221030T010000
END:STANDARD
BEGIN:DAYLIGHT
TZOFFSETFROM:+0200
TZOFFSETTO:+0300
TZNAME:EEST
DTSTART:20230326T010000
END:DAYLIGHT
BEGIN:STANDARD
TZOFFSETFROM:+0300
TZOFFSETTO:+0200
TZNAME:EET
DTSTART:20231029T010000
END:STANDARD
END:VTIMEZONE
BEGIN:VEVENT
DTSTART;TZID=Europe/Helsinki:20221124T200000
DTEND;TZID=Europe/Helsinki:20221124T213000
DTSTAMP:20260425T142100
CREATED:20221027T172256Z
LAST-MODIFIED:20221108T212915Z
UID:1422-1669320000-1669325400@boirabaixa.cat
SUMMARY:Converses literàries: "Satèl·lits"\, d'Elisenda Solsona
DESCRIPTION:📚 El dijous 24 de novembre a les 8 del vespre tornen les converses literàries amb el comentari de Satèl·lits\, d’Elisenda Solsona. \n📖 “Una nit\, sense avís previ\, la lluna no surt. Sota aquest cel inesperat transcorren vuit històries íntimes sobre separacions i retrobaments\, narracions prenyades d’una bellesa estranya en què no hi manca el punt de fuga màgic.” \nUs hi esperem!
URL:https://boirabaixa.cat/esdeveniment/converses-literaries-satellits-delisenda-solsona/
LOCATION:Casal Popular Boira Baixa (local antic)\, C/ Rossell\, 16\, Manlleu\, Països Catalans\, 08560
CATEGORIES:Converses literàries
ATTACH;FMTTYPE=image/jpeg:https://boirabaixa.cat/wp-content/uploads/sites/36/2022/10/Converses_satèlits.jpeg
ORGANIZER;CN="Casal Popular Boira Baixa":MAILTO:boirabaixa@gmail.com
END:VEVENT
END:VCALENDAR