BEGIN:VCALENDAR
VERSION:2.0
PRODID:-//BoiraBaixa - ECPv6.15.20//NONSGML v1.0//EN
CALSCALE:GREGORIAN
METHOD:PUBLISH
X-WR-CALNAME:BoiraBaixa
X-ORIGINAL-URL:https://boirabaixa.cat
X-WR-CALDESC:Esdeveniments per BoiraBaixa
REFRESH-INTERVAL;VALUE=DURATION:PT1H
X-Robots-Tag:noindex
X-PUBLISHED-TTL:PT1H
BEGIN:VTIMEZONE
TZID:Europe/Helsinki
BEGIN:DAYLIGHT
TZOFFSETFROM:+0200
TZOFFSETTO:+0300
TZNAME:EEST
DTSTART:20210328T010000
END:DAYLIGHT
BEGIN:STANDARD
TZOFFSETFROM:+0300
TZOFFSETTO:+0200
TZNAME:EET
DTSTART:20211031T010000
END:STANDARD
BEGIN:DAYLIGHT
TZOFFSETFROM:+0200
TZOFFSETTO:+0300
TZNAME:EEST
DTSTART:20220327T010000
END:DAYLIGHT
BEGIN:STANDARD
TZOFFSETFROM:+0300
TZOFFSETTO:+0200
TZNAME:EET
DTSTART:20221030T010000
END:STANDARD
BEGIN:DAYLIGHT
TZOFFSETFROM:+0200
TZOFFSETTO:+0300
TZNAME:EEST
DTSTART:20230326T010000
END:DAYLIGHT
BEGIN:STANDARD
TZOFFSETFROM:+0300
TZOFFSETTO:+0200
TZNAME:EET
DTSTART:20231029T010000
END:STANDARD
END:VTIMEZONE
BEGIN:VEVENT
DTSTART;TZID=Europe/Helsinki:20221222T200000
DTEND;TZID=Europe/Helsinki:20221222T213000
DTSTAMP:20260424T005424
CREATED:20221201T185246Z
LAST-MODIFIED:20221218T222812Z
UID:1567-1671739200-1671744600@boirabaixa.cat
SUMMARY:Converses literàries: "Una vida violenta"\, de Pier Paolo Pasolini
DESCRIPTION:“Una novel·la ambientada en el baix proletariat romà dels anys cinquanta\, que ressegueix la història d’en Tommaso\, un jove delinqüent dels suburbis romans en l’etapa de formació d’una consciència política pròpia.” \nBona lectura!
URL:https://boirabaixa.cat/esdeveniment/converses-literaries-una-vida-violenta-de-pier-paolo-passolini/
LOCATION:Casal Popular Boira Baixa (local antic)\, C/ Rossell\, 16\, Manlleu\, Països Catalans\, 08560
CATEGORIES:Converses literàries
ATTACH;FMTTYPE=image/jpeg:https://boirabaixa.cat/wp-content/uploads/sites/36/2022/12/Converses_BB_passolini.jpeg
ORGANIZER;CN="Casal Popular Boira Baixa":MAILTO:boirabaixa@gmail.com
END:VEVENT
END:VCALENDAR