BEGIN:VCALENDAR
VERSION:2.0
PRODID:-//BoiraBaixa - ECPv6.15.20//NONSGML v1.0//EN
CALSCALE:GREGORIAN
METHOD:PUBLISH
X-WR-CALNAME:BoiraBaixa
X-ORIGINAL-URL:https://boirabaixa.cat
X-WR-CALDESC:Esdeveniments per BoiraBaixa
REFRESH-INTERVAL;VALUE=DURATION:PT1H
X-Robots-Tag:noindex
X-PUBLISHED-TTL:PT1H
BEGIN:VTIMEZONE
TZID:Europe/Helsinki
BEGIN:DAYLIGHT
TZOFFSETFROM:+0200
TZOFFSETTO:+0300
TZNAME:EEST
DTSTART:20220327T010000
END:DAYLIGHT
BEGIN:STANDARD
TZOFFSETFROM:+0300
TZOFFSETTO:+0200
TZNAME:EET
DTSTART:20221030T010000
END:STANDARD
BEGIN:DAYLIGHT
TZOFFSETFROM:+0200
TZOFFSETTO:+0300
TZNAME:EEST
DTSTART:20230326T010000
END:DAYLIGHT
BEGIN:STANDARD
TZOFFSETFROM:+0300
TZOFFSETTO:+0200
TZNAME:EET
DTSTART:20231029T010000
END:STANDARD
BEGIN:DAYLIGHT
TZOFFSETFROM:+0200
TZOFFSETTO:+0300
TZNAME:EEST
DTSTART:20240331T010000
END:DAYLIGHT
BEGIN:STANDARD
TZOFFSETFROM:+0300
TZOFFSETTO:+0200
TZNAME:EET
DTSTART:20241027T010000
END:STANDARD
END:VTIMEZONE
BEGIN:VEVENT
DTSTART;TZID=Europe/Helsinki:20230302T203000
DTEND;TZID=Europe/Helsinki:20230302T213000
DTSTAMP:20260423T091330
CREATED:20230211T201923Z
LAST-MODIFIED:20230228T223556Z
UID:2230-1677789000-1677792600@boirabaixa.cat
SUMMARY:Converses literàries: "Anatomia de les distàncies curtes"\, de Marta Orriols
DESCRIPTION:📖 “Un recull de contes que retrata la infinitat de relacions a què ens condueix l’amor: l’estima\, el dolor\, les renúncies implícites\, els oblits o les pèrdues.”
URL:https://boirabaixa.cat/esdeveniment/converses-literaries-anatomia-de-les-distancies-curtes-de-marta-orriols/
LOCATION:Casal Popular Boira Baixa (local antic)\, C/ Rossell\, 16\, Manlleu\, Països Catalans\, 08560
CATEGORIES:Converses literàries
ATTACH;FMTTYPE=image/jpeg:https://boirabaixa.cat/wp-content/uploads/sites/36/2023/02/converses_BB_marc.jpeg
ORGANIZER;CN="Casal Popular Boira Baixa":MAILTO:boirabaixa@gmail.com
END:VEVENT
END:VCALENDAR