BEGIN:VCALENDAR
VERSION:2.0
PRODID:-//BoiraBaixa - ECPv6.15.20//NONSGML v1.0//EN
CALSCALE:GREGORIAN
METHOD:PUBLISH
X-ORIGINAL-URL:https://boirabaixa.cat
X-WR-CALDESC:Esdeveniments per BoiraBaixa
REFRESH-INTERVAL;VALUE=DURATION:PT1H
X-Robots-Tag:noindex
X-PUBLISHED-TTL:PT1H
BEGIN:VTIMEZONE
TZID:Europe/Andorra
BEGIN:DAYLIGHT
TZOFFSETFROM:+0100
TZOFFSETTO:+0200
TZNAME:CEST
DTSTART:20220327T010000
END:DAYLIGHT
BEGIN:STANDARD
TZOFFSETFROM:+0200
TZOFFSETTO:+0100
TZNAME:CET
DTSTART:20221030T010000
END:STANDARD
BEGIN:DAYLIGHT
TZOFFSETFROM:+0100
TZOFFSETTO:+0200
TZNAME:CEST
DTSTART:20230326T010000
END:DAYLIGHT
BEGIN:STANDARD
TZOFFSETFROM:+0200
TZOFFSETTO:+0100
TZNAME:CET
DTSTART:20231029T010000
END:STANDARD
BEGIN:DAYLIGHT
TZOFFSETFROM:+0100
TZOFFSETTO:+0200
TZNAME:CEST
DTSTART:20240331T010000
END:DAYLIGHT
BEGIN:STANDARD
TZOFFSETFROM:+0200
TZOFFSETTO:+0100
TZNAME:CET
DTSTART:20241027T010000
END:STANDARD
END:VTIMEZONE
BEGIN:VEVENT
DTSTART;TZID=Europe/Andorra:20231026T200000
DTEND;TZID=Europe/Andorra:20231026T213000
DTSTAMP:20260423T000754
CREATED:20230918T124013Z
LAST-MODIFIED:20230918T161238Z
UID:3669-1698350400-1698355800@boirabaixa.cat
SUMMARY:Converses literàries: "Et vaig donar ulls i vas mirar les tenebres"\, d'Irene Solà
DESCRIPTION:Una novel·la fosca i embruixada que s’endinsa a les Guilleries per explicar la història d’un mas habitat per dones i envoltat de fantasmes\, bèsties i dimonis. Parlarem de l’infern i el foc que l’alimenta\, veniu que crepitarem juntes!
URL:https://boirabaixa.cat/esdeveniment/converses-literaries-et-vaig-donar-ulls-i-vas-mirar-les-tenebres-direne-sola/
LOCATION:Casal Popular Boira Baixa (local antic)\, C/ Rossell\, 16\, Manlleu\, Països Catalans\, 08560
CATEGORIES:Converses literàries
ATTACH;FMTTYPE=image/jpeg:https://boirabaixa.cat/wp-content/uploads/sites/36/2023/09/Converses-literaries_ISola.jpeg
ORGANIZER;CN="Casal Popular Boira Baixa":MAILTO:boirabaixa@gmail.com
END:VEVENT
END:VCALENDAR