BEGIN:VCALENDAR
VERSION:2.0
PRODID:-//BoiraBaixa - ECPv6.15.20//NONSGML v1.0//EN
CALSCALE:GREGORIAN
METHOD:PUBLISH
X-WR-CALNAME:BoiraBaixa
X-ORIGINAL-URL:https://boirabaixa.cat
X-WR-CALDESC:Esdeveniments per BoiraBaixa
REFRESH-INTERVAL;VALUE=DURATION:PT1H
X-Robots-Tag:noindex
X-PUBLISHED-TTL:PT1H
BEGIN:VTIMEZONE
TZID:Europe/Andorra
BEGIN:DAYLIGHT
TZOFFSETFROM:+0100
TZOFFSETTO:+0200
TZNAME:CEST
DTSTART:20230326T010000
END:DAYLIGHT
BEGIN:STANDARD
TZOFFSETFROM:+0200
TZOFFSETTO:+0100
TZNAME:CET
DTSTART:20231029T010000
END:STANDARD
BEGIN:DAYLIGHT
TZOFFSETFROM:+0100
TZOFFSETTO:+0200
TZNAME:CEST
DTSTART:20240331T010000
END:DAYLIGHT
BEGIN:STANDARD
TZOFFSETFROM:+0200
TZOFFSETTO:+0100
TZNAME:CET
DTSTART:20241027T010000
END:STANDARD
BEGIN:DAYLIGHT
TZOFFSETFROM:+0100
TZOFFSETTO:+0200
TZNAME:CEST
DTSTART:20250330T010000
END:DAYLIGHT
BEGIN:STANDARD
TZOFFSETFROM:+0200
TZOFFSETTO:+0100
TZNAME:CET
DTSTART:20251026T010000
END:STANDARD
END:VTIMEZONE
BEGIN:VEVENT
DTSTART;VALUE=DATE:20241004
DTEND;VALUE=DATE:20241007
DTSTAMP:20260426T002945
CREATED:20240926T070439Z
LAST-MODIFIED:20240926T070500Z
UID:5973-1728000000-1728259199@boirabaixa.cat
SUMMARY:Festa del Verro i la Birra
DESCRIPTION:Tota la informació a boirabaixa.cat/verroibirra
URL:https://boirabaixa.cat/esdeveniment/fest-del-verro-i-la-birra/
LOCATION:Casal Popular Boira Baixa\, Plaça Flama del Canigó\, 2\, Manlleu\, Països Catalans\, 08560
CATEGORIES:Festa del Verro i la Birra
ATTACH;FMTTYPE=image/jpeg:https://boirabaixa.cat/wp-content/uploads/sites/36/2024/09/WhatsApp-Image-2024-09-25-at-22.28.02.jpeg
ORGANIZER;CN="Casal Popular Boira Baixa":MAILTO:boirabaixa@gmail.com
END:VEVENT
BEGIN:VEVENT
DTSTART;TZID=Europe/Andorra:20241004T173000
DTEND;TZID=Europe/Andorra:20241004T200000
DTSTAMP:20260426T002945
CREATED:20240930T074544Z
LAST-MODIFIED:20240930T074544Z
UID:6018-1728063000-1728072000@boirabaixa.cat
SUMMARY:Jocs de taula i tallers infantils
DESCRIPTION:Per a infants de totes les edats i les seves famílies.
URL:https://boirabaixa.cat/esdeveniment/jocs-de-taula-i-tallers-infantils/
LOCATION:Casal Popular Boira Baixa\, Plaça Flama del Canigó\, 2\, Manlleu\, Països Catalans\, 08560
CATEGORIES:Festa del Verro i la Birra
ATTACH;FMTTYPE=image/jpeg:https://boirabaixa.cat/wp-content/uploads/sites/36/2024/09/WhatsApp-Image-2024-09-27-at-18.59.51.jpeg
ORGANIZER;CN="Casal Popular Boira Baixa":MAILTO:boirabaixa@gmail.com
END:VEVENT
BEGIN:VEVENT
DTSTART;TZID=Europe/Andorra:20241004T200000
DTEND;TZID=Europe/Andorra:20241004T230000
DTSTAMP:20260426T002945
CREATED:20240930T074654Z
LAST-MODIFIED:20240930T074654Z
UID:6020-1728072000-1728082800@boirabaixa.cat
SUMMARY:Sopar popular
DESCRIPTION:Galtes de porc.\nTambé hi haurà servei d’entrepans de botifarra (amb opció vegana).
URL:https://boirabaixa.cat/esdeveniment/sopar-popular-2/
LOCATION:Casal Popular Boira Baixa\, Plaça Flama del Canigó\, 2\, Manlleu\, Països Catalans\, 08560
CATEGORIES:Festa del Verro i la Birra
ATTACH;FMTTYPE=image/jpeg:https://boirabaixa.cat/wp-content/uploads/sites/36/2024/09/WhatsApp-Image-2024-09-27-at-18.59.51.jpeg
ORGANIZER;CN="Casal Popular Boira Baixa":MAILTO:boirabaixa@gmail.com
END:VEVENT
BEGIN:VEVENT
DTSTART;TZID=Europe/Andorra:20241004T220000
DTEND;TZID=Europe/Andorra:20241004T235900
DTSTAMP:20260426T002945
CREATED:20240930T074801Z
LAST-MODIFIED:20241001T064436Z
UID:6022-1728079200-1728086340@boirabaixa.cat
SUMMARY:Concert amb Rikiman & Kowalsky i 666 Capille Sixteen
DESCRIPTION:Rikiman & Kowalsky (punk-rock melòdic\, Manlleu) i 666 Capille Sixteen (versions punk-rock i metal\, Manlleu).
URL:https://boirabaixa.cat/esdeveniment/concert-amb-rikiman-kowalsky-i-666-capille-sixteen/
LOCATION:Casal Popular Boira Baixa\, Plaça Flama del Canigó\, 2\, Manlleu\, Països Catalans\, 08560
CATEGORIES:Festa del Verro i la Birra
ATTACH;FMTTYPE=image/jpeg:https://boirabaixa.cat/wp-content/uploads/sites/36/2024/09/WhatsApp-Image-2024-09-27-at-18.59.51.jpeg
ORGANIZER;CN="Casal Popular Boira Baixa":MAILTO:boirabaixa@gmail.com
END:VEVENT
BEGIN:VEVENT
DTSTART;TZID=Europe/Andorra:20241005T113000
DTEND;TZID=Europe/Andorra:20241005T123000
DTSTAMP:20260426T002945
CREATED:20240930T074906Z
LAST-MODIFIED:20240930T074906Z
UID:6024-1728127800-1728131400@boirabaixa.cat
SUMMARY:Conversa amb Pino Delàs
DESCRIPTION:Conversa amb Pino Delàs\, pagès de la Llavora\, productors de porcí ecològic.
URL:https://boirabaixa.cat/esdeveniment/conversa-amb-pino-delas/
LOCATION:Casal Popular Boira Baixa\, Plaça Flama del Canigó\, 2\, Manlleu\, Països Catalans\, 08560
CATEGORIES:Festa del Verro i la Birra
ATTACH;FMTTYPE=image/jpeg:https://boirabaixa.cat/wp-content/uploads/sites/36/2024/09/WhatsApp-Image-2024-09-27-at-18.59.51-1.jpeg
ORGANIZER;CN="Casal Popular Boira Baixa":MAILTO:boirabaixa@gmail.com
END:VEVENT
BEGIN:VEVENT
DTSTART;TZID=Europe/Andorra:20241005T123000
DTEND;TZID=Europe/Andorra:20241005T140000
DTSTAMP:20260426T002945
CREATED:20240930T075005Z
LAST-MODIFIED:20240930T075005Z
UID:6026-1728131400-1728136800@boirabaixa.cat
SUMMARY:Vermut musical
DESCRIPTION:Vermut-degustació d’embotits amb selecció musical amb vinils (a càrrec de Osona Soul Rebels).
URL:https://boirabaixa.cat/esdeveniment/vermut-musical/
LOCATION:Casal Popular Boira Baixa\, Plaça Flama del Canigó\, 2\, Manlleu\, Països Catalans\, 08560
CATEGORIES:Festa del Verro i la Birra
ATTACH;FMTTYPE=image/jpeg:https://boirabaixa.cat/wp-content/uploads/sites/36/2024/09/WhatsApp-Image-2024-09-27-at-18.59.51-1.jpeg
ORGANIZER;CN="Casal Popular Boira Baixa":MAILTO:boirabaixa@gmail.com
END:VEVENT
BEGIN:VEVENT
DTSTART;TZID=Europe/Andorra:20241005T180000
DTEND;TZID=Europe/Andorra:20241005T200000
DTSTAMP:20260426T002945
CREATED:20240930T075105Z
LAST-MODIFIED:20240930T075105Z
UID:6028-1728151200-1728158400@boirabaixa.cat
SUMMARY:Tast de cerveses amb Montseny\, Engorile i Guineu\, amb maridatge d’embotits manlleuencs.
DESCRIPTION:Preu 10€ [8€ socis]. Inscripcions a trvés de la nostra web.
URL:https://boirabaixa.cat/esdeveniment/tast-de-cerveses-amb-montseny-engorile-i-guineu-amb-maridatge-dembotits-manlleuencs/
LOCATION:Casal Popular Boira Baixa\, Plaça Flama del Canigó\, 2\, Manlleu\, Països Catalans\, 08560
CATEGORIES:Festa del Verro i la Birra
ATTACH;FMTTYPE=image/jpeg:https://boirabaixa.cat/wp-content/uploads/sites/36/2024/09/WhatsApp-Image-2024-09-27-at-18.59.51-1.jpeg
ORGANIZER;CN="Casal Popular Boira Baixa":MAILTO:boirabaixa@gmail.com
END:VEVENT
BEGIN:VEVENT
DTSTART;TZID=Europe/Andorra:20241005T200000
DTEND;TZID=Europe/Andorra:20241005T230000
DTSTAMP:20260426T002945
CREATED:20240930T075203Z
LAST-MODIFIED:20240930T075203Z
UID:6030-1728158400-1728169200@boirabaixa.cat
SUMMARY:Sopar popular
DESCRIPTION:Costellam de porc al fumador\, amb pebrots del padró i mongetes seques*. \n*També hi haurà servei d’entrepans de botifarra (amb opció vegana).
URL:https://boirabaixa.cat/esdeveniment/sopar-popular-3/
LOCATION:Casal Popular Boira Baixa\, Plaça Flama del Canigó\, 2\, Manlleu\, Països Catalans\, 08560
CATEGORIES:Festa del Verro i la Birra
ATTACH;FMTTYPE=image/jpeg:https://boirabaixa.cat/wp-content/uploads/sites/36/2024/09/WhatsApp-Image-2024-09-27-at-18.59.51-1.jpeg
ORGANIZER;CN="Casal Popular Boira Baixa":MAILTO:boirabaixa@gmail.com
END:VEVENT
BEGIN:VEVENT
DTSTART;TZID=Europe/Andorra:20241005T220000
DTEND;TZID=Europe/Andorra:20241005T235900
DTSTAMP:20260426T002945
CREATED:20240930T075255Z
LAST-MODIFIED:20241001T064359Z
UID:6032-1728165600-1728172740@boirabaixa.cat
SUMMARY:Concert amb Sixtus -duet- i DJ Up the 'RA
DESCRIPTION:
URL:https://boirabaixa.cat/esdeveniment/concert-amb-sixtus-duet-i-dj-up-the-ra/
LOCATION:Casal Popular Boira Baixa\, Plaça Flama del Canigó\, 2\, Manlleu\, Països Catalans\, 08560
CATEGORIES:Festa del Verro i la Birra
ATTACH;FMTTYPE=image/jpeg:https://boirabaixa.cat/wp-content/uploads/sites/36/2024/09/WhatsApp-Image-2024-09-27-at-18.59.51-1.jpeg
ORGANIZER;CN="Casal Popular Boira Baixa":MAILTO:boirabaixa@gmail.com
END:VEVENT
BEGIN:VEVENT
DTSTART;TZID=Europe/Andorra:20241006T113000
DTEND;TZID=Europe/Andorra:20241006T123000
DTSTAMP:20260426T002945
CREATED:20240930T074106Z
LAST-MODIFIED:20240930T074106Z
UID:6004-1728214200-1728217800@boirabaixa.cat
SUMMARY:Un altre model ramader és possible?
DESCRIPTION:Xerrada amb Ginesta Mary del Grup de Defensa del Ter i Francesc Llach de l’explotació les Gambires.
URL:https://boirabaixa.cat/esdeveniment/un-altre-model-ramader-es-possible/
LOCATION:Casal Popular Boira Baixa\, Plaça Flama del Canigó\, 2\, Manlleu\, Països Catalans\, 08560
CATEGORIES:Festa del Verro i la Birra
ATTACH;FMTTYPE=image/jpeg:https://boirabaixa.cat/wp-content/uploads/sites/36/2024/09/WhatsApp-Image-2024-09-27-at-18.59.52.jpeg
ORGANIZER;CN="Casal Popular Boira Baixa":MAILTO:boirabaixa@gmail.com
END:VEVENT
BEGIN:VEVENT
DTSTART;TZID=Europe/Andorra:20241006T123000
DTEND;TZID=Europe/Andorra:20241006T143000
DTSTAMP:20260426T002945
CREATED:20240930T074206Z
LAST-MODIFIED:20240930T074206Z
UID:6010-1728217800-1728225000@boirabaixa.cat
SUMMARY:Vermut musical amb Met Mosby 
DESCRIPTION:Versions en acústic\, Manlleu.
URL:https://boirabaixa.cat/esdeveniment/vermut-musical-amb-met-mosby/
LOCATION:Casal Popular Boira Baixa\, Plaça Flama del Canigó\, 2\, Manlleu\, Països Catalans\, 08560
CATEGORIES:Festa del Verro i la Birra
ATTACH;FMTTYPE=image/jpeg:https://boirabaixa.cat/wp-content/uploads/sites/36/2024/09/WhatsApp-Image-2024-09-27-at-18.59.52.jpeg
ORGANIZER;CN="Casal Popular Boira Baixa":MAILTO:boirabaixa@gmail.com
END:VEVENT
BEGIN:VEVENT
DTSTART;TZID=Europe/Andorra:20241006T173000
DTEND;TZID=Europe/Andorra:20241006T190000
DTSTAMP:20260426T002945
CREATED:20240930T074311Z
LAST-MODIFIED:20240930T074311Z
UID:6012-1728235800-1728241200@boirabaixa.cat
SUMMARY:Concert amb Akustic Minions
DESCRIPTION:Versions\, Manlleu.
URL:https://boirabaixa.cat/esdeveniment/concert-amb-akustic-minions/
LOCATION:Casal Popular Boira Baixa\, Plaça Flama del Canigó\, 2\, Manlleu\, Països Catalans\, 08560
CATEGORIES:Festa del Verro i la Birra
ATTACH;FMTTYPE=image/jpeg:https://boirabaixa.cat/wp-content/uploads/sites/36/2024/09/WhatsApp-Image-2024-09-27-at-18.59.52.jpeg
ORGANIZER;CN="Casal Popular Boira Baixa":MAILTO:boirabaixa@gmail.com
END:VEVENT
BEGIN:VEVENT
DTSTART;TZID=Europe/Andorra:20241006T190000
DTEND;TZID=Europe/Andorra:20241006T210000
DTSTAMP:20260426T002945
CREATED:20240930T074359Z
LAST-MODIFIED:20240930T074359Z
UID:6014-1728241200-1728248400@boirabaixa.cat
SUMMARY:Bingo musical
DESCRIPTION:
URL:https://boirabaixa.cat/esdeveniment/bingo-musical-2/
LOCATION:Casal Popular Boira Baixa\, Plaça Flama del Canigó\, 2\, Manlleu\, Països Catalans\, 08560
CATEGORIES:Festa del Verro i la Birra
ATTACH;FMTTYPE=image/jpeg:https://boirabaixa.cat/wp-content/uploads/sites/36/2024/09/WhatsApp-Image-2024-09-27-at-18.59.52.jpeg
ORGANIZER;CN="Casal Popular Boira Baixa":MAILTO:boirabaixa@gmail.com
END:VEVENT
BEGIN:VEVENT
DTSTART;TZID=Europe/Andorra:20241006T200000
DTEND;TZID=Europe/Andorra:20241006T230000
DTSTAMP:20260426T002945
CREATED:20240930T074450Z
LAST-MODIFIED:20240930T074450Z
UID:6016-1728244800-1728255600@boirabaixa.cat
SUMMARY:Sopar popular
DESCRIPTION:Hi haurà servei d’entrepans de botifarra (amb opció vegana).
URL:https://boirabaixa.cat/esdeveniment/sopar-popular/
LOCATION:Casal Popular Boira Baixa\, Plaça Flama del Canigó\, 2\, Manlleu\, Països Catalans\, 08560
CATEGORIES:Festa del Verro i la Birra
ATTACH;FMTTYPE=image/jpeg:https://boirabaixa.cat/wp-content/uploads/sites/36/2024/09/WhatsApp-Image-2024-09-27-at-18.59.52.jpeg
ORGANIZER;CN="Casal Popular Boira Baixa":MAILTO:boirabaixa@gmail.com
END:VEVENT
END:VCALENDAR