BEGIN:VCALENDAR
VERSION:2.0
PRODID:-//BoiraBaixa - ECPv6.15.20//NONSGML v1.0//EN
CALSCALE:GREGORIAN
METHOD:PUBLISH
X-WR-CALNAME:BoiraBaixa
X-ORIGINAL-URL:https://boirabaixa.cat
X-WR-CALDESC:Esdeveniments per BoiraBaixa
REFRESH-INTERVAL;VALUE=DURATION:PT1H
X-Robots-Tag:noindex
X-PUBLISHED-TTL:PT1H
BEGIN:VTIMEZONE
TZID:Europe/Andorra
BEGIN:DAYLIGHT
TZOFFSETFROM:+0100
TZOFFSETTO:+0200
TZNAME:CEST
DTSTART:20250330T010000
END:DAYLIGHT
BEGIN:STANDARD
TZOFFSETFROM:+0200
TZOFFSETTO:+0100
TZNAME:CET
DTSTART:20251026T010000
END:STANDARD
BEGIN:DAYLIGHT
TZOFFSETFROM:+0100
TZOFFSETTO:+0200
TZNAME:CEST
DTSTART:20260329T010000
END:DAYLIGHT
BEGIN:STANDARD
TZOFFSETFROM:+0200
TZOFFSETTO:+0100
TZNAME:CET
DTSTART:20261025T010000
END:STANDARD
BEGIN:DAYLIGHT
TZOFFSETFROM:+0100
TZOFFSETTO:+0200
TZNAME:CEST
DTSTART:20270328T010000
END:DAYLIGHT
BEGIN:STANDARD
TZOFFSETFROM:+0200
TZOFFSETTO:+0100
TZNAME:CET
DTSTART:20271031T010000
END:STANDARD
END:VTIMEZONE
BEGIN:VEVENT
DTSTART;TZID=Europe/Andorra:20260105T233000
DTEND;TZID=Europe/Andorra:20260106T023000
DTSTAMP:20260423T230531
CREATED:20251214T223819Z
LAST-MODIFIED:20251219T201312Z
UID:10593-1767655800-1767666600@boirabaixa.cat
SUMMARY:Nit antimonàrquica amb PD Pilota
DESCRIPTION:
URL:https://boirabaixa.cat/esdeveniment/nit-antimonarquica-amb-pd-pilota/
LOCATION:Casal Popular Boira Baixa\, Plaça Flama del Canigó\, 2\, Manlleu\, Països Catalans\, 08560
ATTACH;FMTTYPE=image/jpeg:https://boirabaixa.cat/wp-content/uploads/sites/36/2025/12/Nit-Reis_LQ-scaled.jpg
ORGANIZER;CN="Casal Popular Boira Baixa":MAILTO:boirabaixa@gmail.com
END:VEVENT
BEGIN:VEVENT
DTSTART;TZID=Europe/Andorra:20260111T120000
DTEND;TZID=Europe/Andorra:20260111T133000
DTSTAMP:20260423T230531
CREATED:20251230T231058Z
LAST-MODIFIED:20260104T180351Z
UID:10724-1768132800-1768138200@boirabaixa.cat
SUMMARY:Xerrada: “Com fer salut en un sistema malalt”\, a càrrec de Roger Fontserè
DESCRIPTION:
URL:https://boirabaixa.cat/esdeveniment/xerrada-com-fer-salut-en-un-sistema-malalt-a-carrec-de-roger-fontsere/
LOCATION:Casal Popular Boira Baixa\, Plaça Flama del Canigó\, 2\, Manlleu\, Països Catalans\, 08560
ATTACH;FMTTYPE=image/jpeg:https://boirabaixa.cat/wp-content/uploads/sites/36/2025/12/Salut_sistemamalalt_BB_RF.jpeg
ORGANIZER;CN="Casal Popular Boira Baixa":MAILTO:boirabaixa@gmail.com
END:VEVENT
BEGIN:VEVENT
DTSTART;TZID=Europe/Andorra:20260111T183000
DTEND;TZID=Europe/Andorra:20260111T200000
DTSTAMP:20260423T230531
CREATED:20251230T231317Z
LAST-MODIFIED:20260104T135452Z
UID:10726-1768156200-1768161600@boirabaixa.cat
SUMMARY:Concert d'Avui
DESCRIPTION:Grup de folk osonenc. Amb taquilla inversa.
URL:https://boirabaixa.cat/esdeveniment/concert-davui/
LOCATION:Casal Popular Boira Baixa\, Plaça Flama del Canigó\, 2\, Manlleu\, Països Catalans\, 08560
ATTACH;FMTTYPE=image/jpeg:https://boirabaixa.cat/wp-content/uploads/sites/36/2025/12/Concerrt_Avui_BB_LQ-scaled.jpg
ORGANIZER;CN="Casal Popular Boira Baixa":MAILTO:boirabaixa@gmail.com
END:VEVENT
BEGIN:VEVENT
DTSTART;TZID=Europe/Andorra:20260112T190000
DTEND;TZID=Europe/Andorra:20260112T200000
DTSTAMP:20260423T230531
CREATED:20260111T093003Z
LAST-MODIFIED:20260111T093003Z
UID:10789-1768244400-1768248000@boirabaixa.cat
SUMMARY:Roda de premsa "Ara parlem nosaltres"
DESCRIPTION:Porten anys investigant-nos\, multant-nos i intimidant-nos. Ara parlem nosaltres!
URL:https://boirabaixa.cat/esdeveniment/roda-de-premsa-ara-parlem-nosaltres/
LOCATION:Casal Popular Boira Baixa\, Plaça Flama del Canigó\, 2\, Manlleu\, Països Catalans\, 08560
ATTACH;FMTTYPE=image/jpeg:https://boirabaixa.cat/wp-content/uploads/sites/36/2026/01/Post_hype_LQ-scaled.jpg
ORGANIZER;CN="Casal Popular Boira Baixa":MAILTO:boirabaixa@gmail.com
END:VEVENT
BEGIN:VEVENT
DTSTART;TZID=Europe/Andorra:20260114T190000
DTEND;TZID=Europe/Andorra:20260114T210000
DTSTAMP:20260423T230531
CREATED:20251230T231657Z
LAST-MODIFIED:20260105T131302Z
UID:10732-1768417200-1768424400@boirabaixa.cat
SUMMARY:Glosa amb Oidà Manlleu (Cor de Carxofa)
DESCRIPTION:
URL:https://boirabaixa.cat/esdeveniment/glosa-amb-oida-manlleu-cor-de-carxofa-8/
LOCATION:Casal Popular Boira Baixa\, Plaça Flama del Canigó\, 2\, Manlleu\, Països Catalans\, 08560
ATTACH;FMTTYPE=image/jpeg:https://boirabaixa.cat/wp-content/uploads/sites/36/2025/01/Dc.-glosa.jpeg
END:VEVENT
BEGIN:VEVENT
DTSTART;TZID=Europe/Andorra:20260116T220000
DTEND;TZID=Europe/Andorra:20260116T233000
DTSTAMP:20260423T230531
CREATED:20260104T161058Z
LAST-MODIFIED:20260109T195828Z
UID:10766-1768600800-1768606200@boirabaixa.cat
SUMMARY:Tercera assemblea de Fes-te Jove 2026
DESCRIPTION:
URL:https://boirabaixa.cat/esdeveniment/tercera-assemblea-de-fes-te-jove-2026/
LOCATION:Casal Popular Boira Baixa\, Plaça Flama del Canigó\, 2\, Manlleu\, Països Catalans\, 08560
ATTACH;FMTTYPE=image/jpeg:https://boirabaixa.cat/wp-content/uploads/sites/36/2026/01/3a_assemblea_FJ26.jpg
ORGANIZER;CN="Fes-te Jove":MAILTO:festejovemanlleu@gmail.com
END:VEVENT
BEGIN:VEVENT
DTSTART;TZID=Europe/Andorra:20260117T093000
DTEND;TZID=Europe/Andorra:20260117T140000
DTSTAMP:20260423T230531
CREATED:20251229T183920Z
LAST-MODIFIED:20260108T094317Z
UID:10679-1768642200-1768658400@boirabaixa.cat
SUMMARY:Jornada "La construcció del possible": acció i respostes col·lectives contra els discursos d'odi
DESCRIPTION:
URL:https://boirabaixa.cat/esdeveniment/jornada-la-construccio-del-possible-accio-i-respostes-collectives-contra-els-discursos-dodi/
LOCATION:Casal Popular Boira Baixa\, Plaça Flama del Canigó\, 2\, Manlleu\, Països Catalans\, 08560
ATTACH;FMTTYPE=image/jpeg:https://boirabaixa.cat/wp-content/uploads/sites/36/2025/12/Construccio-del-possible-Xarxes.jpg
END:VEVENT
BEGIN:VEVENT
DTSTART;TZID=Europe/Andorra:20260117T170000
DTEND;TZID=Europe/Andorra:20260117T235900
DTSTAMP:20260423T230531
CREATED:20251229T184234Z
LAST-MODIFIED:20251229T184309Z
UID:10683-1768669200-1768694340@boirabaixa.cat
SUMMARY:Concert solidari "Act x Palestine"
DESCRIPTION:Entrades a la venda a a www.shre.ink/actxpalestinemanlleu. Contra el silenci i la impunitat\, actuem. Mantenim viva la solidaritat amb el poble palestí!
URL:https://boirabaixa.cat/esdeveniment/concert-solidari-act-x-palestine/
LOCATION:Casal Popular Boira Baixa\, Plaça Flama del Canigó\, 2\, Manlleu\, Països Catalans\, 08560
ATTACH;FMTTYPE=image/jpeg:https://boirabaixa.cat/wp-content/uploads/sites/36/2025/12/Act-x-Palestine-1.jpeg
END:VEVENT
BEGIN:VEVENT
DTSTART;TZID=Europe/Andorra:20260118T170000
DTEND;TZID=Europe/Andorra:20260118T183000
DTSTAMP:20260423T230531
CREATED:20260115T221811Z
LAST-MODIFIED:20260115T221811Z
UID:10845-1768755600-1768761000@boirabaixa.cat
SUMMARY:Trobada de col·lectius de la Catalunya Central: "Fem front comú davant la crisi porcina i del model macro-industrial"
DESCRIPTION:
URL:https://boirabaixa.cat/esdeveniment/trobada-de-collectius-de-la-catalunya-central-fem-front-comu-davant-la-crisi-porcina-i-del-model-macro-industrial/
LOCATION:Casal Popular Boira Baixa\, Plaça Flama del Canigó\, 2\, Manlleu\, Països Catalans\, 08560
ATTACH;FMTTYPE=image/jpeg:https://boirabaixa.cat/wp-content/uploads/sites/36/2026/01/Crisi-porci-alternativa.jpeg
END:VEVENT
BEGIN:VEVENT
DTSTART;TZID=Europe/Andorra:20260119T200000
DTEND;TZID=Europe/Andorra:20260119T210000
DTSTAMP:20260423T230531
CREATED:20260115T152619Z
LAST-MODIFIED:20260115T152619Z
UID:10828-1768852800-1768856400@boirabaixa.cat
SUMMARY:Trobada oberta amb el veïnat
DESCRIPTION:
URL:https://boirabaixa.cat/esdeveniment/trobada-oberta-amb-el-veinat/
LOCATION:Casal Popular Boira Baixa\, Plaça Flama del Canigó\, 2\, Manlleu\, Països Catalans\, 08560
ATTACH;FMTTYPE=image/jpeg:https://boirabaixa.cat/wp-content/uploads/sites/36/2026/01/Trobada_post-scaled.jpg
ORGANIZER;CN="Casal Popular Boira Baixa":MAILTO:boirabaixa@gmail.com
END:VEVENT
BEGIN:VEVENT
DTSTART;TZID=Europe/Andorra:20260121T190000
DTEND;TZID=Europe/Andorra:20260121T210000
DTSTAMP:20260423T230531
CREATED:20251230T231736Z
LAST-MODIFIED:20260105T131345Z
UID:10734-1769022000-1769029200@boirabaixa.cat
SUMMARY:Glosa amb Oidà Manlleu (Cor de Carxofa)
DESCRIPTION:
URL:https://boirabaixa.cat/esdeveniment/glosa-amb-oida-manlleu-cor-de-carxofa-9/
LOCATION:Casal Popular Boira Baixa\, Plaça Flama del Canigó\, 2\, Manlleu\, Països Catalans\, 08560
ATTACH;FMTTYPE=image/jpeg:https://boirabaixa.cat/wp-content/uploads/sites/36/2025/01/Dc.-glosa.jpeg
END:VEVENT
BEGIN:VEVENT
DTSTART;TZID=Europe/Andorra:20260122T190000
DTEND;TZID=Europe/Andorra:20260122T203000
DTSTAMP:20260423T230531
CREATED:20251231T102002Z
LAST-MODIFIED:20260102T141025Z
UID:10742-1769108400-1769113800@boirabaixa.cat
SUMMARY:Col·loqui amb les integrants de la Global Sumud Flotilla Pilar Castillejo\, Sofia Peris\, Adrià Plazas i Ariadna Masmitjà "Masmi"
DESCRIPTION:
URL:https://boirabaixa.cat/esdeveniment/colloqui-amb-les-integrants-de-la-global-sumud-flotilla-pilar-castillejo-sofia-peris-adria-plazas-i-ariadna-masmitja-masmi/
LOCATION:Casal Popular Boira Baixa\, Plaça Flama del Canigó\, 2\, Manlleu\, Països Catalans\, 08560
ATTACH;FMTTYPE=image/jpeg:https://boirabaixa.cat/wp-content/uploads/sites/36/2025/12/Colloqui-Flotilla-post_LQ-2-scaled.jpg
ORGANIZER;CN="Casal Popular Boira Baixa":MAILTO:boirabaixa@gmail.com
END:VEVENT
BEGIN:VEVENT
DTSTART;TZID=Europe/Andorra:20260123T183000
DTEND;TZID=Europe/Andorra:20260123T200000
DTSTAMP:20260423T230531
CREATED:20251230T231421Z
LAST-MODIFIED:20260114T145347Z
UID:10728-1769193000-1769198400@boirabaixa.cat
SUMMARY:Primera trobada mensual sobre no-monogàmies i diversitats relacionals a Osona
DESCRIPTION:Espai de suport mutu\, aprenentatge i trobada.
URL:https://boirabaixa.cat/esdeveniment/primera-trobada-mensual-sobre-no-monogamies-i-diversitats-relacionals-a-osona/
LOCATION:Casal Popular Boira Baixa\, Plaça Flama del Canigó\, 2\, Manlleu\, Països Catalans\, 08560
ATTACH;FMTTYPE=image/jpeg:https://boirabaixa.cat/wp-content/uploads/sites/36/2025/12/Trobada_nomonogamies.jpeg
ORGANIZER;CN="Casal Popular Boira Baixa":MAILTO:boirabaixa@gmail.com
END:VEVENT
BEGIN:VEVENT
DTSTART;TZID=Europe/Andorra:20260123T223000
DTEND;TZID=Europe/Andorra:20260123T235900
DTSTAMP:20260423T230531
CREATED:20251230T231526Z
LAST-MODIFIED:20260105T122315Z
UID:10730-1769207400-1769212740@boirabaixa.cat
SUMMARY:Nit de jocs de taula: edició memòria
DESCRIPTION:
URL:https://boirabaixa.cat/esdeveniment/nit-de-jocs-de-taula-edicio-memoria/
LOCATION:Casal Popular Boira Baixa\, Plaça Flama del Canigó\, 2\, Manlleu\, Països Catalans\, 08560
ATTACH;FMTTYPE=image/jpeg:https://boirabaixa.cat/wp-content/uploads/sites/36/2025/12/Jocs_taula_23G_BB.jpeg
ORGANIZER;CN="Casal Popular Boira Baixa":MAILTO:boirabaixa@gmail.com
END:VEVENT
BEGIN:VEVENT
DTSTART;TZID=Europe/Andorra:20260125T190000
DTEND;TZID=Europe/Andorra:20260125T203000
DTSTAMP:20260423T230531
CREATED:20260101T213731Z
LAST-MODIFIED:20260115T154203Z
UID:10747-1769367600-1769373000@boirabaixa.cat
SUMMARY:Presentació del poemari "Paraules per ara i per (a)quí"\, de Clara Macaya
DESCRIPTION:Amb l’acompanyament musical de Jordi Macaya (viola).
URL:https://boirabaixa.cat/esdeveniment/presentacio-del-poemari-paraules-per-ara-i-per-aqui-de-clara-macaya/
LOCATION:Casal Popular Boira Baixa\, Plaça Flama del Canigó\, 2\, Manlleu\, Països Catalans\, 08560
ATTACH;FMTTYPE=image/jpeg:https://boirabaixa.cat/wp-content/uploads/sites/36/2026/01/Macaya-recital.jpeg
ORGANIZER;CN="Casal Popular Boira Baixa":MAILTO:boirabaixa@gmail.com
END:VEVENT
BEGIN:VEVENT
DTSTART;TZID=Europe/Andorra:20260128T190000
DTEND;TZID=Europe/Andorra:20260128T210000
DTSTAMP:20260423T230531
CREATED:20251230T231904Z
LAST-MODIFIED:20260105T131606Z
UID:10736-1769626800-1769634000@boirabaixa.cat
SUMMARY:Glosa amb Oidà Manlleu (Cor de Carxofa)
DESCRIPTION:
URL:https://boirabaixa.cat/esdeveniment/glosa-amb-oida-manlleu-cor-de-carxofa-10/
LOCATION:Casal Popular Boira Baixa\, Plaça Flama del Canigó\, 2\, Manlleu\, Països Catalans\, 08560
ATTACH;FMTTYPE=image/jpeg:https://boirabaixa.cat/wp-content/uploads/sites/36/2025/01/Dc.-glosa.jpeg
END:VEVENT
BEGIN:VEVENT
DTSTART;TZID=Europe/Andorra:20260130T190000
DTEND;TZID=Europe/Andorra:20260130T203000
DTSTAMP:20260423T230531
CREATED:20260101T213815Z
LAST-MODIFIED:20260104T135614Z
UID:10749-1769799600-1769805000@boirabaixa.cat
SUMMARY:Concert de Nara Ellis
DESCRIPTION:Fusió entre bossa nova i electrònica amb guitarra clàssica\, Vallès Occidental. Amb taquilla inversa.
URL:https://boirabaixa.cat/esdeveniment/concert-de-nara-ellis/
LOCATION:Casal Popular Boira Baixa\, Plaça Flama del Canigó\, 2\, Manlleu\, Països Catalans\, 08560
ATTACH;FMTTYPE=image/jpeg:https://boirabaixa.cat/wp-content/uploads/sites/36/2026/01/Concert_NaraEllis_BB_LQ-scaled.jpg
ORGANIZER;CN="Casal Popular Boira Baixa":MAILTO:boirabaixa@gmail.com
END:VEVENT
BEGIN:VEVENT
DTSTART;TZID=Europe/Andorra:20260131T130000
DTEND;TZID=Europe/Andorra:20260131T190000
DTSTAMP:20260423T230531
CREATED:20260120T230631Z
LAST-MODIFIED:20260128T220654Z
UID:10895-1769864400-1769886000@boirabaixa.cat
SUMMARY:Dinar de sidreria al bar-restaurant
DESCRIPTION:Reserves al 93 677 97 06 i a la barra del bar-restaurant.
URL:https://boirabaixa.cat/esdeveniment/dinar-de-sidreria-al-bar-restaurant-concert-de-the-rovers/
LOCATION:Casal Popular Boira Baixa\, Plaça Flama del Canigó\, 2\, Manlleu\, Països Catalans\, 08560
ATTACH;FMTTYPE=image/jpeg:https://boirabaixa.cat/wp-content/uploads/sites/36/2026/01/Post-dinar-sidreria_LQ-scaled.jpg
ORGANIZER;CN="Casal Popular Boira Baixa":MAILTO:boirabaixa@gmail.com
END:VEVENT
BEGIN:VEVENT
DTSTART;TZID=Europe/Andorra:20260131T170000
DTEND;TZID=Europe/Andorra:20260131T183000
DTSTAMP:20260423T230531
CREATED:20260128T220821Z
LAST-MODIFIED:20260128T220821Z
UID:10968-1769878800-1769884200@boirabaixa.cat
SUMMARY:Concert de The Rovers
DESCRIPTION:Trio de folk irlandès de la Vall del Ges. Amb taquilla inversa.
URL:https://boirabaixa.cat/esdeveniment/concert-de-the-rovers/
LOCATION:Casal Popular Boira Baixa\, Plaça Flama del Canigó\, 2\, Manlleu\, Països Catalans\, 08560
ATTACH;FMTTYPE=image/jpeg:https://boirabaixa.cat/wp-content/uploads/sites/36/2026/01/Concert-Rovers_LQ-scaled.jpg
ORGANIZER;CN="Casal Popular Boira Baixa":MAILTO:boirabaixa@gmail.com
END:VEVENT
BEGIN:VEVENT
DTSTART;TZID=Europe/Andorra:20260201T110000
DTEND;TZID=Europe/Andorra:20260201T133000
DTSTAMP:20260423T230531
CREATED:20260125T221442Z
LAST-MODIFIED:20260126T153519Z
UID:10933-1769943600-1769952600@boirabaixa.cat
SUMMARY:"Cures amb vermut"\, acte del Nou Congrés de Cultura Catalana
DESCRIPTION:
URL:https://boirabaixa.cat/esdeveniment/cures-amb-vermut-acte-del-nou-congres-de-cultura-catalana/
LOCATION:Casal Popular Boira Baixa\, Plaça Flama del Canigó\, 2\, Manlleu\, Països Catalans\, 08560
ATTACH;FMTTYPE=image/png:https://boirabaixa.cat/wp-content/uploads/sites/36/2026/01/Cartell-Manlleu-cures-complet.png
END:VEVENT
BEGIN:VEVENT
DTSTART;TZID=Europe/Andorra:20260201T180000
DTEND;TZID=Europe/Andorra:20260201T200000
DTSTAMP:20260423T230531
CREATED:20260121T231240Z
LAST-MODIFIED:20260121T231300Z
UID:10907-1769968800-1769976000@boirabaixa.cat
SUMMARY:Cicle solidari "Cinema des del riu fins al mar": projecció de "Bye Bye Tiberias"
DESCRIPTION:
URL:https://boirabaixa.cat/esdeveniment/cicle-solidari-cinema-des-del-riu-fins-al-mar-projeccio-de-bye-bye-tiberias/
LOCATION:Teatre Municipal de Manlleu\, Carrer del Pont\, 9\, Manlleu\, Barcelona\, 08560\, Espanya
ATTACH;FMTTYPE=image/jpeg:https://boirabaixa.cat/wp-content/uploads/sites/36/2026/01/Cinema_riumar.jpeg
END:VEVENT
BEGIN:VEVENT
DTSTART;TZID=Europe/Andorra:20260204T190000
DTEND;TZID=Europe/Andorra:20260204T210000
DTSTAMP:20260423T230531
CREATED:20251230T232005Z
LAST-MODIFIED:20260105T131653Z
UID:10738-1770231600-1770238800@boirabaixa.cat
SUMMARY:Glosa amb Oidà Manlleu (Cor de Carxofa)
DESCRIPTION:
URL:https://boirabaixa.cat/esdeveniment/glosa-amb-oida-manlleu-cor-de-carxofa-11/
LOCATION:Casal Popular Boira Baixa\, Plaça Flama del Canigó\, 2\, Manlleu\, Països Catalans\, 08560
ATTACH;FMTTYPE=image/jpeg:https://boirabaixa.cat/wp-content/uploads/sites/36/2025/01/Dc.-glosa.jpeg
END:VEVENT
BEGIN:VEVENT
DTSTART;TZID=Europe/Andorra:20260205T190000
DTEND;TZID=Europe/Andorra:20260205T203000
DTSTAMP:20260423T230531
CREATED:20260102T104804Z
LAST-MODIFIED:20260102T104804Z
UID:10752-1770318000-1770323400@boirabaixa.cat
SUMMARY:Col·loqui "La culpabilitat com a eina de dominació"\, sobre el llibre "Resistir a la culpabilització"
DESCRIPTION:Amb Maria Oller i Aina Sanllehí\, periodistes i membres de Tigre de Paper. Una conversa sobre el llibre Resistir a la culpabilització\, de Mona Chollet (Tigre de Paper\, 2025).
URL:https://boirabaixa.cat/esdeveniment/colloqui-la-culpabilitat-com-a-eina-de-dominacio-sobre-el-llibre-resistir-a-la-culpabilitzacio/
LOCATION:Casal Popular Boira Baixa\, Plaça Flama del Canigó\, 2\, Manlleu\, Països Catalans\, 08560
ATTACH;FMTTYPE=image/jpeg:https://boirabaixa.cat/wp-content/uploads/sites/36/2026/01/Resistir_culpabilitzacio_BB.jpeg
ORGANIZER;CN="Casal Popular Boira Baixa":MAILTO:boirabaixa@gmail.com
END:VEVENT
BEGIN:VEVENT
DTSTART;TZID=Europe/Andorra:20260207T210000
DTEND;TZID=Europe/Andorra:20260207T223000
DTSTAMP:20260423T230531
CREATED:20260130T203110Z
LAST-MODIFIED:20260131T211104Z
UID:10972-1770498000-1770503400@boirabaixa.cat
SUMMARY:Quarta assemblea de Fes-te Jove 2026
DESCRIPTION:
URL:https://boirabaixa.cat/esdeveniment/quarta-assemblea-de-fes-te-jove-2026/
LOCATION:Casal Popular Boira Baixa\, Plaça Flama del Canigó\, 2\, Manlleu\, Països Catalans\, 08560
ATTACH;FMTTYPE=image/jpeg:https://boirabaixa.cat/wp-content/uploads/sites/36/2026/01/Ass_FJ-7F.jpg
ORGANIZER;CN="Fes-te Jove":MAILTO:festejovemanlleu@gmail.com
END:VEVENT
BEGIN:VEVENT
DTSTART;TZID=Europe/Andorra:20260208T120000
DTEND;TZID=Europe/Andorra:20260208T133000
DTSTAMP:20260423T230531
CREATED:20260128T214903Z
LAST-MODIFIED:20260128T214903Z
UID:10942-1770552000-1770557400@boirabaixa.cat
SUMMARY:Vermut musical amb Agustí Palomares
DESCRIPTION:Acurada selecció musical de clàssics a càrrec de “l’Agustí d’El Mallot”.
URL:https://boirabaixa.cat/esdeveniment/vermut-musical-amb-agusti-palomares-2/
LOCATION:Casal Popular Boira Baixa\, Plaça Flama del Canigó\, 2\, Manlleu\, Països Catalans\, 08560
ATTACH;FMTTYPE=image/jpeg:https://boirabaixa.cat/wp-content/uploads/sites/36/2026/01/Post_vermut_Agusti_post_LQ-scaled.jpg
ORGANIZER;CN="Casal Popular Boira Baixa":MAILTO:boirabaixa@gmail.com
END:VEVENT
BEGIN:VEVENT
DTSTART;TZID=Europe/Andorra:20260208T183000
DTEND;TZID=Europe/Andorra:20260208T200000
DTSTAMP:20260423T230531
CREATED:20260128T215148Z
LAST-MODIFIED:20260201T220048Z
UID:10945-1770575400-1770580800@boirabaixa.cat
SUMMARY:Presentació del poemari "Marxa nupcial per a una psicosi"\, d'Erinau Brasó Rius
DESCRIPTION:Amb Erinau Brasó Rius (autora) i Assumpta Durà Guimerà. Tot seguit\, glosada.
URL:https://boirabaixa.cat/esdeveniment/presentacio-del-poemari-marxa-nupcial-per-a-una-psicosi-derinau-braso-rius/
LOCATION:Casal Popular Boira Baixa\, Plaça Flama del Canigó\, 2\, Manlleu\, Països Catalans\, 08560
ATTACH;FMTTYPE=image/jpeg:https://boirabaixa.cat/wp-content/uploads/sites/36/2026/01/Post_recital_Psicosi_LQ-scaled.jpg
ORGANIZER;CN="Casal Popular Boira Baixa":MAILTO:boirabaixa@gmail.com
END:VEVENT
BEGIN:VEVENT
DTSTART;TZID=Europe/Andorra:20260211T190000
DTEND;TZID=Europe/Andorra:20260211T210000
DTSTAMP:20260423T230531
CREATED:20251230T232049Z
LAST-MODIFIED:20260105T131436Z
UID:10740-1770836400-1770843600@boirabaixa.cat
SUMMARY:Glosa amb Oidà Manlleu (Cor de Carxofa)
DESCRIPTION:
URL:https://boirabaixa.cat/esdeveniment/glosa-amb-oida-manlleu-cor-de-carxofa-12/
LOCATION:Casal Popular Boira Baixa\, Plaça Flama del Canigó\, 2\, Manlleu\, Països Catalans\, 08560
ATTACH;FMTTYPE=image/jpeg:https://boirabaixa.cat/wp-content/uploads/sites/36/2025/01/Dc.-glosa.jpeg
END:VEVENT
BEGIN:VEVENT
DTSTART;TZID=Europe/Andorra:20260212T200000
DTEND;TZID=Europe/Andorra:20260212T230000
DTSTAMP:20260423T230531
CREATED:20260128T215308Z
LAST-MODIFIED:20260128T215308Z
UID:10948-1770926400-1770937200@boirabaixa.cat
SUMMARY:Sopar de Dijous Llarder al bar-restaurant
DESCRIPTION:Reserves al 93 677 97 06 i a la barra.
URL:https://boirabaixa.cat/esdeveniment/sopar-de-dijous-llarder-al-bar-restaurant/
LOCATION:Casal Popular Boira Baixa\, Plaça Flama del Canigó\, 2\, Manlleu\, Països Catalans\, 08560
ATTACH;FMTTYPE=image/jpeg:https://boirabaixa.cat/wp-content/uploads/sites/36/2026/01/Post_dijousllarder_LQ-scaled.jpg
ORGANIZER;CN="Casal Popular Boira Baixa":MAILTO:boirabaixa@gmail.com
END:VEVENT
BEGIN:VEVENT
DTSTART;TZID=Europe/Andorra:20260215T183000
DTEND;TZID=Europe/Andorra:20260215T200000
DTSTAMP:20260423T230531
CREATED:20260128T215617Z
LAST-MODIFIED:20260128T215617Z
UID:10951-1771180200-1771185600@boirabaixa.cat
SUMMARY:Xerrada: “La lluita pel dret a morir dignament”
DESCRIPTION:A càrrec de membres osonencs de l’Associació Dret a Morir Dignament de Catalunya. Organitzada conjuntament amb la CUP Manlleu.
URL:https://boirabaixa.cat/esdeveniment/xerrada-la-lluita-pel-dret-a-morir-dignament/
LOCATION:Casal Popular Boira Baixa\, Plaça Flama del Canigó\, 2\, Manlleu\, Països Catalans\, 08560
ATTACH;FMTTYPE=image/jpeg:https://boirabaixa.cat/wp-content/uploads/sites/36/2026/01/Dret-a-morir-post_LQ-scaled.jpg
ORGANIZER;CN="Casal Popular Boira Baixa":MAILTO:boirabaixa@gmail.com
END:VEVENT
BEGIN:VEVENT
DTSTART;TZID=Europe/Andorra:20260218T190000
DTEND;TZID=Europe/Andorra:20260218T203000
DTSTAMP:20260423T230531
CREATED:20260131T214512Z
LAST-MODIFIED:20260131T214512Z
UID:10991-1771441200-1771446600@boirabaixa.cat
SUMMARY:Glosa amb Oidà Manlleu (Cor de Carxofa)
DESCRIPTION:
URL:https://boirabaixa.cat/esdeveniment/glosa-amb-oida-manlleu-cor-de-carxofa-13/
LOCATION:Casal Popular Boira Baixa\, Plaça Flama del Canigó\, 2\, Manlleu\, Països Catalans\, 08560
ATTACH;FMTTYPE=image/jpeg:https://boirabaixa.cat/wp-content/uploads/sites/36/2025/01/Dc.-glosa.jpeg
END:VEVENT
END:VCALENDAR