BEGIN:VCALENDAR
VERSION:2.0
PRODID:-//BoiraBaixa - ECPv6.15.20//NONSGML v1.0//EN
CALSCALE:GREGORIAN
METHOD:PUBLISH
X-WR-CALNAME:BoiraBaixa
X-ORIGINAL-URL:https://boirabaixa.cat
X-WR-CALDESC:Esdeveniments per BoiraBaixa
REFRESH-INTERVAL;VALUE=DURATION:PT1H
X-Robots-Tag:noindex
X-PUBLISHED-TTL:PT1H
BEGIN:VTIMEZONE
TZID:Europe/Andorra
BEGIN:DAYLIGHT
TZOFFSETFROM:+0100
TZOFFSETTO:+0200
TZNAME:CEST
DTSTART:20250330T010000
END:DAYLIGHT
BEGIN:STANDARD
TZOFFSETFROM:+0200
TZOFFSETTO:+0100
TZNAME:CET
DTSTART:20251026T010000
END:STANDARD
BEGIN:DAYLIGHT
TZOFFSETFROM:+0100
TZOFFSETTO:+0200
TZNAME:CEST
DTSTART:20260329T010000
END:DAYLIGHT
BEGIN:STANDARD
TZOFFSETFROM:+0200
TZOFFSETTO:+0100
TZNAME:CET
DTSTART:20261025T010000
END:STANDARD
BEGIN:DAYLIGHT
TZOFFSETFROM:+0100
TZOFFSETTO:+0200
TZNAME:CEST
DTSTART:20270328T010000
END:DAYLIGHT
BEGIN:STANDARD
TZOFFSETFROM:+0200
TZOFFSETTO:+0100
TZNAME:CET
DTSTART:20271031T010000
END:STANDARD
END:VTIMEZONE
BEGIN:VEVENT
DTSTART;TZID=Europe/Andorra:20260311T190000
DTEND;TZID=Europe/Andorra:20260311T203000
DTSTAMP:20260423T230626
CREATED:20260131T214737Z
LAST-MODIFIED:20260131T214737Z
UID:10997-1773255600-1773261000@boirabaixa.cat
SUMMARY:Glosa amb Oidà Manlleu (Cor de Carxofa)
DESCRIPTION:
URL:https://boirabaixa.cat/esdeveniment/glosa-amb-oida-manlleu-cor-de-carxofa-16/
LOCATION:Casal Popular Boira Baixa\, Plaça Flama del Canigó\, 2\, Manlleu\, Països Catalans\, 08560
ATTACH;FMTTYPE=image/jpeg:https://boirabaixa.cat/wp-content/uploads/sites/36/2025/01/Dc.-glosa.jpeg
END:VEVENT
BEGIN:VEVENT
DTSTART;TZID=Europe/Andorra:20260313T220000
DTEND;TZID=Europe/Andorra:20260313T233000
DTSTAMP:20260423T230626
CREATED:20260306T181405Z
LAST-MODIFIED:20260307T163421Z
UID:11198-1773439200-1773444600@boirabaixa.cat
SUMMARY:Cinquena assemblea de Fes-te Jove 2026
DESCRIPTION:
URL:https://boirabaixa.cat/esdeveniment/cinquena-assemblea-de-fes-te-jove-2026/
LOCATION:Casal Popular Boira Baixa\, Plaça Flama del Canigó\, 2\, Manlleu\, Països Catalans\, 08560
ATTACH;FMTTYPE=image/jpeg:https://boirabaixa.cat/wp-content/uploads/sites/36/2026/03/5a_ass_FJ26.jpg
ORGANIZER;CN="Fes-te Jove":MAILTO:festejovemanlleu@gmail.com
END:VEVENT
BEGIN:VEVENT
DTSTART;TZID=Europe/Andorra:20260315T120000
DTEND;TZID=Europe/Andorra:20260315T190000
DTSTAMP:20260423T230626
CREATED:20260205T084127Z
LAST-MODIFIED:20260205T084127Z
UID:11073-1773576000-1773601200@boirabaixa.cat
SUMMARY:Calçotada manlleuenca 2026
DESCRIPTION:Tiquets a la venda a la barra del bar-restaurant Boira Baixa i a www.boirabaixa.cat/calcotadamanlleuenca fins al divendres 13 de març.
URL:https://boirabaixa.cat/esdeveniment/calcotada-manlleuenca-2026/
LOCATION:Plaça de Dalt Vila\, Plaça de Dalt Vila\, Manlleu\, Països Catalans\, 08560
ATTACH;FMTTYPE=image/jpeg:https://boirabaixa.cat/wp-content/uploads/sites/36/2026/02/Cartell_calcotada_manlleuenca26.jpeg
ORGANIZER;CN="Casal Popular Boira Baixa":MAILTO:boirabaixa@gmail.com
END:VEVENT
BEGIN:VEVENT
DTSTART;TZID=Europe/Andorra:20260318T190000
DTEND;TZID=Europe/Andorra:20260318T203000
DTSTAMP:20260423T230626
CREATED:20260131T214814Z
LAST-MODIFIED:20260131T214814Z
UID:10999-1773860400-1773865800@boirabaixa.cat
SUMMARY:Glosa amb Oidà Manlleu (Cor de Carxofa)
DESCRIPTION:
URL:https://boirabaixa.cat/esdeveniment/glosa-amb-oida-manlleu-cor-de-carxofa-17/
LOCATION:Casal Popular Boira Baixa\, Plaça Flama del Canigó\, 2\, Manlleu\, Països Catalans\, 08560
ATTACH;FMTTYPE=image/jpeg:https://boirabaixa.cat/wp-content/uploads/sites/36/2025/01/Dc.-glosa.jpeg
END:VEVENT
BEGIN:VEVENT
DTSTART;TZID=Europe/Andorra:20260319T200000
DTEND;TZID=Europe/Andorra:20260319T210000
DTSTAMP:20260423T230626
CREATED:20260225T205937Z
LAST-MODIFIED:20260302T181524Z
UID:11167-1773950400-1773954000@boirabaixa.cat
SUMMARY:Converses literàries: "La ciutat i la casa"\, de Natalia Ginzburg
DESCRIPTION:📖 “Una obra epistolar on Ginzburg retrata la desintegració de la família\, la crisi dels rols tradicionals\, la inseguretat dels fills\, les arrels simbolitzades per la casa; perquè ‘les cases es poden vendre o deixar a altres persones\, però sempre es conserven dins d’un mateix.'”
URL:https://boirabaixa.cat/esdeveniment/converses-literaries-la-ciutat-i-la-casa-de-natalia-ginzburg/
LOCATION:Casal Popular Boira Baixa\, Plaça Flama del Canigó\, 2\, Manlleu\, Països Catalans\, 08560
ATTACH;FMTTYPE=image/jpeg:https://boirabaixa.cat/wp-content/uploads/sites/36/2026/02/Converses_Ginzburg.jpeg
ORGANIZER;CN="Casal Popular Boira Baixa":MAILTO:boirabaixa@gmail.com
END:VEVENT
BEGIN:VEVENT
DTSTART;TZID=Europe/Andorra:20260320T190000
DTEND;TZID=Europe/Andorra:20260320T203000
DTSTAMP:20260423T230626
CREATED:20260225T210032Z
LAST-MODIFIED:20260311T211137Z
UID:11171-1774033200-1774038600@boirabaixa.cat
SUMMARY:Projecció de "Poetry Spam Volum III: La pel·lícula"
DESCRIPTION:Una ‘road-movie’ a la recerca de set poetes a través dels Països Catalans. Amb la presència de Joan Deusa i Juma B. Barratxina (directors).
URL:https://boirabaixa.cat/esdeveniment/projeccio-de-poetry-spam-volum-iii-la-pellicula/
LOCATION:Casal Popular Boira Baixa\, Plaça Flama del Canigó\, 2\, Manlleu\, Països Catalans\, 08560
ATTACH;FMTTYPE=image/jpeg:https://boirabaixa.cat/wp-content/uploads/sites/36/2026/02/Cartell-Poetry-Spam_LQ-scaled.jpg
ORGANIZER;CN="Casal Popular Boira Baixa":MAILTO:boirabaixa@gmail.com
END:VEVENT
BEGIN:VEVENT
DTSTART;TZID=Europe/Andorra:20260320T223000
DTEND;TZID=Europe/Andorra:20260320T235900
DTSTAMP:20260423T230626
CREATED:20260225T210109Z
LAST-MODIFIED:20260314T213231Z
UID:11173-1774045800-1774051140@boirabaixa.cat
SUMMARY:Nit de jocs de taula: edició números
DESCRIPTION:
URL:https://boirabaixa.cat/esdeveniment/nit-de-jocs-de-taula-edicio-numeros/
LOCATION:Casal Popular Boira Baixa\, Plaça Flama del Canigó\, 2\, Manlleu\, Països Catalans\, 08560
ATTACH;FMTTYPE=image/jpeg:https://boirabaixa.cat/wp-content/uploads/sites/36/2026/02/Jocs-de-taula_numeros.jpeg
ORGANIZER;CN="Casal Popular Boira Baixa":MAILTO:boirabaixa@gmail.com
END:VEVENT
BEGIN:VEVENT
DTSTART;TZID=Europe/Andorra:20260322T190000
DTEND;TZID=Europe/Andorra:20260322T203000
DTSTAMP:20260423T230626
CREATED:20260225T210149Z
LAST-MODIFIED:20260311T211237Z
UID:11175-1774206000-1774211400@boirabaixa.cat
SUMMARY:Concert del duet de Fernando Salinas i Mireia Pla
DESCRIPTION:Acordió i violoncel des de Manlleu. Melodies\, ritmes i cançons d’arreu\, una mica d’aquí i una mica d’allà: dels Balcans a l’Àfrica\, passant per Llatinoamèrica i el Mediterrani. Un viatge sonor per cultures ben diverses. Amb taquilla inversa.
URL:https://boirabaixa.cat/esdeveniment/concert-del-duet-de-fernando-salinas-i-mireia-pla/
LOCATION:Casal Popular Boira Baixa\, Plaça Flama del Canigó\, 2\, Manlleu\, Països Catalans\, 08560
ATTACH;FMTTYPE=image/jpeg:https://boirabaixa.cat/wp-content/uploads/sites/36/2026/02/Concert-Salinas-Pla_LQ-scaled.jpg
ORGANIZER;CN="Casal Popular Boira Baixa":MAILTO:boirabaixa@gmail.com
END:VEVENT
BEGIN:VEVENT
DTSTART;TZID=Europe/Andorra:20260325T190000
DTEND;TZID=Europe/Andorra:20260325T203000
DTSTAMP:20260423T230626
CREATED:20260131T214908Z
LAST-MODIFIED:20260131T214908Z
UID:11001-1774465200-1774470600@boirabaixa.cat
SUMMARY:Glosa amb Oidà Manlleu (Cor de Carxofa)
DESCRIPTION:
URL:https://boirabaixa.cat/esdeveniment/glosa-amb-oida-manlleu-cor-de-carxofa-18/
LOCATION:Casal Popular Boira Baixa\, Plaça Flama del Canigó\, 2\, Manlleu\, Països Catalans\, 08560
ATTACH;FMTTYPE=image/jpeg:https://boirabaixa.cat/wp-content/uploads/sites/36/2025/01/Dc.-glosa.jpeg
END:VEVENT
BEGIN:VEVENT
DTSTART;TZID=Europe/Andorra:20260327T183000
DTEND;TZID=Europe/Andorra:20260327T200000
DTSTAMP:20260423T230626
CREATED:20260131T214100Z
LAST-MODIFIED:20260314T085252Z
UID:10989-1774636200-1774641600@boirabaixa.cat
SUMMARY:Tercera trobada mensual sobre no-monogàmies i diversitats relacionals a Osona
DESCRIPTION:
URL:https://boirabaixa.cat/esdeveniment/tercera-trobada-mensual-sobre-no-monogamies-i-diversitats-relacionals-a-osona/
LOCATION:Casal Popular Boira Baixa\, Plaça Flama del Canigó\, 2\, Manlleu\, Països Catalans\, 08560
ATTACH;FMTTYPE=image/jpeg:https://boirabaixa.cat/wp-content/uploads/sites/36/2026/01/Trobada_marc_nomonogamies.jpeg
ORGANIZER;CN="Casal Popular Boira Baixa":MAILTO:boirabaixa@gmail.com
END:VEVENT
BEGIN:VEVENT
DTSTART;TZID=Europe/Andorra:20260327T183000
DTEND;TZID=Europe/Andorra:20260327T200000
DTSTAMP:20260423T230626
CREATED:20260225T210304Z
LAST-MODIFIED:20260308T203211Z
UID:11177-1774636200-1774641600@boirabaixa.cat
SUMMARY:Projecció del documental "Dreams behind the wall"
DESCRIPTION:Audiovisual sobre la vida a Palestina des de la mirada dels infants. Tot seguit\, col·loqui amb el periodista de la Franja de Gaza Kayed Hammad.
URL:https://boirabaixa.cat/esdeveniment/projeccio-del-documental-dreams-behind-the-wall/
LOCATION:Casal Popular Boira Baixa\, Plaça Flama del Canigó\, 2\, Manlleu\, Països Catalans\, 08560
ATTACH;FMTTYPE=image/jpeg:https://boirabaixa.cat/wp-content/uploads/sites/36/2026/02/Kayed-Hammad.jpeg
ORGANIZER;CN="Casal Popular Boira Baixa":MAILTO:boirabaixa@gmail.com
END:VEVENT
BEGIN:VEVENT
DTSTART;TZID=Europe/Andorra:20260329T120000
DTEND;TZID=Europe/Andorra:20260329T133000
DTSTAMP:20260423T230626
CREATED:20260316T195322Z
LAST-MODIFIED:20260316T195322Z
UID:11276-1774785600-1774791000@boirabaixa.cat
SUMMARY:Col·loqui "El tren i Rodalies: una infraestructura del passat per on passa el futur"
DESCRIPTION:Amb la participació dels enginyers Arnau Comajoan Cara i Ricard Comajoan Pujol.
URL:https://boirabaixa.cat/esdeveniment/colloqui-el-tren-i-rodalies-una-infraestructura-del-passat-per-on-passa-el-futur/
LOCATION:Casal Popular Boira Baixa\, Plaça Flama del Canigó\, 2\, Manlleu\, Països Catalans\, 08560
ATTACH;FMTTYPE=image/jpeg:https://boirabaixa.cat/wp-content/uploads/sites/36/2026/03/Post-colloqui-comajoans-LQ-scaled.jpg
END:VEVENT
BEGIN:VEVENT
DTSTART;TZID=Europe/Andorra:20260406T133000
DTEND;TZID=Europe/Andorra:20260406T140000
DTSTAMP:20260423T230626
CREATED:20260405T182500Z
LAST-MODIFIED:20260405T182517Z
UID:11331-1775482200-1775484000@boirabaixa.cat
SUMMARY:Parada final de la cantada de caramelles de la Coral Serpencanta
DESCRIPTION:Acollim la parada final de la cantada de caramelles impulsada per la Coral Serpencanta\, que començarà a 2/4 d’11 del matí a la pl. St. Antoni i acabarà al Boira Baixa a 2/4 de 2del migdia. Mantenim vives les tradicions!
URL:https://boirabaixa.cat/esdeveniment/final-de-la-cantada-de-caramelles-de-la-coral-serpencanta/
LOCATION:Casal Popular Boira Baixa\, Plaça Flama del Canigó\, 2\, Manlleu\, Països Catalans\, 08560
ATTACH;FMTTYPE=image/jpeg:https://boirabaixa.cat/wp-content/uploads/sites/36/2026/04/Post-especial-Pasqua-caramelles-1-scaled.jpg
END:VEVENT
BEGIN:VEVENT
DTSTART;TZID=Europe/Andorra:20260410T210000
DTEND;TZID=Europe/Andorra:20260410T223000
DTSTAMP:20260423T230626
CREATED:20260329T160324Z
LAST-MODIFIED:20260401T171848Z
UID:11280-1775854800-1775860200@boirabaixa.cat
SUMMARY:Concert de Jaç Voraç | Inauguració de la temporada d’activitats a la terrassa!
DESCRIPTION:Trio de reggae osonenc que galopa pels prats del punk. Entrada lliure amb taquilla inversa.
URL:https://boirabaixa.cat/esdeveniment/inauguracio-de-la-temporada-dactivitats-a-la-terrassa-concert-de-jac-vorac/
LOCATION:Casal Popular Boira Baixa\, Plaça Flama del Canigó\, 2\, Manlleu\, Països Catalans\, 08560
ATTACH;FMTTYPE=image/jpeg:https://boirabaixa.cat/wp-content/uploads/sites/36/2026/03/Concert-Jac-Vorac-BB_LQ-scaled.jpg
ORGANIZER;CN="Casal Popular Boira Baixa":MAILTO:boirabaixa@gmail.com
END:VEVENT
BEGIN:VEVENT
DTSTART;TZID=Europe/Andorra:20260411T120000
DTEND;TZID=Europe/Andorra:20260411T133000
DTSTAMP:20260423T230626
CREATED:20260329T160403Z
LAST-MODIFIED:20260401T220415Z
UID:11282-1775908800-1775914200@boirabaixa.cat
SUMMARY:Concert-vermut amb Closca de festuk
DESCRIPTION:Trio de veus\, dues guitarres i una bateria amb cançons pròpies de cantautor des d’Arenys de Munt. Un viatge humorístic per reflexionar sobre la quotidianitat actual. Entrada lliure amb taquilla inversa.
URL:https://boirabaixa.cat/esdeveniment/concert-vermut-amb-closca-de-festuk/
LOCATION:Casal Popular Boira Baixa\, Plaça Flama del Canigó\, 2\, Manlleu\, Països Catalans\, 08560
ATTACH;FMTTYPE=image/jpeg:https://boirabaixa.cat/wp-content/uploads/sites/36/2026/03/Concert-Closca-Festuk-BB_LQ-1-scaled.jpg
ORGANIZER;CN="Casal Popular Boira Baixa":MAILTO:boirabaixa@gmail.com
END:VEVENT
BEGIN:VEVENT
DTSTART;TZID=Europe/Andorra:20260412T183000
DTEND;TZID=Europe/Andorra:20260412T200000
DTSTAMP:20260423T230626
CREATED:20260329T160701Z
LAST-MODIFIED:20260401T115912Z
UID:11284-1776018600-1776024000@boirabaixa.cat
SUMMARY:Projecció del documental "Sal a la ferida. Israel Chemical Limited i la guerra per l'aigua a Catalunya"
DESCRIPTION:Audiovisual que explora críticament els impactes ecosocials i laborals de la multinacional israeliana ICL a la comarca del Bages i la seva vinculació amb el conflicte a Palestina. Amb el suport del diari El Salto\, autor del film.
URL:https://boirabaixa.cat/esdeveniment/projeccio-del-documental-sal-a-la-ferida-israel-chemical-limited-i-la-guerra-per-laigua-a-catalunya/
LOCATION:Casal Popular Boira Baixa\, Plaça Flama del Canigó\, 2\, Manlleu\, Països Catalans\, 08560
ATTACH;FMTTYPE=image/jpeg:https://boirabaixa.cat/wp-content/uploads/sites/36/2026/03/Sal_ferida.jpeg
ORGANIZER;CN="Casal Popular Boira Baixa":MAILTO:boirabaixa@gmail.com
END:VEVENT
BEGIN:VEVENT
DTSTART;TZID=Europe/Andorra:20260416T200000
DTEND;TZID=Europe/Andorra:20260416T210000
DTSTAMP:20260423T230626
CREATED:20260329T160948Z
LAST-MODIFIED:20260329T160948Z
UID:11286-1776369600-1776373200@boirabaixa.cat
SUMMARY:Converses literàries: "Quanta\, quanta guerra..."\, de Mercè Rodoreda
DESCRIPTION:🌹Amb l’arribada de la primavera\, aprofitem per tornar a llegir una novel·la de Mercè Rodoreda. Aquest mes d’abril ens endinsarem a Quanta\, quanta guerra…\, avançant a poc a poc amb la voluntat de recórrer tota la seva obra. \n📖 La darrera novel·la que va escriure Rodoreda és un seguit de rondalles explicades per un adolescent que aprofita la guerra per fugir de casa. L’autora el descriu al pròleg com “un noi encara amb la llet als llavis\, que\, com als poetes\, tot el que veu el deixa sorprès”. \n📚 Us esperem el 16 d’abril a les 20h a les converses literàries del Casal Popular Boira Baixa! \nI recordeu que us podeu apuntar a venir a veure l’exposició de Rodoreda al CCCB amb nosaltres! 🎨
URL:https://boirabaixa.cat/esdeveniment/converses-literaries-quanta-quanta-guerra-de-merce-rodoreda/
LOCATION:Casal Popular Boira Baixa\, Plaça Flama del Canigó\, 2\, Manlleu\, Països Catalans\, 08560
ATTACH;FMTTYPE=image/jpeg:https://boirabaixa.cat/wp-content/uploads/sites/36/2026/03/Converes_Rodoreda.jpeg
ORGANIZER;CN="Casal Popular Boira Baixa":MAILTO:boirabaixa@gmail.com
END:VEVENT
BEGIN:VEVENT
DTSTART;TZID=Europe/Andorra:20260417T210000
DTEND;TZID=Europe/Andorra:20260417T223000
DTSTAMP:20260423T230626
CREATED:20260405T162636Z
LAST-MODIFIED:20260412T174947Z
UID:11329-1776459600-1776465000@boirabaixa.cat
SUMMARY:Sisena assemblea de Fes-te Jove 2026
DESCRIPTION:
URL:https://boirabaixa.cat/esdeveniment/sisena-assemblea-de-fes-te-jove-2026/
LOCATION:Casal Popular Boira Baixa\, Plaça Flama del Canigó\, 2\, Manlleu\, Països Catalans\, 08560
ATTACH;FMTTYPE=image/jpeg:https://boirabaixa.cat/wp-content/uploads/sites/36/2026/04/Sisena-assemblea-FJ26.jpeg
ORGANIZER;CN="Fes-te Jove":MAILTO:festejovemanlleu@gmail.com
END:VEVENT
BEGIN:VEVENT
DTSTART;TZID=Europe/Andorra:20260417T223000
DTEND;TZID=Europe/Andorra:20260417T235900
DTSTAMP:20260423T230626
CREATED:20260329T161238Z
LAST-MODIFIED:20260403T195429Z
UID:11289-1776465000-1776470340@boirabaixa.cat
SUMMARY:Nit de jocs de taula: edició dibuix
DESCRIPTION:
URL:https://boirabaixa.cat/esdeveniment/nit-de-jocs-de-taula-edicio-dibuix/
LOCATION:Casal Popular Boira Baixa\, Plaça Flama del Canigó\, 2\, Manlleu\, Països Catalans\, 08560
ATTACH;FMTTYPE=image/jpeg:https://boirabaixa.cat/wp-content/uploads/sites/36/2026/03/Nit-jocs-taula_dibuix_LQ-1.jpeg
ORGANIZER;CN="Casal Popular Boira Baixa":MAILTO:boirabaixa@gmail.com
END:VEVENT
BEGIN:VEVENT
DTSTART;TZID=Europe/Andorra:20260419T180000
DTEND;TZID=Europe/Andorra:20260419T193000
DTSTAMP:20260423T230626
CREATED:20260329T161317Z
LAST-MODIFIED:20260405T155511Z
UID:11291-1776621600-1776627000@boirabaixa.cat
SUMMARY:Concert-ball folk amb Les incògnites
DESCRIPTION:Veus\, acordió diatònic i percussions des de Girona. Cançons tradicionals dels Països Catalans\, temes propis i poemes musicats d’autores catalanes. Entrada lliure amb taquilla inversa.
URL:https://boirabaixa.cat/esdeveniment/concert-ball-folk-amb-les-incognites/
LOCATION:Casal Popular Boira Baixa\, Plaça Flama del Canigó\, 2\, Manlleu\, Països Catalans\, 08560
ATTACH;FMTTYPE=image/jpeg:https://boirabaixa.cat/wp-content/uploads/sites/36/2026/03/Concert-incognites_LQ-scaled.jpg
ORGANIZER;CN="Casal Popular Boira Baixa":MAILTO:boirabaixa@gmail.com
END:VEVENT
BEGIN:VEVENT
DTSTART;TZID=Europe/Andorra:20260423T083000
DTEND;TZID=Europe/Andorra:20260423T200000
DTSTAMP:20260423T230626
CREATED:20260329T161428Z
LAST-MODIFIED:20260412T185950Z
UID:11293-1776933000-1776974400@boirabaixa.cat
SUMMARY:Sant Jordi: parada de roses\, llibres i més
DESCRIPTION:Durant tot el dia\, a la plaça Fra Bernadí de Manlleu. Consulta el catàleg de productes complet a www.boirabaixa.cat/santjordi26!
URL:https://boirabaixa.cat/esdeveniment/sant-jordi-parada-de-roses-llibres-i-mes/
LOCATION:Plaça Fra Berndí\, Plaça Fra Bernadí\, Manlleu\, Països Catalans\, 08560\, Espanya
ATTACH;FMTTYPE=image/jpeg:https://boirabaixa.cat/wp-content/uploads/sites/36/2026/04/StJordi26_BB_superLQ-1.jpeg
ORGANIZER;CN="Casal Popular Boira Baixa":MAILTO:boirabaixa@gmail.com
END:VEVENT
BEGIN:VEVENT
DTSTART;TZID=Europe/Andorra:20260423T120000
DTEND;TZID=Europe/Andorra:20260423T230000
DTSTAMP:20260423T230626
CREATED:20260412T185638Z
LAST-MODIFIED:20260412T185653Z
UID:11381-1776945600-1776985200@boirabaixa.cat
SUMMARY:Sant Jordi: bar-restaurant obert tot el dia (12h-23h)
DESCRIPTION:Amb servei de vermuts\, dinars\, berenars i sopars\, obertura continuada de 12 del migdia a 11 de la nit. Reserves al 93 677 97 06.
URL:https://boirabaixa.cat/esdeveniment/sant-jordi-bar-restaurant-obert-tot-el-dia/
LOCATION:Casal Popular Boira Baixa\, Plaça Flama del Canigó\, 2\, Manlleu\, Països Catalans\, 08560
ATTACH;FMTTYPE=image/jpeg:https://boirabaixa.cat/wp-content/uploads/sites/36/2026/04/StJordi26_BB_superLQ-1.jpeg
ORGANIZER;CN="Casal Popular Boira Baixa":MAILTO:boirabaixa@gmail.com
END:VEVENT
BEGIN:VEVENT
DTSTART;TZID=Europe/Andorra:20260423T180000
DTEND;TZID=Europe/Andorra:20260423T190000
DTSTAMP:20260423T230626
CREATED:20260329T161501Z
LAST-MODIFIED:20260412T185818Z
UID:11295-1776967200-1776970800@boirabaixa.cat
SUMMARY:Sant Jordi: "A tota veu". Recital col·laboratiu de poemes d’autores i autors d’Osona i el Lluçanès
DESCRIPTION:Acte organitzat conjuntament amb Òmnium Osona-Lluçanès.
URL:https://boirabaixa.cat/esdeveniment/sant-jordi-recital-collaboratiu-de-poemes-dautores-i-autors-dosona-i-el-llucanes/
LOCATION:Casal Popular Boira Baixa\, Plaça Flama del Canigó\, 2\, Manlleu\, Països Catalans\, 08560
ATTACH;FMTTYPE=image/jpeg:https://boirabaixa.cat/wp-content/uploads/sites/36/2026/04/StJordi26_BB_superLQ-1.jpeg
ORGANIZER;CN="Casal Popular Boira Baixa":MAILTO:boirabaixa@gmail.com
END:VEVENT
BEGIN:VEVENT
DTSTART;TZID=Europe/Andorra:20260423T190000
DTEND;TZID=Europe/Andorra:20260423T203000
DTSTAMP:20260423T230626
CREATED:20260329T161537Z
LAST-MODIFIED:20260412T185842Z
UID:11297-1776970800-1776976200@boirabaixa.cat
SUMMARY:Sant Jordi: Glosada especial amb Cor de Carxofa
DESCRIPTION:
URL:https://boirabaixa.cat/esdeveniment/sant-jordi-glosada-especial-amb-cor-de-carxofa/
LOCATION:Casal Popular Boira Baixa\, Plaça Flama del Canigó\, 2\, Manlleu\, Països Catalans\, 08560
ATTACH;FMTTYPE=image/jpeg:https://boirabaixa.cat/wp-content/uploads/sites/36/2026/04/StJordi26_BB_superLQ-1.jpeg
ORGANIZER;CN="Casal Popular Boira Baixa":MAILTO:boirabaixa@gmail.com
END:VEVENT
BEGIN:VEVENT
DTSTART;TZID=Europe/Andorra:20260424T180000
DTEND;TZID=Europe/Andorra:20260424T193000
DTSTAMP:20260423T230626
CREATED:20260329T161619Z
LAST-MODIFIED:20260403T195558Z
UID:11299-1777053600-1777059000@boirabaixa.cat
SUMMARY:Jam session de l’Escola de Música Municipal de Manlleu
DESCRIPTION:
URL:https://boirabaixa.cat/esdeveniment/jam-session-de-lescola-de-musica-municipal-de-manlleu/
LOCATION:Casal Popular Boira Baixa\, Plaça Flama del Canigó\, 2\, Manlleu\, Països Catalans\, 08560
ATTACH;FMTTYPE=image/jpeg:https://boirabaixa.cat/wp-content/uploads/sites/36/2026/03/Jam-Session-EMMM-BB_LQ-scaled.jpg
END:VEVENT
BEGIN:VEVENT
DTSTART;TZID=Europe/Andorra:20260424T183000
DTEND;TZID=Europe/Andorra:20260424T200000
DTSTAMP:20260423T230626
CREATED:20260329T161735Z
LAST-MODIFIED:20260414T205950Z
UID:11301-1777055400-1777060800@boirabaixa.cat
SUMMARY:Quarta trobada mensual sobre no-monogàmies i diversitats relacionals a Osona
DESCRIPTION:Espai de suport mutu\, aprenentatge i trobada. \nTens inquietuds quant a les teves relacions íntimes i/o romàntiques? Et qüestiones les relacions monògames i vols fer-ho diferent? Vine i parlem-ne\, des d’una perspectiva feminista\, social i política!
URL:https://boirabaixa.cat/esdeveniment/quarta-trobada-mensual-sobre-no-monogamies-i-diversitats-relacionals-a-osona/
LOCATION:Casal Popular Boira Baixa\, Plaça Flama del Canigó\, 2\, Manlleu\, Països Catalans\, 08560
ATTACH;FMTTYPE=image/jpeg:https://boirabaixa.cat/wp-content/uploads/sites/36/2026/03/No_monogamies_abril.jpeg
ORGANIZER;CN="Casal Popular Boira Baixa":MAILTO:boirabaixa@gmail.com
END:VEVENT
BEGIN:VEVENT
DTSTART;TZID=Europe/Andorra:20260426T103000
DTEND;TZID=Europe/Andorra:20260426T120000
DTSTAMP:20260423T230626
CREATED:20260329T161813Z
LAST-MODIFIED:20260401T115800Z
UID:11303-1777199400-1777204800@boirabaixa.cat
SUMMARY:Assemblea General de Sòcies i Socis de Fes-te Jove
DESCRIPTION:
URL:https://boirabaixa.cat/esdeveniment/assemblea-general-de-socies-i-socis-de-fes-te-jove/
LOCATION:Casal Popular Boira Baixa\, Plaça Flama del Canigó\, 2\, Manlleu\, Països Catalans\, 08560
ATTACH;FMTTYPE=image/png:https://boirabaixa.cat/wp-content/uploads/sites/36/2026/03/Ass_socies_FJ.png
ORGANIZER;CN="Fes-te Jove":MAILTO:festejovemanlleu@gmail.com
END:VEVENT
END:VCALENDAR