BEGIN:VCALENDAR
VERSION:2.0
PRODID:-//BoiraBaixa - ECPv6.15.20//NONSGML v1.0//EN
CALSCALE:GREGORIAN
METHOD:PUBLISH
X-ORIGINAL-URL:https://boirabaixa.cat
X-WR-CALDESC:Esdeveniments per BoiraBaixa
REFRESH-INTERVAL;VALUE=DURATION:PT1H
X-Robots-Tag:noindex
X-PUBLISHED-TTL:PT1H
BEGIN:VTIMEZONE
TZID:Europe/Andorra
BEGIN:DAYLIGHT
TZOFFSETFROM:+0100
TZOFFSETTO:+0200
TZNAME:CEST
DTSTART:20240331T010000
END:DAYLIGHT
BEGIN:STANDARD
TZOFFSETFROM:+0200
TZOFFSETTO:+0100
TZNAME:CET
DTSTART:20241027T010000
END:STANDARD
BEGIN:DAYLIGHT
TZOFFSETFROM:+0100
TZOFFSETTO:+0200
TZNAME:CEST
DTSTART:20250330T010000
END:DAYLIGHT
BEGIN:STANDARD
TZOFFSETFROM:+0200
TZOFFSETTO:+0100
TZNAME:CET
DTSTART:20251026T010000
END:STANDARD
BEGIN:DAYLIGHT
TZOFFSETFROM:+0100
TZOFFSETTO:+0200
TZNAME:CEST
DTSTART:20260329T010000
END:DAYLIGHT
BEGIN:STANDARD
TZOFFSETFROM:+0200
TZOFFSETTO:+0100
TZNAME:CET
DTSTART:20261025T010000
END:STANDARD
END:VTIMEZONE
BEGIN:VEVENT
DTSTART;TZID=Europe/Andorra:20250709T190000
DTEND;TZID=Europe/Andorra:20250709T210000
DTSTAMP:20260425T015051
CREATED:20250625T140719Z
LAST-MODIFIED:20250626T134036Z
UID:9014-1752087600-1752094800@boirabaixa.cat
SUMMARY:"Glosa de lluna" amb Cor de Carxofa: edició "Castanyada"
DESCRIPTION:Ens torrem (amb el sol) com les castanyes.
URL:https://boirabaixa.cat/esdeveniment/glosa-de-lluna-amb-cor-de-carxofa-edicio-castanyada/
LOCATION:Casal Popular Boira Baixa\, Plaça Flama del Canigó\, 2\, Manlleu\, Països Catalans\, 08560
CATEGORIES:Glosa de lluna
ATTACH;FMTTYPE=image/png:https://boirabaixa.cat/wp-content/uploads/sites/36/2025/05/Glosa-de-lluna-1.png
END:VEVENT
BEGIN:VEVENT
DTSTART;TZID=Europe/Andorra:20250709T220000
DTEND;TZID=Europe/Andorra:20250709T230000
DTSTAMP:20260425T015051
CREATED:20250630T082352Z
LAST-MODIFIED:20250703T135212Z
UID:9093-1752098400-1752102000@boirabaixa.cat
SUMMARY:Estrena del vídeo-resum de les XVII 12 hores de glosa a Manlleu
DESCRIPTION:
URL:https://boirabaixa.cat/esdeveniment/estrena-del-video-resum-de-les-xvii-12-hores-de-glosa-a-manlleu-2/
LOCATION:Casal Popular Boira Baixa\, Plaça Flama del Canigó\, 2\, Manlleu\, Països Catalans\, 08560
ATTACH;FMTTYPE=image/jpeg:https://boirabaixa.cat/wp-content/uploads/sites/36/2025/06/Estrena_video_12h.jpeg
ORGANIZER;CN="Casal Popular Boira Baixa":MAILTO:boirabaixa@gmail.com
END:VEVENT
BEGIN:VEVENT
DTSTART;TZID=Europe/Andorra:20250710T220000
DTEND;TZID=Europe/Andorra:20250710T235900
DTSTAMP:20260425T015051
CREATED:20250625T132116Z
LAST-MODIFIED:20250625T135322Z
UID:8973-1752184800-1752191940@boirabaixa.cat
SUMMARY:Festival de Cinema a la Fresca Manlleu: "Des Teufels Bad"
DESCRIPTION:Obertura de portes i menú especial per sopar a partir de les 20h. Projecció de Des Teufels Bad (Àustria\, 2024)\, a les 22h.
URL:https://boirabaixa.cat/esdeveniment/festival-de-cinema-a-la-fresca-manlleu-des-teufels-bad/
LOCATION:Casal Popular Boira Baixa\, Plaça Flama del Canigó\, 2\, Manlleu\, Països Catalans\, 08560
ATTACH;FMTTYPE=image/jpeg:https://boirabaixa.cat/wp-content/uploads/sites/36/2025/06/Cinema_fresca.jpg
END:VEVENT
BEGIN:VEVENT
DTSTART;TZID=Europe/Andorra:20250712T190000
DTEND;TZID=Europe/Andorra:20250712T203000
DTSTAMP:20260425T015051
CREATED:20250625T132305Z
LAST-MODIFIED:20250714T071519Z
UID:8975-1752346800-1752352200@boirabaixa.cat
SUMMARY:"L’Arrabassada": pòdcast en directe. Amb Pep Musté com a convidat
DESCRIPTION:L’Arrabassada: pòdcast en directe. Amb Pep Musté\, històric militant de l’Esquerra Independentista d’Osona\, com a convidat.
URL:https://boirabaixa.cat/esdeveniment/larrabassada-podcast-en-directe-amb-pep-muste-com-a-convidat/
LOCATION:Casal Popular Boira Baixa\, Plaça Flama del Canigó\, 2\, Manlleu\, Països Catalans\, 08560
ATTACH;FMTTYPE=image/jpeg:https://boirabaixa.cat/wp-content/uploads/sites/36/2025/06/Arrabassada_BB.jpeg
ORGANIZER;CN="Casal Popular Boira Baixa":MAILTO:boirabaixa@gmail.com
END:VEVENT
BEGIN:VEVENT
DTSTART;TZID=Europe/Andorra:20250713T190000
DTEND;TZID=Europe/Andorra:20250713T203000
DTSTAMP:20260425T015051
CREATED:20250625T132359Z
LAST-MODIFIED:20250707T183753Z
UID:8978-1752433200-1752438600@boirabaixa.cat
SUMMARY:Concert d’Olivier Martorell
DESCRIPTION:Concert d’Oliver Martorell\, saxofonista manlleuenc.
URL:https://boirabaixa.cat/esdeveniment/concert-doliver-martorell/
LOCATION:Casal Popular Boira Baixa\, Plaça Flama del Canigó\, 2\, Manlleu\, Països Catalans\, 08560
ATTACH;FMTTYPE=image/jpeg:https://boirabaixa.cat/wp-content/uploads/sites/36/2025/06/Concert_Olivier-1.jpeg
ORGANIZER;CN="Casal Popular Boira Baixa":MAILTO:boirabaixa@gmail.com
END:VEVENT
BEGIN:VEVENT
DTSTART;TZID=Europe/Andorra:20250715T180000
DTEND;TZID=Europe/Andorra:20250715T200000
DTSTAMP:20260425T015051
CREATED:20250626T124047Z
LAST-MODIFIED:20250702T080733Z
UID:9036-1752602400-1752609600@boirabaixa.cat
SUMMARY:Dimarts en família: espai de joc per a infants
DESCRIPTION:Tardes en família: els dimarts a la tarda\, el Boira Baixa es converteix en un espai de joc per a infants! Si ho vols\, porta alguna joguina per compartir.
URL:https://boirabaixa.cat/esdeveniment/dimarts-en-familia-espai-de-joc-per-a-infants-3/
LOCATION:Casal Popular Boira Baixa\, Plaça Flama del Canigó\, 2\, Manlleu\, Països Catalans\, 08560
ATTACH;FMTTYPE=image/jpeg:https://boirabaixa.cat/wp-content/uploads/sites/36/2025/06/Dimarts_familia.jpeg
ORGANIZER;CN="Casal Popular Boira Baixa":MAILTO:boirabaixa@gmail.com
END:VEVENT
BEGIN:VEVENT
DTSTART;TZID=Europe/Andorra:20250715T190000
DTEND;TZID=Europe/Andorra:20250715T201500
DTSTAMP:20260425T015051
CREATED:20250625T132604Z
LAST-MODIFIED:20250626T184203Z
UID:8981-1752606000-1752610500@boirabaixa.cat
SUMMARY:Presentació del llibre "Alimentar la bèstia. Pressió estètica i ordre patriarcal"\, d'Elena Crespi
DESCRIPTION:Presentació del llibre Alimentar la bèstia. Pressió estètica i ordre patriarcal. Amb la seva autora\, Elena Crespi\, psicòloga i sexòloga\, que en conversarà amb Maria Oller\, de l’editorial Tigre de Paper.
URL:https://boirabaixa.cat/esdeveniment/presentacio-del-llibre-alimentar-la-bestia-pressio-estetica-i-ordre-patriarcal-delena-crespi/
LOCATION:Països Catalans
ATTACH;FMTTYPE=image/jpeg:https://boirabaixa.cat/wp-content/uploads/sites/36/2025/06/Alimentar-la-bestia_BB.jpeg
END:VEVENT
BEGIN:VEVENT
DTSTART;TZID=Europe/Andorra:20250716T190000
DTEND;TZID=Europe/Andorra:20250716T210000
DTSTAMP:20260425T015051
CREATED:20250625T140807Z
LAST-MODIFIED:20250626T134235Z
UID:9016-1752692400-1752699600@boirabaixa.cat
SUMMARY:"Glosa de lluna" amb Cor de Carxofa: edició "Festa Major"
DESCRIPTION:
URL:https://boirabaixa.cat/esdeveniment/glosa-de-lluna-amb-cor-de-carxofa-edicio-festa-major/
LOCATION:Casal Popular Boira Baixa\, Plaça Flama del Canigó\, 2\, Manlleu\, Països Catalans\, 08560
CATEGORIES:Glosa de lluna
ATTACH;FMTTYPE=image/png:https://boirabaixa.cat/wp-content/uploads/sites/36/2025/05/Glosa-de-lluna-1.png
END:VEVENT
BEGIN:VEVENT
DTSTART;TZID=Europe/Andorra:20250716T193000
DTEND;TZID=Europe/Andorra:20250716T210000
DTSTAMP:20260425T015051
CREATED:20250625T132652Z
LAST-MODIFIED:20250708T130454Z
UID:8983-1752694200-1752699600@boirabaixa.cat
SUMMARY:“Debat a bat”: grup de formació\, lectura i debat. "Jo\, abans que tothom? Cultura militant contra l'onada reaccionària”
DESCRIPTION:“Debat a bat”: grup de formació\, lectura i debat. “Jo\, abans que tothom? Cultura militant contra l’onada reaccionària.”. Més informació\, a www.boirabaixa.cat/debatabat.
URL:https://boirabaixa.cat/esdeveniment/debat-a-bat-grup-de-formacio-lectura-i-debat-jo-abans-que-tothom-cultura-militant-contra-lonada-reaccionaria/
LOCATION:Casal Popular Boira Baixa\, Plaça Flama del Canigó\, 2\, Manlleu\, Països Catalans\, 08560
ATTACH;FMTTYPE=image/jpeg:https://boirabaixa.cat/wp-content/uploads/sites/36/2025/06/1asessio_debatabat.jpeg
ORGANIZER;CN="Casal Popular Boira Baixa":MAILTO:boirabaixa@gmail.com
END:VEVENT
BEGIN:VEVENT
DTSTART;TZID=Europe/Andorra:20250717T220000
DTEND;TZID=Europe/Andorra:20250717T235900
DTSTAMP:20260425T015051
CREATED:20250625T134126Z
LAST-MODIFIED:20250625T135407Z
UID:8997-1752789600-1752796740@boirabaixa.cat
SUMMARY:Festival de Cinema a la Fresca Manlleu: “The World to Come”
DESCRIPTION:Obertura de portes i menú especial per sopar a partir de les 20h. Projecció de The World to Come (EUA\, 2020)\, a les 22h.
URL:https://boirabaixa.cat/esdeveniment/festival-de-cinema-a-la-fresca-manlleu-the-world-to-come/
LOCATION:Casal Popular Boira Baixa\, Plaça Flama del Canigó\, 2\, Manlleu\, Països Catalans\, 08560
ATTACH;FMTTYPE=image/jpeg:https://boirabaixa.cat/wp-content/uploads/sites/36/2025/06/Cinema_fresca.jpg
END:VEVENT
BEGIN:VEVENT
DTSTART;TZID=Europe/Andorra:20250718T220000
DTEND;TZID=Europe/Andorra:20250718T235900
DTSTAMP:20260425T015051
CREATED:20250625T133332Z
LAST-MODIFIED:20250715T071651Z
UID:8987-1752876000-1752883140@boirabaixa.cat
SUMMARY:Karaoke amb música en directe
DESCRIPTION:Vine i canta i balla amb nosaltres!
URL:https://boirabaixa.cat/esdeveniment/karaoke-amb-musica-en-directe/
LOCATION:Casal Popular Boira Baixa\, Plaça Flama del Canigó\, 2\, Manlleu\, Països Catalans\, 08560
ATTACH;FMTTYPE=image/jpeg:https://boirabaixa.cat/wp-content/uploads/sites/36/2025/06/Karaoke_desfassat.jpeg
ORGANIZER;CN="Casal Popular Boira Baixa":MAILTO:boirabaixa@gmail.com
END:VEVENT
BEGIN:VEVENT
DTSTART;TZID=Europe/Andorra:20250719T213000
DTEND;TZID=Europe/Andorra:20250719T233000
DTSTAMP:20260425T015051
CREATED:20250625T133411Z
LAST-MODIFIED:20250702T151331Z
UID:8989-1752960600-1752967800@boirabaixa.cat
SUMMARY:Concert de B-Side
DESCRIPTION:Versions de rock\, soul i funky: hits des dels anys cinquanta fins a l’actualitat.
URL:https://boirabaixa.cat/esdeveniment/concert-de-b-sides/
LOCATION:Casal Popular Boira Baixa\, Plaça Flama del Canigó\, 2\, Manlleu\, Països Catalans\, 08560
ATTACH;FMTTYPE=image/jpeg:https://boirabaixa.cat/wp-content/uploads/sites/36/2025/06/B-Side.jpeg
ORGANIZER;CN="Casal Popular Boira Baixa":MAILTO:boirabaixa@gmail.com
END:VEVENT
BEGIN:VEVENT
DTSTART;TZID=Europe/Andorra:20250720T123000
DTEND;TZID=Europe/Andorra:20250720T140000
DTSTAMP:20260425T015051
CREATED:20250625T133525Z
LAST-MODIFIED:20250709T072851Z
UID:8991-1753014600-1753020000@boirabaixa.cat
SUMMARY:Concert-vermut amb Quim Salinas
DESCRIPTION:Cançó d’autor\, guitarra i veu. Amb taquilla inversa.
URL:https://boirabaixa.cat/esdeveniment/concert-vermut-amb-quim-salinas/
LOCATION:Casal Popular Boira Baixa\, Plaça Flama del Canigó\, 2\, Manlleu\, Països Catalans\, 08560
ATTACH;FMTTYPE=image/jpeg:https://boirabaixa.cat/wp-content/uploads/sites/36/2025/06/Concert_QuimSalinas_BB.jpeg
ORGANIZER;CN="Casal Popular Boira Baixa":MAILTO:boirabaixa@gmail.com
END:VEVENT
BEGIN:VEVENT
DTSTART;TZID=Europe/Andorra:20250720T180000
DTEND;TZID=Europe/Andorra:20250720T223000
DTSTAMP:20260425T015051
CREATED:20250625T133619Z
LAST-MODIFIED:20250715T071242Z
UID:8993-1753034400-1753050600@boirabaixa.cat
SUMMARY:Jornada "Cultura popular en temps de macrofestivals"
DESCRIPTION:Organitzada per Arran Manlleu.
URL:https://boirabaixa.cat/esdeveniment/jornada-joves-cultura-popular-i-ruralitat/
LOCATION:Casal Popular Boira Baixa\, Plaça Flama del Canigó\, 2\, Manlleu\, Països Catalans\, 08560
ATTACH;FMTTYPE=image/jpeg:https://boirabaixa.cat/wp-content/uploads/sites/36/2025/06/Acte-cultura-popular_bo.jpeg
ORGANIZER;CN="Arran Manlleu":MAILTO:boirabaixa@gmail.com
END:VEVENT
BEGIN:VEVENT
DTSTART;TZID=Europe/Andorra:20250722T180000
DTEND;TZID=Europe/Andorra:20250722T200000
DTSTAMP:20260425T015051
CREATED:20250626T124203Z
LAST-MODIFIED:20250702T080859Z
UID:9038-1753207200-1753214400@boirabaixa.cat
SUMMARY:Dimarts en família: espai de joc per a infants
DESCRIPTION:Tardes en família: els dimarts a la tarda\, el Boira Baixa es converteix en un espai de joc per a infants! Si ho vols\, porta alguna joguina per compartir.
URL:https://boirabaixa.cat/esdeveniment/dimarts-en-familia-espai-de-joc-per-a-infants-4/
LOCATION:Casal Popular Boira Baixa\, Plaça Flama del Canigó\, 2\, Manlleu\, Països Catalans\, 08560
ATTACH;FMTTYPE=image/jpeg:https://boirabaixa.cat/wp-content/uploads/sites/36/2025/06/Dimarts_familia.jpeg
ORGANIZER;CN="Casal Popular Boira Baixa":MAILTO:boirabaixa@gmail.com
END:VEVENT
BEGIN:VEVENT
DTSTART;TZID=Europe/Andorra:20250723T190000
DTEND;TZID=Europe/Andorra:20250723T210000
DTSTAMP:20260425T015051
CREATED:20250625T140855Z
LAST-MODIFIED:20250626T134322Z
UID:9018-1753297200-1753304400@boirabaixa.cat
SUMMARY:"Glosa de lluna" amb Cor de Carxofa: edició "Diada Nacional"
DESCRIPTION:Bon cop de falç!
URL:https://boirabaixa.cat/esdeveniment/glosa-de-lluna-amb-cor-de-carxofa-edicio-diada-nacional/
LOCATION:Casal Popular Boira Baixa\, Plaça Flama del Canigó\, 2\, Manlleu\, Països Catalans\, 08560
CATEGORIES:Glosa de lluna
ATTACH;FMTTYPE=image/png:https://boirabaixa.cat/wp-content/uploads/sites/36/2025/05/Glosa-de-lluna-1.png
END:VEVENT
BEGIN:VEVENT
DTSTART;TZID=Europe/Andorra:20250723T193000
DTEND;TZID=Europe/Andorra:20250723T210000
DTSTAMP:20260425T015051
CREATED:20250625T133656Z
LAST-MODIFIED:20250709T073000Z
UID:8995-1753299000-1753304400@boirabaixa.cat
SUMMARY:Trobada oberta: “Un projecte d'habitatge cooperatiu a Manlleu?"
DESCRIPTION:
URL:https://boirabaixa.cat/esdeveniment/trobada-oberta-un-projecte-dhabitatge-cooperatiu-a-manlleu/
LOCATION:Casal Popular Boira Baixa\, Plaça Flama del Canigó\, 2\, Manlleu\, Països Catalans\, 08560
ATTACH;FMTTYPE=image/jpeg:https://boirabaixa.cat/wp-content/uploads/sites/36/2025/06/Trobada_habitatge_coop_BB.jpeg
ORGANIZER;CN="Casal Popular Boira Baixa":MAILTO:boirabaixa@gmail.com
END:VEVENT
BEGIN:VEVENT
DTSTART;TZID=Europe/Andorra:20250724T220000
DTEND;TZID=Europe/Andorra:20250724T235900
DTSTAMP:20260425T015051
CREATED:20250625T132758Z
LAST-MODIFIED:20250625T135608Z
UID:8985-1753394400-1753401540@boirabaixa.cat
SUMMARY:Festival de Cinema a la Fresca Manlleu: "Cuando acecha la maldad"
DESCRIPTION:Obertura de portes i menú especial per sopar a partir de les 20h. Projecció de Cuando acecha la maldad (Argentina\, 2023)\, a les 22h.
URL:https://boirabaixa.cat/esdeveniment/festival-de-cinema-a-la-fresca-manlleu-cuando-acecha-la-maldad/
LOCATION:Casal Popular Boira Baixa\, Plaça Flama del Canigó\, 2\, Manlleu\, Països Catalans\, 08560
ATTACH;FMTTYPE=image/jpeg:https://boirabaixa.cat/wp-content/uploads/sites/36/2025/06/Cinema_fresca.jpg
END:VEVENT
BEGIN:VEVENT
DTSTART;TZID=Europe/Andorra:20250725T190000
DTEND;TZID=Europe/Andorra:20250725T200000
DTSTAMP:20260425T015051
CREATED:20250625T134339Z
LAST-MODIFIED:20250714T071728Z
UID:8999-1753470000-1753473600@boirabaixa.cat
SUMMARY:Xerrada: “La vaga de lloguers contra La Caixa i en defensa de l’habitatge públic”\, a càrrec del Sindicat de Llogateres
DESCRIPTION:Donem suport a la vaga de lloguers contra La Caixa i en defensa de l’habitatge públic!
URL:https://boirabaixa.cat/esdeveniment/xerrada-la-vaga-de-lloguers-contra-la-caixa-i-en-defensa-de-lhabitatge-public-amb-el-sindicat-de-llogateres/
LOCATION:Casal Popular Boira Baixa\, Plaça Flama del Canigó\, 2\, Manlleu\, Països Catalans\, 08560
ATTACH;FMTTYPE=image/jpeg:https://boirabaixa.cat/wp-content/uploads/sites/36/2025/06/Xerrada_SLL.jpeg
END:VEVENT
BEGIN:VEVENT
DTSTART;TZID=Europe/Andorra:20250725T203000
DTEND;TZID=Europe/Andorra:20250725T220000
DTSTAMP:20260425T015051
CREATED:20250714T071643Z
LAST-MODIFIED:20250715T072159Z
UID:9232-1753475400-1753480800@boirabaixa.cat
SUMMARY:"L’Arrabassada": pòdcast en directe. Amb Pep Musté com a convidat
DESCRIPTION:L’Arrabassada: pòdcast en directe. Amb Pep Musté\, històric militant de l’Esquerra Independentista d’Osona\, com a convidat.
URL:https://boirabaixa.cat/esdeveniment/larrabassada-podcast-en-directe-amb-pep-muste-com-a-convidat-2/
LOCATION:Casal Popular Boira Baixa\, Plaça Flama del Canigó\, 2\, Manlleu\, Països Catalans\, 08560
ATTACH;FMTTYPE=image/jpeg:https://boirabaixa.cat/wp-content/uploads/sites/36/2025/07/LArrabassada_DEF.jpeg
ORGANIZER;CN="Casal Popular Boira Baixa":MAILTO:boirabaixa@gmail.com
END:VEVENT
BEGIN:VEVENT
DTSTART;TZID=Europe/Andorra:20250725T223000
DTEND;TZID=Europe/Andorra:20250725T235900
DTSTAMP:20260425T015051
CREATED:20250625T134447Z
LAST-MODIFIED:20250715T071919Z
UID:9002-1753482600-1753487940@boirabaixa.cat
SUMMARY:Concert de Jordi Ginesta
DESCRIPTION:Versions en acústic. Cançons com a eina\, trinxera\, refugi i esperança.
URL:https://boirabaixa.cat/esdeveniment/concert-de-jordi-ginesta/
LOCATION:Casal Popular Boira Baixa\, Plaça Flama del Canigó\, 2\, Manlleu\, Països Catalans\, 08560
ATTACH;FMTTYPE=image/jpeg:https://boirabaixa.cat/wp-content/uploads/sites/36/2025/06/Concert-Jordi-Ginesta.jpeg
ORGANIZER;CN="Casal Popular Boira Baixa":MAILTO:boirabaixa@gmail.com
END:VEVENT
BEGIN:VEVENT
DTSTART;TZID=Europe/Andorra:20250726T220000
DTEND;TZID=Europe/Andorra:20250726T235900
DTSTAMP:20260425T015051
CREATED:20250625T134538Z
LAST-MODIFIED:20250715T071758Z
UID:9004-1753567200-1753574340@boirabaixa.cat
SUMMARY:Bingo musical
DESCRIPTION:Amb els millors temacles en català.
URL:https://boirabaixa.cat/esdeveniment/bingo-musical-3/
LOCATION:Casal Popular Boira Baixa\, Plaça Flama del Canigó\, 2\, Manlleu\, Països Catalans\, 08560
ATTACH;FMTTYPE=image/jpeg:https://boirabaixa.cat/wp-content/uploads/sites/36/2025/06/Bingo-musical.jpeg
ORGANIZER;CN="Casal Popular Boira Baixa":MAILTO:boirabaixa@gmail.com
END:VEVENT
BEGIN:VEVENT
DTSTART;TZID=Europe/Andorra:20250727T190000
DTEND;TZID=Europe/Andorra:20250727T203000
DTSTAMP:20260425T015051
CREATED:20250626T124626Z
LAST-MODIFIED:20250718T160949Z
UID:9043-1753642800-1753648200@boirabaixa.cat
SUMMARY:Presentació del projecte fotogràfic “Dins del punt de mira. Invertint la línia P” i inauguració de l’exposició
DESCRIPTION:Presentació del projecte fotogràfic “Dins del punt de mira. Invertint la línia P.” i inauguració de l’exposició. Amb el seu autor\, Lau Mas (fotògraf)\, i Marc Bassas (historiador).
URL:https://boirabaixa.cat/esdeveniment/presentacio-del-projecte-fotografic-dins-del-punt-de-mira-invertint-la-linia-p-i-inauguracio-de-lexposicio/
LOCATION:Casal Popular Boira Baixa\, Plaça Flama del Canigó\, 2\, Manlleu\, Països Catalans\, 08560
ATTACH;FMTTYPE=image/jpeg:https://boirabaixa.cat/wp-content/uploads/sites/36/2025/06/Projecte-fotografic-Linia-P.jpeg
ORGANIZER;CN="Casal Popular Boira Baixa":MAILTO:boirabaixa@gmail.com
END:VEVENT
BEGIN:VEVENT
DTSTART;TZID=Europe/Andorra:20250730T190000
DTEND;TZID=Europe/Andorra:20250730T210000
DTSTAMP:20260425T015051
CREATED:20250625T140946Z
LAST-MODIFIED:20250626T134410Z
UID:9020-1753902000-1753909200@boirabaixa.cat
SUMMARY:"Glosa de lluna" amb Cor de Carxofa: edició "Pasqua"
DESCRIPTION:Venen vacances\, contents com unes pasques!
URL:https://boirabaixa.cat/esdeveniment/glosa-de-lluna-amb-cor-de-carxofa-edicio-pasqua/
LOCATION:Casal Popular Boira Baixa\, Plaça Flama del Canigó\, 2\, Manlleu\, Països Catalans\, 08560
CATEGORIES:Glosa de lluna
ATTACH;FMTTYPE=image/png:https://boirabaixa.cat/wp-content/uploads/sites/36/2025/05/Glosa-de-lluna-1.png
END:VEVENT
BEGIN:VEVENT
DTSTART;TZID=Europe/Andorra:20250731T200000
DTEND;TZID=Europe/Andorra:20250731T213000
DTSTAMP:20260425T015051
CREATED:20250625T134637Z
LAST-MODIFIED:20250725T142400Z
UID:9006-1753992000-1753997400@boirabaixa.cat
SUMMARY:Recital poètic "Els buits infinits"\, d'Anna Boixadé
DESCRIPTION: Recital poètic “Els buits infinits”\, a càrrec d’Anna Boixadé\, acompanyada per Núria Martorell (pianista) i Olivier Martorell (saxofonista). Amb taquilla inversa. Tot seguit\, micro obert.
URL:https://boirabaixa.cat/esdeveniment/recital-poetic-els-buits-infinits-danna-boixade/
LOCATION:Casal Popular Boira Baixa\, Plaça Flama del Canigó\, 2\, Manlleu\, Països Catalans\, 08560
ATTACH;FMTTYPE=image/jpeg:https://boirabaixa.cat/wp-content/uploads/sites/36/2025/06/Recital-poetic_LQ.jpeg
ORGANIZER;CN="Casal Popular Boira Baixa":MAILTO:boirabaixa@gmail.com
END:VEVENT
BEGIN:VEVENT
DTSTART;VALUE=DATE:20250801
DTEND;VALUE=DATE:20250808
DTSTAMP:20260425T015051
CREATED:20250801T155411Z
LAST-MODIFIED:20250801T191148Z
UID:9453-1754006400-1754611199@boirabaixa.cat
SUMMARY:Venda de samarretes i gots de Fes-te Jove 2025
DESCRIPTION:
URL:https://boirabaixa.cat/esdeveniment/venda-de-samarretes-i-gots-de-fes-te-jove-2025/
LOCATION:Casal Popular Boira Baixa\, Plaça Flama del Canigó\, 2\, Manlleu\, Països Catalans\, 08560
ATTACH;FMTTYPE=image/jpeg:https://boirabaixa.cat/wp-content/uploads/sites/36/2025/08/Venda_samarretes.jpeg
ORGANIZER;CN="Fes-te Jove":MAILTO:festejovemanlleu@gmail.com
END:VEVENT
BEGIN:VEVENT
DTSTART;TZID=Europe/Andorra:20250802T180000
DTEND;TZID=Europe/Andorra:20250803T010000
DTSTAMP:20260425T015051
CREATED:20250718T160319Z
LAST-MODIFIED:20250725T142508Z
UID:9269-1754157600-1754182800@boirabaixa.cat
SUMMARY:Festa del Call del Ter
DESCRIPTION:🥳 Recuperem la FESTA DEL CALL DEL TER! \n🗓️ Dissabte 2 d’agost a partir de les 6 de la tarda.\n🎊 Activitats infantils\, sopar de germanor\, rifa popular\, despenjada del diamant\, concert i més!\n🔜 Aviat tots els detalls\, reserveu-vos la data! \n🟡 Impulsat per veïnes i veïns del carrer Call del Ter (Enric Delaris)\, el Pub Xauxa\, l’AEiG Arrels i el Casal Popular Boira Baixa. Fem carrer\, fem barri\, fem poble\, fem país! ✊🏾
URL:https://boirabaixa.cat/esdeveniment/festa-del-call-del-ter/
LOCATION:Carrer Call del Ter (Enric Delaris)\, Carrer Enric Delaris\, Manlleu\, Països Catalans\, 08560
ATTACH;FMTTYPE=image/jpeg:https://boirabaixa.cat/wp-content/uploads/sites/36/2025/07/Festa_callter_def.jpeg
END:VEVENT
BEGIN:VEVENT
DTSTART;TZID=Europe/Andorra:20250808T120000
DTEND;TZID=Europe/Andorra:20250808T210000
DTSTAMP:20260425T015051
CREATED:20250730T102743Z
LAST-MODIFIED:20250801T154509Z
UID:9345-1754654400-1754686800@boirabaixa.cat
SUMMARY:Prèvia de Cantabars
DESCRIPTION:14h | Dinar de prèvia. Comencem a escalfar motors! Menú: amanida\, fideus a la cassola i fruita. Inclou pa\, aigua\, vi i gasosa. Preu: 15€ socis/es\, 17€ no socis/es. Tiquets a aquí. \n17h | Gran prèvia del Cantabars! Música de PD’s Germanes Borroka i servei de barra amb hamburgueses per sopar (opció vegana inclosa). Tot seguit\, pujarem cap a Dalt Vila amb en Titiu i la Dolçaina! \nI durant el recorregut del Cantabars… | Parada al Boira Baixa per cantar Els Segadors!
URL:https://boirabaixa.cat/esdeveniment/previa-de-cantabars-3/
LOCATION:Casal Popular Boira Baixa\, Plaça Flama del Canigó\, 2\, Manlleu\, Països Catalans\, 08560
ATTACH;FMTTYPE=image/jpeg:https://boirabaixa.cat/wp-content/uploads/sites/36/2025/07/Cartell-mida-post-Previa-Cantabars-scaled.jpg
ORGANIZER;CN="Casal Popular Boira Baixa":MAILTO:boirabaixa@gmail.com
END:VEVENT
BEGIN:VEVENT
DTSTART;TZID=Europe/Andorra:20250808T170000
DTEND;TZID=Europe/Andorra:20250817T200000
DTSTAMP:20260425T015051
CREATED:20250730T102127Z
LAST-MODIFIED:20250730T102127Z
UID:9342-1754672400-1755460800@boirabaixa.cat
SUMMARY:Fes-te Jove 2025
DESCRIPTION:
URL:https://boirabaixa.cat/esdeveniment/fes-te-jove-2025/
LOCATION:Manlleu\, 08560
ATTACH;FMTTYPE=image/jpeg:https://boirabaixa.cat/wp-content/uploads/sites/36/2025/07/FJ_2025.jpeg
ORGANIZER;CN="Fes-te Jove":MAILTO:festejovemanlleu@gmail.com
END:VEVENT
BEGIN:VEVENT
DTSTART;TZID=Europe/Andorra:20250809T140000
DTEND;TZID=Europe/Andorra:20250809T210000
DTSTAMP:20260425T015051
CREATED:20250730T103021Z
LAST-MODIFIED:20250801T154652Z
UID:9347-1754748000-1754773200@boirabaixa.cat
SUMMARY:Dinar de Festa Major i Cantabars de lluïment
DESCRIPTION:14:30h | Gran dinar de Festa Major i Cantabars de lluïment. Menú: gaspatxo de síndria\, galtes de vedella estofades (amb opció vegetariana) i pastís de xocolata. Inclou pa\, aigua\, vi i gasosa. Preu: 15€ socis/es\, 17€ no socis/es. Tiquets aquí. \n18h | Escalfem motors i omplim la panxa abans de la nit de concerts de Fes-te Jove! Amb la música de PD Nanfu.
URL:https://boirabaixa.cat/esdeveniment/dinar-de-festa-major-i-cantabars-de-lluiment/
LOCATION:Casal Popular Boira Baixa\, Plaça Flama del Canigó\, 2\, Manlleu\, Països Catalans\, 08560
ATTACH;FMTTYPE=image/jpeg:https://boirabaixa.cat/wp-content/uploads/sites/36/2025/07/Cartell-mida-post-Dinar-FM-scaled.jpg
ORGANIZER;CN="Casal Popular Boira Baixa":MAILTO:boirabaixa@gmail.com
END:VEVENT
END:VCALENDAR