BEGIN:VCALENDAR
VERSION:2.0
PRODID:-//BoiraBaixa - ECPv6.15.20//NONSGML v1.0//EN
CALSCALE:GREGORIAN
METHOD:PUBLISH
X-ORIGINAL-URL:https://boirabaixa.cat
X-WR-CALDESC:Esdeveniments per BoiraBaixa
REFRESH-INTERVAL;VALUE=DURATION:PT1H
X-Robots-Tag:noindex
X-PUBLISHED-TTL:PT1H
BEGIN:VTIMEZONE
TZID:Europe/Andorra
BEGIN:DAYLIGHT
TZOFFSETFROM:+0100
TZOFFSETTO:+0200
TZNAME:CEST
DTSTART:20240331T010000
END:DAYLIGHT
BEGIN:STANDARD
TZOFFSETFROM:+0200
TZOFFSETTO:+0100
TZNAME:CET
DTSTART:20241027T010000
END:STANDARD
BEGIN:DAYLIGHT
TZOFFSETFROM:+0100
TZOFFSETTO:+0200
TZNAME:CEST
DTSTART:20250330T010000
END:DAYLIGHT
BEGIN:STANDARD
TZOFFSETFROM:+0200
TZOFFSETTO:+0100
TZNAME:CET
DTSTART:20251026T010000
END:STANDARD
BEGIN:DAYLIGHT
TZOFFSETFROM:+0100
TZOFFSETTO:+0200
TZNAME:CEST
DTSTART:20260329T010000
END:DAYLIGHT
BEGIN:STANDARD
TZOFFSETFROM:+0200
TZOFFSETTO:+0100
TZNAME:CET
DTSTART:20261025T010000
END:STANDARD
END:VTIMEZONE
BEGIN:VEVENT
DTSTART;TZID=Europe/Andorra:20250730T190000
DTEND;TZID=Europe/Andorra:20250730T210000
DTSTAMP:20260425T014101
CREATED:20250625T140946Z
LAST-MODIFIED:20250626T134410Z
UID:9020-1753902000-1753909200@boirabaixa.cat
SUMMARY:"Glosa de lluna" amb Cor de Carxofa: edició "Pasqua"
DESCRIPTION:Venen vacances\, contents com unes pasques!
URL:https://boirabaixa.cat/esdeveniment/glosa-de-lluna-amb-cor-de-carxofa-edicio-pasqua/
LOCATION:Casal Popular Boira Baixa\, Plaça Flama del Canigó\, 2\, Manlleu\, Països Catalans\, 08560
CATEGORIES:Glosa de lluna
ATTACH;FMTTYPE=image/png:https://boirabaixa.cat/wp-content/uploads/sites/36/2025/05/Glosa-de-lluna-1.png
END:VEVENT
BEGIN:VEVENT
DTSTART;TZID=Europe/Andorra:20250731T200000
DTEND;TZID=Europe/Andorra:20250731T213000
DTSTAMP:20260425T014101
CREATED:20250625T134637Z
LAST-MODIFIED:20250725T142400Z
UID:9006-1753992000-1753997400@boirabaixa.cat
SUMMARY:Recital poètic "Els buits infinits"\, d'Anna Boixadé
DESCRIPTION: Recital poètic “Els buits infinits”\, a càrrec d’Anna Boixadé\, acompanyada per Núria Martorell (pianista) i Olivier Martorell (saxofonista). Amb taquilla inversa. Tot seguit\, micro obert.
URL:https://boirabaixa.cat/esdeveniment/recital-poetic-els-buits-infinits-danna-boixade/
LOCATION:Casal Popular Boira Baixa\, Plaça Flama del Canigó\, 2\, Manlleu\, Països Catalans\, 08560
ATTACH;FMTTYPE=image/jpeg:https://boirabaixa.cat/wp-content/uploads/sites/36/2025/06/Recital-poetic_LQ.jpeg
ORGANIZER;CN="Casal Popular Boira Baixa":MAILTO:boirabaixa@gmail.com
END:VEVENT
BEGIN:VEVENT
DTSTART;VALUE=DATE:20250801
DTEND;VALUE=DATE:20250808
DTSTAMP:20260425T014101
CREATED:20250801T155411Z
LAST-MODIFIED:20250801T191148Z
UID:9453-1754006400-1754611199@boirabaixa.cat
SUMMARY:Venda de samarretes i gots de Fes-te Jove 2025
DESCRIPTION:
URL:https://boirabaixa.cat/esdeveniment/venda-de-samarretes-i-gots-de-fes-te-jove-2025/
LOCATION:Casal Popular Boira Baixa\, Plaça Flama del Canigó\, 2\, Manlleu\, Països Catalans\, 08560
ATTACH;FMTTYPE=image/jpeg:https://boirabaixa.cat/wp-content/uploads/sites/36/2025/08/Venda_samarretes.jpeg
ORGANIZER;CN="Fes-te Jove":MAILTO:festejovemanlleu@gmail.com
END:VEVENT
BEGIN:VEVENT
DTSTART;TZID=Europe/Andorra:20250802T180000
DTEND;TZID=Europe/Andorra:20250803T010000
DTSTAMP:20260425T014101
CREATED:20250718T160319Z
LAST-MODIFIED:20250725T142508Z
UID:9269-1754157600-1754182800@boirabaixa.cat
SUMMARY:Festa del Call del Ter
DESCRIPTION:🥳 Recuperem la FESTA DEL CALL DEL TER! \n🗓️ Dissabte 2 d’agost a partir de les 6 de la tarda.\n🎊 Activitats infantils\, sopar de germanor\, rifa popular\, despenjada del diamant\, concert i més!\n🔜 Aviat tots els detalls\, reserveu-vos la data! \n🟡 Impulsat per veïnes i veïns del carrer Call del Ter (Enric Delaris)\, el Pub Xauxa\, l’AEiG Arrels i el Casal Popular Boira Baixa. Fem carrer\, fem barri\, fem poble\, fem país! ✊🏾
URL:https://boirabaixa.cat/esdeveniment/festa-del-call-del-ter/
LOCATION:Carrer Call del Ter (Enric Delaris)\, Carrer Enric Delaris\, Manlleu\, Països Catalans\, 08560
ATTACH;FMTTYPE=image/jpeg:https://boirabaixa.cat/wp-content/uploads/sites/36/2025/07/Festa_callter_def.jpeg
END:VEVENT
BEGIN:VEVENT
DTSTART;TZID=Europe/Andorra:20250808T120000
DTEND;TZID=Europe/Andorra:20250808T210000
DTSTAMP:20260425T014101
CREATED:20250730T102743Z
LAST-MODIFIED:20250801T154509Z
UID:9345-1754654400-1754686800@boirabaixa.cat
SUMMARY:Prèvia de Cantabars
DESCRIPTION:14h | Dinar de prèvia. Comencem a escalfar motors! Menú: amanida\, fideus a la cassola i fruita. Inclou pa\, aigua\, vi i gasosa. Preu: 15€ socis/es\, 17€ no socis/es. Tiquets a aquí. \n17h | Gran prèvia del Cantabars! Música de PD’s Germanes Borroka i servei de barra amb hamburgueses per sopar (opció vegana inclosa). Tot seguit\, pujarem cap a Dalt Vila amb en Titiu i la Dolçaina! \nI durant el recorregut del Cantabars… | Parada al Boira Baixa per cantar Els Segadors!
URL:https://boirabaixa.cat/esdeveniment/previa-de-cantabars-3/
LOCATION:Casal Popular Boira Baixa\, Plaça Flama del Canigó\, 2\, Manlleu\, Països Catalans\, 08560
ATTACH;FMTTYPE=image/jpeg:https://boirabaixa.cat/wp-content/uploads/sites/36/2025/07/Cartell-mida-post-Previa-Cantabars-scaled.jpg
ORGANIZER;CN="Casal Popular Boira Baixa":MAILTO:boirabaixa@gmail.com
END:VEVENT
BEGIN:VEVENT
DTSTART;TZID=Europe/Andorra:20250808T170000
DTEND;TZID=Europe/Andorra:20250817T200000
DTSTAMP:20260425T014101
CREATED:20250730T102127Z
LAST-MODIFIED:20250730T102127Z
UID:9342-1754672400-1755460800@boirabaixa.cat
SUMMARY:Fes-te Jove 2025
DESCRIPTION:
URL:https://boirabaixa.cat/esdeveniment/fes-te-jove-2025/
LOCATION:Manlleu\, 08560
ATTACH;FMTTYPE=image/jpeg:https://boirabaixa.cat/wp-content/uploads/sites/36/2025/07/FJ_2025.jpeg
ORGANIZER;CN="Fes-te Jove":MAILTO:festejovemanlleu@gmail.com
END:VEVENT
BEGIN:VEVENT
DTSTART;TZID=Europe/Andorra:20250809T140000
DTEND;TZID=Europe/Andorra:20250809T210000
DTSTAMP:20260425T014101
CREATED:20250730T103021Z
LAST-MODIFIED:20250801T154652Z
UID:9347-1754748000-1754773200@boirabaixa.cat
SUMMARY:Dinar de Festa Major i Cantabars de lluïment
DESCRIPTION:14:30h | Gran dinar de Festa Major i Cantabars de lluïment. Menú: gaspatxo de síndria\, galtes de vedella estofades (amb opció vegetariana) i pastís de xocolata. Inclou pa\, aigua\, vi i gasosa. Preu: 15€ socis/es\, 17€ no socis/es. Tiquets aquí. \n18h | Escalfem motors i omplim la panxa abans de la nit de concerts de Fes-te Jove! Amb la música de PD Nanfu.
URL:https://boirabaixa.cat/esdeveniment/dinar-de-festa-major-i-cantabars-de-lluiment/
LOCATION:Casal Popular Boira Baixa\, Plaça Flama del Canigó\, 2\, Manlleu\, Països Catalans\, 08560
ATTACH;FMTTYPE=image/jpeg:https://boirabaixa.cat/wp-content/uploads/sites/36/2025/07/Cartell-mida-post-Dinar-FM-scaled.jpg
ORGANIZER;CN="Casal Popular Boira Baixa":MAILTO:boirabaixa@gmail.com
END:VEVENT
BEGIN:VEVENT
DTSTART;TZID=Europe/Andorra:20250810T210000
DTEND;TZID=Europe/Andorra:20250810T233000
DTSTAMP:20260425T014101
CREATED:20250730T104641Z
LAST-MODIFIED:20250730T104641Z
UID:9362-1754859600-1754868600@boirabaixa.cat
SUMMARY:Caminada nocturna de Fes-te Jove 2025
DESCRIPTION:
URL:https://boirabaixa.cat/esdeveniment/caminada-nocturna-de-fes-te-jove-2025/
LOCATION:Jardins de Can Mataró\, Manlleu\, Carrer Casa Piella\, Manlleu\, Països Catalans\, 08560\, Espanya
ATTACH;FMTTYPE=image/jpeg:https://boirabaixa.cat/wp-content/uploads/sites/36/2025/07/Caminada_nocturna_FJ_25.jpeg
ORGANIZER;CN="Fes-te Jove":MAILTO:festejovemanlleu@gmail.com
END:VEVENT
BEGIN:VEVENT
DTSTART;TZID=Europe/Andorra:20250812T180000
DTEND;TZID=Europe/Andorra:20250812T203000
DTSTAMP:20260425T014101
CREATED:20250730T104843Z
LAST-MODIFIED:20250730T105218Z
UID:9365-1755021600-1755030600@boirabaixa.cat
SUMMARY:4a Beer Mile de Manlleu
DESCRIPTION:
URL:https://boirabaixa.cat/esdeveniment/4a-beer-mile-de-manlleu/
LOCATION:Passeig del Ter\, Passeig del Ter\, Manlleu\, Països Catalans\, 08560
ATTACH;FMTTYPE=image/jpeg:https://boirabaixa.cat/wp-content/uploads/sites/36/2025/07/4a_beermile_FJ.jpeg
ORGANIZER;CN="Casal Popular Boira Baixa":MAILTO:boirabaixa@gmail.com
END:VEVENT
BEGIN:VEVENT
DTSTART;TZID=Europe/Andorra:20250812T203000
DTEND;TZID=Europe/Andorra:20250812T230000
DTSTAMP:20260425T014101
CREATED:20250730T103409Z
LAST-MODIFIED:20250730T103409Z
UID:9349-1755030600-1755039600@boirabaixa.cat
SUMMARY:Sopar post-Beer Mile
DESCRIPTION:Comentem la jugada i continuem la festa!
URL:https://boirabaixa.cat/esdeveniment/sopar-post-beer-mile/
LOCATION:Casal Popular Boira Baixa\, Plaça Flama del Canigó\, 2\, Manlleu\, Països Catalans\, 08560
ORGANIZER;CN="Casal Popular Boira Baixa":MAILTO:boirabaixa@gmail.com
END:VEVENT
BEGIN:VEVENT
DTSTART;TZID=Europe/Andorra:20250814T103000
DTEND;TZID=Europe/Andorra:20250815T060000
DTSTAMP:20260425T014101
CREATED:20250730T103726Z
LAST-MODIFIED:20250801T143021Z
UID:9351-1755167400-1755237600@boirabaixa.cat
SUMMARY:Festa del Serpent
DESCRIPTION:Tota la informació\, a www.serpentmanlleu.cat! \nA l’hora de sopar | Servei d’entrepans al bar-restaurant Boira Baixa! \nI a partir de mitjanit… | Salt del Diamant!
URL:https://boirabaixa.cat/esdeveniment/festa-del-serpent/
LOCATION:Manlleu\, 08560
ATTACH;FMTTYPE=image/jpeg:https://boirabaixa.cat/wp-content/uploads/sites/36/2025/08/Festa-Serpent-2025.jpeg
END:VEVENT
BEGIN:VEVENT
DTSTART;TZID=Europe/Andorra:20250814T235900
DTEND;TZID=Europe/Andorra:20250815T060000
DTSTAMP:20260425T014101
CREATED:20250730T104049Z
LAST-MODIFIED:20250801T142715Z
UID:9355-1755215940-1755237600@boirabaixa.cat
SUMMARY:Salt del Diamant 2025
DESCRIPTION:A partir de mitjanit… | Salt del Diamant! Organitzat conjuntament amb el Pub Xauxa. Inici a la plaça Fra Bernadí i fi de festa al c/ Enric Delaris. Una de les nits més esperades de la Festa Major!
URL:https://boirabaixa.cat/esdeveniment/salt-del-diamant-2025/
LOCATION:Carrer Call del Ter (Enric Delaris)\, Carrer Enric Delaris\, Manlleu\, Països Catalans\, 08560
ATTACH;FMTTYPE=image/jpeg:https://boirabaixa.cat/wp-content/uploads/sites/36/2025/07/Cartell-mida-post-Salt-Diamant-scaled.jpg
ORGANIZER;CN="Casal Popular Boira Baixa":MAILTO:boirabaixa@gmail.com
END:VEVENT
BEGIN:VEVENT
DTSTART;TZID=Europe/Andorra:20250816T213000
DTEND;TZID=Europe/Andorra:20250816T233000
DTSTAMP:20260425T014101
CREATED:20250730T104432Z
LAST-MODIFIED:20250801T142852Z
UID:9359-1755379800-1755387000@boirabaixa.cat
SUMMARY:Correfoc de Festa Major
DESCRIPTION:
URL:https://boirabaixa.cat/esdeveniment/correfoc-de-festa-major/
LOCATION:Dalt Vila\, Plaça de Dalt Vila\, Manlleu\, Països Catalans\, 08560
ATTACH;FMTTYPE=image/jpeg:https://boirabaixa.cat/wp-content/uploads/sites/36/2025/07/CorrefocFM_LQ.jpeg
ORGANIZER;CN="Colla de Diables i Tabaleres Serpents de Manlleu":MAILTO:serpentsdemanlleu@gmail.com
END:VEVENT
BEGIN:VEVENT
DTSTART;VALUE=DATE:20250817
DTEND;VALUE=DATE:20250903
DTSTAMP:20260425T014101
CREATED:20250730T104251Z
LAST-MODIFIED:20250730T104251Z
UID:9357-1755388800-1756857599@boirabaixa.cat
SUMMARY:Tanquem per vacances!
DESCRIPTION:
URL:https://boirabaixa.cat/esdeveniment/tanquem-per-vacances-2/
LOCATION:Casal Popular Boira Baixa\, Plaça Flama del Canigó\, 2\, Manlleu\, Països Catalans\, 08560
ORGANIZER;CN="Casal Popular Boira Baixa":MAILTO:boirabaixa@gmail.com
END:VEVENT
BEGIN:VEVENT
DTSTART;TZID=Europe/Andorra:20250910T200000
DTEND;TZID=Europe/Andorra:20250910T235900
DTSTAMP:20260425T014101
CREATED:20250909T115042Z
LAST-MODIFIED:20250909T115042Z
UID:9596-1757534400-1757548740@boirabaixa.cat
SUMMARY:Actes de l'Esquerra Independentista d'Osona amb motiu de la Diada Nacional del Principat
DESCRIPTION:20h | Concentració i parlaments de portaveus d’Arran\, d’Endavant-OSAN\, de la CUP i del Grup de Suport Mutu de Manlleu. Tot seguit\, cantada d’himnes. \n21h | Sopar popular. \n22h | Concert de Declivi.
URL:https://boirabaixa.cat/esdeveniment/actes-de-lesquerra-independentista-dosona-amb-motiu-de-la-diada-nacional-del-principat/
LOCATION:Casal Popular Boira Baixa\, Plaça Flama del Canigó\, 2\, Manlleu\, Països Catalans\, 08560
ATTACH;FMTTYPE=image/jpeg:https://boirabaixa.cat/wp-content/uploads/sites/36/2025/09/Combat_ara_EIOsona.jpg
END:VEVENT
BEGIN:VEVENT
DTSTART;TZID=Europe/Andorra:20250917T190000
DTEND;TZID=Europe/Andorra:20250917T210000
DTSTAMP:20260425T014101
CREATED:20250910T215307Z
LAST-MODIFIED:20250910T215307Z
UID:9620-1758135600-1758142800@boirabaixa.cat
SUMMARY:Glosa amb Cor de Carxofa
DESCRIPTION:
URL:https://boirabaixa.cat/esdeveniment/glosa-amb-cor-de-carxofa-59/
LOCATION:Casal Popular Boira Baixa\, Plaça Flama del Canigó\, 2\, Manlleu\, Països Catalans\, 08560
ATTACH;FMTTYPE=image/jpeg:https://boirabaixa.cat/wp-content/uploads/sites/36/2025/01/Dc.-glosa.jpeg
END:VEVENT
BEGIN:VEVENT
DTSTART;TZID=Europe/Andorra:20250918T190000
DTEND;TZID=Europe/Andorra:20250918T200000
DTSTAMP:20260425T014101
CREATED:20250915T153931Z
LAST-MODIFIED:20250915T153931Z
UID:9657-1758222000-1758225600@boirabaixa.cat
SUMMARY:Concentració: Manlleu amb Palestina i la Global Summud Flotilla!
DESCRIPTION:Aturem el genocidi. Embargament d’armes i ruptura total de relacions amb Israel\, ja!
URL:https://boirabaixa.cat/esdeveniment/concentracio-manlleu-amb-palestina-i-la-global-summud-flotilla/
LOCATION:Mercat Municipal de Malleu\, C/ Pintor Guàrdia\, 6\, Manlleu\, Països Catalans\, 08560\, Espanya
ATTACH;FMTTYPE=image/jpeg:https://boirabaixa.cat/wp-content/uploads/sites/36/2025/09/Concentracio_Palestina.jpg
END:VEVENT
BEGIN:VEVENT
DTSTART;TZID=Europe/Andorra:20250918T200000
DTEND;TZID=Europe/Andorra:20250918T211500
DTSTAMP:20260425T014101
CREATED:20250910T155153Z
LAST-MODIFIED:20250912T152431Z
UID:9606-1758225600-1758230100@boirabaixa.cat
SUMMARY:Xerrada: "Emergència climàtica: hi podem ajudar\, també amb l'energia"\, a càrrec de Francesc Mauri
DESCRIPTION:Acte organitzat per la cooperativa energètica Manlleu energia\, en el marc del mes de l’alTERna’t\, la Xarxa d’Economia Social i Solidària d’Osona.
URL:https://boirabaixa.cat/esdeveniment/xerrada-emergencia-climatica-hi-podem-ajudar-tambe-amb-lenergia-a-carrec-de-francesc-mauri/
LOCATION:Casal Popular Boira Baixa\, Plaça Flama del Canigó\, 2\, Manlleu\, Països Catalans\, 08560
ATTACH;FMTTYPE=image/png:https://boirabaixa.cat/wp-content/uploads/sites/36/2025/09/Xerrada_Mauri.png
END:VEVENT
BEGIN:VEVENT
DTSTART;TZID=Europe/Andorra:20250924T190000
DTEND;TZID=Europe/Andorra:20250924T210000
DTSTAMP:20260425T014101
CREATED:20250910T215420Z
LAST-MODIFIED:20250910T215420Z
UID:9622-1758740400-1758747600@boirabaixa.cat
SUMMARY:Glosa amb Cor de Carxofa
DESCRIPTION:
URL:https://boirabaixa.cat/esdeveniment/glosa-amb-cor-de-carxofa-60/
LOCATION:Casal Popular Boira Baixa\, Plaça Flama del Canigó\, 2\, Manlleu\, Països Catalans\, 08560
ATTACH;FMTTYPE=image/jpeg:https://boirabaixa.cat/wp-content/uploads/sites/36/2025/01/Dc.-glosa.jpeg
END:VEVENT
BEGIN:VEVENT
DTSTART;TZID=Europe/Andorra:20250925T190000
DTEND;TZID=Europe/Andorra:20250925T210000
DTSTAMP:20260425T014101
CREATED:20250911T203800Z
LAST-MODIFIED:20250914T120428Z
UID:9640-1758826800-1758834000@boirabaixa.cat
SUMMARY:Xerrada: "Construir comunitat des del suport mutu i l'habitatge cooperatiu"
DESCRIPTION:
URL:https://boirabaixa.cat/esdeveniment/xerrada-construir-comunitat-des-de-lhabitatge-i-el-suport-mutu/
LOCATION:Casal Popular Boira Baixa\, Plaça Flama del Canigó\, 2\, Manlleu\, Països Catalans\, 08560
ATTACH;FMTTYPE=image/jpeg:https://boirabaixa.cat/wp-content/uploads/sites/36/2025/09/Comunitat_habitatgeBB.jpeg
ORGANIZER;CN="Casal Popular Boira Baixa":MAILTO:boirabaixa@gmail.com
END:VEVENT
BEGIN:VEVENT
DTSTART;TZID=Europe/Andorra:20250926T200000
DTEND;TZID=Europe/Andorra:20250926T213000
DTSTAMP:20260425T014101
CREATED:20250910T155901Z
LAST-MODIFIED:20250912T175856Z
UID:9613-1758916800-1758922200@boirabaixa.cat
SUMMARY:Concert: Jordi Montañez canta Silvio Rodríguez
DESCRIPTION:
URL:https://boirabaixa.cat/esdeveniment/concert-jordi-montanez-canta-silvio-rodriguez/
LOCATION:Casal Popular Boira Baixa\, Plaça Flama del Canigó\, 2\, Manlleu\, Països Catalans\, 08560
ATTACH;FMTTYPE=image/jpeg:https://boirabaixa.cat/wp-content/uploads/sites/36/2025/09/Montanez_SilvioRodriguez_BB.jpeg
ORGANIZER;CN="Casal Popular Boira Baixa":MAILTO:boirabaixa@gmail.com
END:VEVENT
BEGIN:VEVENT
DTSTART;TZID=Europe/Andorra:20250927T100000
DTEND;TZID=Europe/Andorra:20250927T200000
DTSTAMP:20260425T014101
CREATED:20250910T214845Z
LAST-MODIFIED:20250910T214845Z
UID:9617-1758967200-1759003200@boirabaixa.cat
SUMMARY:Jornada oberta de la Plataforma per una Plana viva
DESCRIPTION:
URL:https://boirabaixa.cat/esdeveniment/jornada-oberta-de-la-plataforma-per-una-plana-viva/
LOCATION:Casal Popular Boira Baixa\, Plaça Flama del Canigó\, 2\, Manlleu\, Països Catalans\, 08560
ATTACH;FMTTYPE=image/jpeg:https://boirabaixa.cat/wp-content/uploads/sites/36/2025/09/Jornada_Perunaplanaviva.jpeg
END:VEVENT
BEGIN:VEVENT
DTSTART;TZID=Europe/Andorra:20250928T100000
DTEND;TZID=Europe/Andorra:20250928T140000
DTSTAMP:20260425T014101
CREATED:20250910T155515Z
LAST-MODIFIED:20250910T155728Z
UID:9610-1759053600-1759068000@boirabaixa.cat
SUMMARY:alTERna't: Fira de l'Economia Social i Solidària d'Osona
DESCRIPTION:
URL:https://boirabaixa.cat/esdeveniment/alternat-fira-de-leconomia-social-i-solidaria-dosona/
LOCATION:Embarcador del Ter\, Embarcador del Ter\, Manlleu\, Països Catalans\, 08560
ATTACH;FMTTYPE=image/png:https://boirabaixa.cat/wp-content/uploads/sites/36/2025/09/alTERnat-2025-scaled.png
END:VEVENT
BEGIN:VEVENT
DTSTART;TZID=Europe/Andorra:20251001T190000
DTEND;TZID=Europe/Andorra:20251001T210000
DTSTAMP:20260425T014101
CREATED:20250910T215525Z
LAST-MODIFIED:20250910T215525Z
UID:9624-1759345200-1759352400@boirabaixa.cat
SUMMARY:Glosa amb Cor de Carxofa
DESCRIPTION:
URL:https://boirabaixa.cat/esdeveniment/glosa-amb-cor-de-carxofa-61/
LOCATION:Casal Popular Boira Baixa\, Plaça Flama del Canigó\, 2\, Manlleu\, Països Catalans\, 08560
ATTACH;FMTTYPE=image/jpeg:https://boirabaixa.cat/wp-content/uploads/sites/36/2025/01/Dc.-glosa.jpeg
END:VEVENT
BEGIN:VEVENT
DTSTART;TZID=Europe/Andorra:20251002T200000
DTEND;TZID=Europe/Andorra:20251002T210000
DTSTAMP:20260425T014101
CREATED:20250910T145543Z
LAST-MODIFIED:20250910T145543Z
UID:9599-1759435200-1759438800@boirabaixa.cat
SUMMARY:Converses literàries: "La intrusa"\, d'Irene Pujadas
DESCRIPTION:📚❤️ Un curs més\, tornen les converses literàries Boira Baixa! \n✨ Començarem la temporada amb la lectura de La intrusa\, d’Irene Pujadas. Serà el proper dijous 2 d’octubre a les 20h del vespre. \n📖 “Amb una mirada irònica i una prosa neta i original\, plena de sentit de l’humor\, Pujadas explora un viatge cap a l’interior del cos de la protagonista. Tot plegat\, contraposant unes expectatives mig transcendentals mig terapèutiques amb una realitat entre hilarant i estèril.” \nUs hi esperem!
URL:https://boirabaixa.cat/esdeveniment/converses-literaries-la-intrusa-direne-pujadas/
LOCATION:Casal Popular Boira Baixa\, Plaça Flama del Canigó\, 2\, Manlleu\, Països Catalans\, 08560
ATTACH;FMTTYPE=image/jpeg:https://boirabaixa.cat/wp-content/uploads/sites/36/2025/09/Converses-literaries.jpeg
ORGANIZER;CN="Casal Popular Boira Baixa":MAILTO:boirabaixa@gmail.com
END:VEVENT
BEGIN:VEVENT
DTSTART;TZID=Europe/Andorra:20251003T200000
DTEND;TZID=Europe/Andorra:20251003T220000
DTSTAMP:20260425T014101
CREATED:20250924T112323Z
LAST-MODIFIED:20250925T151319Z
UID:9743-1759521600-1759528800@boirabaixa.cat
SUMMARY:Verro i birra | Sopar popular: galtes de porc a la cassola amb patates
DESCRIPTION:
URL:https://boirabaixa.cat/esdeveniment/verro-i-birra-sopar-popular-galtes-de-porc-a-la-cassola-amb-patates/
LOCATION:Casal Popular Boira Baixa\, Plaça Flama del Canigó\, 2\, Manlleu\, Països Catalans\, 08560
CATEGORIES:Festa del Verro i la Birra
ATTACH;FMTTYPE=image/jpeg:https://boirabaixa.cat/wp-content/uploads/sites/36/2025/09/VerroBirraBB_dv3.jpeg
ORGANIZER;CN="Casal Popular Boira Baixa":MAILTO:boirabaixa@gmail.com
END:VEVENT
BEGIN:VEVENT
DTSTART;TZID=Europe/Andorra:20251003T223000
DTEND;TZID=Europe/Andorra:20251004T010000
DTSTAMP:20260425T014101
CREATED:20250924T112900Z
LAST-MODIFIED:20250925T151505Z
UID:9745-1759530600-1759539600@boirabaixa.cat
SUMMARY:Verro i birra | Concert amb Borrissol i Tremendu
DESCRIPTION:Concert amb Borrissol (pop\, Barcelona)\, membre de Dan Peralbo i El Comboi\, Alavedra\, Falciots Ninja\, MiNE!Virtudes\, Capità Moore i altres\, i Tremendu (cantamanyanes de la Plana). Amb taquilla inversa.
URL:https://boirabaixa.cat/esdeveniment/verro-i-birra-concert-amb-ret-i-tremendu/
LOCATION:Casal Popular Boira Baixa\, Plaça Flama del Canigó\, 2\, Manlleu\, Països Catalans\, 08560
CATEGORIES:Festa del Verro i la Birra
ATTACH;FMTTYPE=image/jpeg:https://boirabaixa.cat/wp-content/uploads/sites/36/2025/09/VerroBirraBB_dv3.jpeg
ORGANIZER;CN="Casal Popular Boira Baixa":MAILTO:boirabaixa@gmail.com
END:VEVENT
BEGIN:VEVENT
DTSTART;TZID=Europe/Andorra:20251004T123000
DTEND;TZID=Europe/Andorra:20251004T140000
DTSTAMP:20260425T014101
CREATED:20250924T113001Z
LAST-MODIFIED:20250924T211006Z
UID:9750-1759581000-1759586400@boirabaixa.cat
SUMMARY:Verro i birra | Vermut - degustació d'embotits de proximitat
DESCRIPTION:
URL:https://boirabaixa.cat/esdeveniment/verro-i-birra-vermut-degustacio-dembotits-de-proximitat/
LOCATION:Casal Popular Boira Baixa\, Plaça Flama del Canigó\, 2\, Manlleu\, Països Catalans\, 08560
CATEGORIES:Festa del Verro i la Birra
ATTACH;FMTTYPE=image/jpeg:https://boirabaixa.cat/wp-content/uploads/sites/36/2025/09/Diss4_verrobirra.jpeg
ORGANIZER;CN="Casal Popular Boira Baixa":MAILTO:boirabaixa@gmail.com
END:VEVENT
BEGIN:VEVENT
DTSTART;TZID=Europe/Andorra:20251004T180000
DTEND;TZID=Europe/Andorra:20251004T193000
DTSTAMP:20260425T014101
CREATED:20250924T113253Z
LAST-MODIFIED:20250924T211110Z
UID:9755-1759600800-1759606200@boirabaixa.cat
SUMMARY:Verro i birra | Tast de cerveses artesanes amb Montseny\, Engorile i Guineu
DESCRIPTION:Amb maridatge amb embotits locals. Preu: 8€ socis/es\, 10€ no socis/es. Inscripcions a www.boirabaixa.cat/verroibirra.
URL:https://boirabaixa.cat/esdeveniment/verro-i-birra-tast-de-cerveses-artesanes-amb-montseny-engorile-i-guineu/
LOCATION:Casal Popular Boira Baixa\, Plaça Flama del Canigó\, 2\, Manlleu\, Països Catalans\, 08560
CATEGORIES:Festa del Verro i la Birra
ATTACH;FMTTYPE=image/jpeg:https://boirabaixa.cat/wp-content/uploads/sites/36/2025/09/Diss4_verrobirra.jpeg
ORGANIZER;CN="Casal Popular Boira Baixa":MAILTO:boirabaixa@gmail.com
END:VEVENT
BEGIN:VEVENT
DTSTART;TZID=Europe/Andorra:20251004T200000
DTEND;TZID=Europe/Andorra:20251004T210000
DTSTAMP:20260425T014101
CREATED:20250924T113542Z
LAST-MODIFIED:20251002T203959Z
UID:9758-1759608000-1759611600@boirabaixa.cat
SUMMARY:Verro i birra | I Gran concurs de menjar botifarra
DESCRIPTION:Seràs el més ràpid a menjar-te un metre de botifarra? Preu 5€. Inscripcions prèvies a www.boirabaixa.cat/verroibirra. Places limitades.
URL:https://boirabaixa.cat/esdeveniment/verro-i-birra-i-gran-concurs-de-menjar-botifarra/
LOCATION:Casal Popular Boira Baixa\, Plaça Flama del Canigó\, 2\, Manlleu\, Països Catalans\, 08560
CATEGORIES:Festa del Verro i la Birra
ATTACH;FMTTYPE=image/jpeg:https://boirabaixa.cat/wp-content/uploads/sites/36/2025/09/1m-botifarra-post-scaled.jpg
ORGANIZER;CN="Casal Popular Boira Baixa":MAILTO:boirabaixa@gmail.com
END:VEVENT
END:VCALENDAR