BEGIN:VCALENDAR
VERSION:2.0
PRODID:-//BoiraBaixa - ECPv6.15.20//NONSGML v1.0//EN
CALSCALE:GREGORIAN
METHOD:PUBLISH
X-ORIGINAL-URL:https://boirabaixa.cat
X-WR-CALDESC:Esdeveniments per BoiraBaixa
REFRESH-INTERVAL;VALUE=DURATION:PT1H
X-Robots-Tag:noindex
X-PUBLISHED-TTL:PT1H
BEGIN:VTIMEZONE
TZID:Europe/Andorra
BEGIN:DAYLIGHT
TZOFFSETFROM:+0100
TZOFFSETTO:+0200
TZNAME:CEST
DTSTART:20240331T010000
END:DAYLIGHT
BEGIN:STANDARD
TZOFFSETFROM:+0200
TZOFFSETTO:+0100
TZNAME:CET
DTSTART:20241027T010000
END:STANDARD
BEGIN:DAYLIGHT
TZOFFSETFROM:+0100
TZOFFSETTO:+0200
TZNAME:CEST
DTSTART:20250330T010000
END:DAYLIGHT
BEGIN:STANDARD
TZOFFSETFROM:+0200
TZOFFSETTO:+0100
TZNAME:CET
DTSTART:20251026T010000
END:STANDARD
BEGIN:DAYLIGHT
TZOFFSETFROM:+0100
TZOFFSETTO:+0200
TZNAME:CEST
DTSTART:20260329T010000
END:DAYLIGHT
BEGIN:STANDARD
TZOFFSETFROM:+0200
TZOFFSETTO:+0100
TZNAME:CET
DTSTART:20261025T010000
END:STANDARD
END:VTIMEZONE
BEGIN:VEVENT
DTSTART;TZID=Europe/Andorra:20251031T210000
DTEND;TZID=Europe/Andorra:20251101T023000
DTSTAMP:20260424T174655
CREATED:20250924T112024Z
LAST-MODIFIED:20251015T181838Z
UID:9737-1761944400-1761964200@boirabaixa.cat
SUMMARY:Castanyada popular: sopar i concert amb DJ Up the RA i Mixtus
DESCRIPTION:Tiquets per al sopar popular\, a www.boirabaixa.cat/castanyada.
URL:https://boirabaixa.cat/esdeveniment/castanyada-popular-2/
LOCATION:Casal Popular Boira Baixa\, Plaça Flama del Canigó\, 2\, Manlleu\, Països Catalans\, 08560
ATTACH;FMTTYPE=image/jpeg:https://boirabaixa.cat/wp-content/uploads/sites/36/2025/09/Castanyada-25-post-scaled.jpg
ORGANIZER;CN="Casal Popular Boira Baixa":MAILTO:boirabaixa@gmail.com
END:VEVENT
BEGIN:VEVENT
DTSTART;TZID=Europe/Andorra:20251102T190000
DTEND;TZID=Europe/Andorra:20251102T203000
DTSTAMP:20260424T174655
CREATED:20251008T103208Z
LAST-MODIFIED:20251021T141244Z
UID:9935-1762110000-1762115400@boirabaixa.cat
SUMMARY:Projecció del documental "To kill a war machine"
DESCRIPTION:Un documental sobre el grup d’acció directa anglès Palestine Action. L’organització participa a les protestes contra la guerra de Gaza\, fet pel qual ha estat il·legalitzada pel govern britànic. Centenars de persones\, incloses persones grans\, han estat arrestades sota acusació de pertànyer al grup.
URL:https://boirabaixa.cat/esdeveniment/projeccio-del-documental-to-kill-a-war-machine/
LOCATION:Casal Popular Boira Baixa\, Plaça Flama del Canigó\, 2\, Manlleu\, Països Catalans\, 08560
ATTACH;FMTTYPE=image/jpeg:https://boirabaixa.cat/wp-content/uploads/sites/36/2025/10/MC_BB_KillWarMachine.jpeg
ORGANIZER;CN="Casal Popular Boira Baixa":MAILTO:boirabaixa@gmail.com
END:VEVENT
BEGIN:VEVENT
DTSTART;TZID=Europe/Andorra:20251105T190000
DTEND;TZID=Europe/Andorra:20251105T213000
DTSTAMP:20260424T174655
CREATED:20251103T131117Z
LAST-MODIFIED:20251103T131117Z
UID:10345-1762369200-1762378200@boirabaixa.cat
SUMMARY:Glosa amb Oidà Manlleu (Cor de Carxofa)
DESCRIPTION:
URL:https://boirabaixa.cat/esdeveniment/glosa-amb-oida-manlleu-cor-de-carxofa/
LOCATION:Casal Popular Boira Baixa\, Plaça Flama del Canigó\, 2\, Manlleu\, Països Catalans\, 08560
END:VEVENT
BEGIN:VEVENT
DTSTART;TZID=Europe/Andorra:20251107T190000
DTEND;TZID=Europe/Andorra:20251107T203000
DTSTAMP:20260424T174655
CREATED:20251027T195827Z
LAST-MODIFIED:20251027T195827Z
UID:10170-1762542000-1762547400@boirabaixa.cat
SUMMARY:Assemblea oberta "Eleccions municipals 2027: quina candidatura i per a fer què?" (CUP)
DESCRIPTION:
URL:https://boirabaixa.cat/esdeveniment/assemblea-oberta-eleccions-municipals-2027-quina-candidatura-i-per-a-fer-que-cup/
LOCATION:Casal Popular Boira Baixa\, Plaça Flama del Canigó\, 2\, Manlleu\, Països Catalans\, 08560
ATTACH;FMTTYPE=image/jpeg:https://boirabaixa.cat/wp-content/uploads/sites/36/2025/10/AO_eleccions_CUP_LQ.jpeg
END:VEVENT
BEGIN:VEVENT
DTSTART;TZID=Europe/Andorra:20251107T220000
DTEND;TZID=Europe/Andorra:20251107T233000
DTSTAMP:20260424T174655
CREATED:20251027T195654Z
LAST-MODIFIED:20251029T182506Z
UID:10168-1762552800-1762558200@boirabaixa.cat
SUMMARY:Primera assemblea de Fes-te Jove 2026
DESCRIPTION:
URL:https://boirabaixa.cat/esdeveniment/primera-assemblea-de-fes-e-jove-2026/
LOCATION:Casal Popular Boira Baixa\, Plaça Flama del Canigó\, 2\, Manlleu\, Països Catalans\, 08560
ATTACH;FMTTYPE=image/jpeg:https://boirabaixa.cat/wp-content/uploads/sites/36/2025/10/1a_ass_FJ26.jpeg
ORGANIZER;CN="Fes-te Jove":MAILTO:festejovemanlleu@gmail.com
END:VEVENT
BEGIN:VEVENT
DTSTART;TZID=Europe/Andorra:20251108T234500
DTEND;TZID=Europe/Andorra:20251109T010000
DTSTAMP:20260424T174655
CREATED:20251027T222059Z
LAST-MODIFIED:20251027T222404Z
UID:10222-1762645500-1762650000@boirabaixa.cat
SUMMARY:Nit de punxadiscs: PD Germanes Borroka
DESCRIPTION:Rock amistós i punk emotiu amb PD Germanes Borroka.
URL:https://boirabaixa.cat/esdeveniment/nit-de-punxadiscs-pd-germanes-borroka-2/
LOCATION:Països Catalans
ATTACH;FMTTYPE=image/jpeg:https://boirabaixa.cat/wp-content/uploads/sites/36/2025/10/Nits_PDs_BB.jpeg
END:VEVENT
BEGIN:VEVENT
DTSTART;TZID=Europe/Andorra:20251109T190000
DTEND;TZID=Europe/Andorra:20251109T200000
DTSTAMP:20260424T174655
CREATED:20251008T103503Z
LAST-MODIFIED:20251027T221502Z
UID:9938-1762714800-1762718400@boirabaixa.cat
SUMMARY:Projecció del documental "El monstre de la selva"\, de Roger Usart
DESCRIPTION:La història d’una estranya criatura que va espantar la gent de la Selva i el Gironès l’any 1968. \nAmb la presència de Roger Usart\, director\, i els protagonistes.
URL:https://boirabaixa.cat/esdeveniment/projeccio-del-documental-el-monstre-de-la-selva-de-roger-usart/
LOCATION:Casal Popular Boira Baixa\, Plaça Flama del Canigó\, 2\, Manlleu\, Països Catalans\, 08560
ATTACH;FMTTYPE=image/jpeg:https://boirabaixa.cat/wp-content/uploads/sites/36/2025/10/Monstre_selva_BB.jpeg
ORGANIZER;CN="Casal Popular Boira Baixa":MAILTO:boirabaixa@gmail.com
END:VEVENT
BEGIN:VEVENT
DTSTART;TZID=Europe/Andorra:20251112T190000
DTEND;TZID=Europe/Andorra:20251112T213000
DTSTAMP:20260424T174655
CREATED:20251103T131321Z
LAST-MODIFIED:20251103T131321Z
UID:10348-1762974000-1762983000@boirabaixa.cat
SUMMARY:Glosa amb Oidà Manlleu (Cor de Carxofa)
DESCRIPTION:
URL:https://boirabaixa.cat/esdeveniment/glosa-amb-oida-manlleu-cor-de-carxofa-2/
LOCATION:Casal Popular Boira Baixa\, Plaça Flama del Canigó\, 2\, Manlleu\, Països Catalans\, 08560
END:VEVENT
BEGIN:VEVENT
DTSTART;TZID=Europe/Andorra:20251113T200000
DTEND;TZID=Europe/Andorra:20251113T210000
DTSTAMP:20260424T174655
CREATED:20251013T104841Z
LAST-MODIFIED:20251013T104911Z
UID:9985-1763064000-1763067600@boirabaixa.cat
SUMMARY:Converses literàries: "Intrús en la pols"\, de William Faulkner
DESCRIPTION:📚 El mes de novembre viatjarem\, amb les converses literàries Boira Baixa\, al sud dels Estats Units. De la mà de William Faulkner i la seva novel·la Intrús en la pols. \n📖 “Un al·legat contra el racisme al si de la societat americana en una història detectivesca plena d’amor i de compassió.” \n📒 Un títol de la col·lecció Mississipi de L’Agulla Daurada que retrata les tensions racials del sud profund\, marcat pels prejudicis i els conflictes morals. \nUs hi esperem!
URL:https://boirabaixa.cat/esdeveniment/converses-literaries-intrus-en-la-pols-de-william-faulkner/
LOCATION:Casal Popular Boira Baixa\, Plaça Flama del Canigó\, 2\, Manlleu\, Països Catalans\, 08560
CATEGORIES:Converses literàries
ATTACH;FMTTYPE=image/jpeg:https://boirabaixa.cat/wp-content/uploads/sites/36/2025/10/Converses_intruspols.jpeg
ORGANIZER;CN="Casal Popular Boira Baixa":MAILTO:boirabaixa@gmail.com
END:VEVENT
BEGIN:VEVENT
DTSTART;TZID=Europe/Andorra:20251114T190000
DTEND;TZID=Europe/Andorra:20251114T203000
DTSTAMP:20260424T174655
CREATED:20251025T210159Z
LAST-MODIFIED:20251103T143958Z
UID:10126-1763146800-1763152200@boirabaixa.cat
SUMMARY:Presentació de la novel·la "El joc del silenci"\, de Gil Pratsobrerroca
DESCRIPTION:Amb la presència de l’autor\, Gil Pratsobrerroca\, que en conversarà amb Clàudia Cavaller. Sobre El joc del silenci: \nEl 15 de juny de l’any 2025 té lloc la desaparició de la Valèria Costa\, una nena encisadora de set anys. A partir d’aquest plantejament\, els seus pares es veuran immersos en una investigació que no deixarà d’assenyalar-los directament\, obligant-los a confessar fins a l’últim secret que s’han estat ocultant. \nAmb un frenètic compte enrere i un ritme trepidant\, aquesta història s’endinsa en les profunditats de l’amor i el desig a través d’una trama ambiciosa\, teixida amb cura i precisió\, plena de girs inesperats i de viatges al passat.
URL:https://boirabaixa.cat/esdeveniment/presentacio-de-la-novella-el-joc-del-silenci-de-gil-pratsobrerroca/
LOCATION:Casal Popular Boira Baixa\, Plaça Flama del Canigó\, 2\, Manlleu\, Països Catalans\, 08560
ATTACH;FMTTYPE=image/jpeg:https://boirabaixa.cat/wp-content/uploads/sites/36/2025/10/Presentacio_jocsilenci_BB.jpeg
ORGANIZER;CN="Casal Popular Boira Baixa":MAILTO:boirabaixa@gmail.com
END:VEVENT
BEGIN:VEVENT
DTSTART;TZID=Europe/Andorra:20251114T230000
DTEND;TZID=Europe/Andorra:20251115T003000
DTSTAMP:20260424T174655
CREATED:20251025T210542Z
LAST-MODIFIED:20251109T210313Z
UID:10131-1763161200-1763166600@boirabaixa.cat
SUMMARY:Concert de Carles Belda
DESCRIPTION:Recital ballable de cançó tavernícola. Amb taquilla inversa.
URL:https://boirabaixa.cat/esdeveniment/concert-de-carles-belda/
LOCATION:Casal Popular Boira Baixa\, Plaça Flama del Canigó\, 2\, Manlleu\, Països Catalans\, 08560
ATTACH;FMTTYPE=image/jpeg:https://boirabaixa.cat/wp-content/uploads/sites/36/2025/10/Concert_CarlesBelda_BB.jpeg
ORGANIZER;CN="Casal Popular Boira Baixa":MAILTO:boirabaixa@gmail.com
END:VEVENT
BEGIN:VEVENT
DTSTART;TZID=Europe/Andorra:20251116T190000
DTEND;TZID=Europe/Andorra:20251116T200000
DTSTAMP:20260424T174655
CREATED:20251025T210628Z
LAST-MODIFIED:20251109T210015Z
UID:10133-1763319600-1763323200@boirabaixa.cat
SUMMARY:Presentació i inauguració de l'exposició "Rònec"\, de Paül López
DESCRIPTION:
URL:https://boirabaixa.cat/esdeveniment/presentacio-i-inauguracio-de-lexposicio-ronec-de-paul-lopez/
LOCATION:Casal Popular Boira Baixa\, Plaça Flama del Canigó\, 2\, Manlleu\, Països Catalans\, 08560
ATTACH;FMTTYPE=image/jpeg:https://boirabaixa.cat/wp-content/uploads/sites/36/2025/10/Ronec_Paul_BB.jpeg
ORGANIZER;CN="Casal Popular Boira Baixa":MAILTO:boirabaixa@gmail.com
END:VEVENT
BEGIN:VEVENT
DTSTART;TZID=Europe/Andorra:20251119T190000
DTEND;TZID=Europe/Andorra:20251119T213000
DTSTAMP:20260424T174655
CREATED:20251103T131403Z
LAST-MODIFIED:20251103T131403Z
UID:10350-1763578800-1763587800@boirabaixa.cat
SUMMARY:Glosa amb Oidà Manlleu (Cor de Carxofa)
DESCRIPTION:
URL:https://boirabaixa.cat/esdeveniment/glosa-amb-oida-manlleu-cor-de-carxofa-3/
LOCATION:Casal Popular Boira Baixa\, Plaça Flama del Canigó\, 2\, Manlleu\, Països Catalans\, 08560
END:VEVENT
BEGIN:VEVENT
DTSTART;TZID=Europe/Andorra:20251120T190000
DTEND;TZID=Europe/Andorra:20251120T203000
DTSTAMP:20260424T174655
CREATED:20251025T210933Z
LAST-MODIFIED:20251030T144232Z
UID:10135-1763665200-1763670600@boirabaixa.cat
SUMMARY:Presentació del llibre "JSK 30 años de kalle"\, de Juantxo Skalari
DESCRIPTION:Amb l’autor i Jordi Grané (HiLight Sound). Tot seguit\, sessió de música reggae inspirada en el llibre\, de la mà de Grané.
URL:https://boirabaixa.cat/esdeveniment/presentacio-del-llibre-de-jsk-30-anos-de-kalle-de-juantxo-skalari/
LOCATION:Casal Popular Boira Baixa\, Plaça Flama del Canigó\, 2\, Manlleu\, Països Catalans\, 08560
ATTACH;FMTTYPE=image/jpeg:https://boirabaixa.cat/wp-content/uploads/sites/36/2025/10/Presentacio_Juantxo_Manlleu.jpeg
ORGANIZER;CN="Casal Popular Boira Baixa":MAILTO:boirabaixa@gmail.com
END:VEVENT
BEGIN:VEVENT
DTSTART;TZID=Europe/Andorra:20251121T223000
DTEND;TZID=Europe/Andorra:20251121T235900
DTSTAMP:20260424T174655
CREATED:20251025T211032Z
LAST-MODIFIED:20251108T105711Z
UID:10137-1763764200-1763769540@boirabaixa.cat
SUMMARY:Nit de jocs de taula: edició clàssics
DESCRIPTION:
URL:https://boirabaixa.cat/esdeveniment/nit-de-jocs-de-taula-edicio-classics/
LOCATION:Casal Popular Boira Baixa\, Plaça Flama del Canigó\, 2\, Manlleu\, Països Catalans\, 08560
CATEGORIES:Nit de jocs de taula
ATTACH;FMTTYPE=image/jpeg:https://boirabaixa.cat/wp-content/uploads/sites/36/2025/10/JdT_21N_classics.jpeg
ORGANIZER;CN="Casal Popular Boira Baixa":MAILTO:boirabaixa@gmail.com
END:VEVENT
BEGIN:VEVENT
DTSTART;TZID=Europe/Andorra:20251123T190000
DTEND;TZID=Europe/Andorra:20251123T203000
DTSTAMP:20260424T174655
CREATED:20251008T103645Z
LAST-MODIFIED:20251105T175016Z
UID:9940-1763924400-1763929800@boirabaixa.cat
SUMMARY:Projecció del documental "Esbec 37"
DESCRIPTION:Un documental sobre els 600 infants de Burkina Faso que es van formar a Cuba en el marc de la revolució. \nAmb la presència de Nebon Babou (protagonista)\, Pepa Rosselló (productora) i Àlex Verdejo (director). \nAmb taquilla inversa.
URL:https://boirabaixa.cat/esdeveniment/projeccio-del-documental-esbec-37/
LOCATION:Casal Popular Boira Baixa\, Plaça Flama del Canigó\, 2\, Manlleu\, Països Catalans\, 08560
ATTACH;FMTTYPE=image/jpeg:https://boirabaixa.cat/wp-content/uploads/sites/36/2025/10/ESBEC_BB.jpeg
ORGANIZER;CN="Casal Popular Boira Baixa":MAILTO:boirabaixa@gmail.com
END:VEVENT
BEGIN:VEVENT
DTSTART;TZID=Europe/Andorra:20251123T203000
DTEND;TZID=Europe/Andorra:20251123T210000
DTSTAMP:20260424T174655
CREATED:20251122T191730Z
LAST-MODIFIED:20251122T191730Z
UID:10419-1763929800-1763931600@boirabaixa.cat
SUMMARY:Brindis de celebració: 1 any de bar-restaurant Boira Baixa!
DESCRIPTION:
URL:https://boirabaixa.cat/esdeveniment/brindis-de-celebracio-1-any-de-bar-restaurant-boira-baixa/
LOCATION:Casal Popular Boira Baixa\, Plaça Flama del Canigó\, 2\, Manlleu\, Països Catalans\, 08560
ATTACH;FMTTYPE=image/jpeg:https://boirabaixa.cat/wp-content/uploads/sites/36/2025/11/Brindis_1any_post-scaled.jpg
ORGANIZER;CN="Casal Popular Boira Baixa":MAILTO:boirabaixa@gmail.com
END:VEVENT
BEGIN:VEVENT
DTSTART;TZID=Europe/Andorra:20251126T190000
DTEND;TZID=Europe/Andorra:20251126T203000
DTSTAMP:20260424T174655
CREATED:20251025T211310Z
LAST-MODIFIED:20251109T214506Z
UID:10139-1764183600-1764189000@boirabaixa.cat
SUMMARY:Presentació de la revista "Taga\, la cultura de la natura"
DESCRIPTION:Centrada en l’explicació del reportatge escrit per tres internacionalistes des de Palestina.
URL:https://boirabaixa.cat/esdeveniment/presentacio-de-la-revista-taga-la-cultura-de-la-natura/
LOCATION:Casal Popular Boira Baixa\, Plaça Flama del Canigó\, 2\, Manlleu\, Països Catalans\, 08560
ATTACH;FMTTYPE=image/jpeg:https://boirabaixa.cat/wp-content/uploads/sites/36/2025/10/Revista-Taga_BB.jpeg
ORGANIZER;CN="Casal Popular Boira Baixa":MAILTO:boirabaixa@gmail.com
END:VEVENT
BEGIN:VEVENT
DTSTART;TZID=Europe/Andorra:20251126T190000
DTEND;TZID=Europe/Andorra:20251126T213000
DTSTAMP:20260424T174655
CREATED:20251103T131434Z
LAST-MODIFIED:20251103T131434Z
UID:10352-1764183600-1764192600@boirabaixa.cat
SUMMARY:Glosa amb Oidà Manlleu (Cor de Carxofa)
DESCRIPTION:
URL:https://boirabaixa.cat/esdeveniment/glosa-amb-oida-manlleu-cor-de-carxofa-4/
LOCATION:Casal Popular Boira Baixa\, Plaça Flama del Canigó\, 2\, Manlleu\, Països Catalans\, 08560
END:VEVENT
BEGIN:VEVENT
DTSTART;TZID=Europe/Andorra:20251127T190000
DTEND;TZID=Europe/Andorra:20251127T203000
DTSTAMP:20260424T174655
CREATED:20251025T212004Z
LAST-MODIFIED:20251116T221341Z
UID:10141-1764270000-1764275400@boirabaixa.cat
SUMMARY:Presentació del llibre "Quan t'acaronin els estels"\, de Xavi Prat
DESCRIPTION:Amb l’autor\, Xavi Prat\, que en conversarà amb Anna Piella. Sobre Quan t’acaronin els estels. Una història en deu cançons: \nÉs una obra intensa i profundament emotiva que explora les complexitats del dol i la pèrdua a través d’una història íntima i personal\, on cada capítol està basat en una cançó\, la seva lletra i la seva essència. Aquesta obra ofereix una visió sincera de les emocions humanes en els seus moments més vulnerables\, utilitzant una narrativa poètica i carregada d’imatges sensorials per donar vida a les experiències dels personatges.
URL:https://boirabaixa.cat/esdeveniment/presentacio-del-llibre-quan-tacaronin-els-estels-de-xavi-prat/
LOCATION:Casal Popular Boira Baixa\, Plaça Flama del Canigó\, 2\, Manlleu\, Països Catalans\, 08560
ATTACH;FMTTYPE=image/jpeg:https://boirabaixa.cat/wp-content/uploads/sites/36/2025/10/Llibre_Quan_acaronin_estels.jpeg
ORGANIZER;CN="Casal Popular Boira Baixa":MAILTO:boirabaixa@gmail.com
END:VEVENT
BEGIN:VEVENT
DTSTART;TZID=Europe/Andorra:20251128T230000
DTEND;TZID=Europe/Andorra:20251129T003000
DTSTAMP:20260424T174655
CREATED:20251025T212645Z
LAST-MODIFIED:20251122T211611Z
UID:10144-1764370800-1764376200@boirabaixa.cat
SUMMARY:Concert de Joan Christian Simelio i Marc Torrent
DESCRIPTION:Corrandes i cançons de taverna. Amb taquilla inversa.
URL:https://boirabaixa.cat/esdeveniment/concert-de-joan-christian-simelio-i-marc-torrent/
LOCATION:Casal Popular Boira Baixa\, Plaça Flama del Canigó\, 2\, Manlleu\, Països Catalans\, 08560
ATTACH;FMTTYPE=image/jpeg:https://boirabaixa.cat/wp-content/uploads/sites/36/2025/10/Simelio_Marc-Torrent-scaled.jpg
ORGANIZER;CN="Casal Popular Boira Baixa":MAILTO:boirabaixa@gmail.com
END:VEVENT
BEGIN:VEVENT
DTSTART;TZID=Europe/Andorra:20251130T120000
DTEND;TZID=Europe/Andorra:20251130T133000
DTSTAMP:20260424T174655
CREATED:20251021T141510Z
LAST-MODIFIED:20251025T104415Z
UID:10044-1764504000-1764509400@boirabaixa.cat
SUMMARY:"Preparem-nos per tornar-hi": taula rodona amb Eulàlia Reguant\, Gerard Boix i Vidal Aragonés
DESCRIPTION:Analitzem críticament el cicle del “Procés” i plantegem nous horitzons\, des de l’independentisme popular\, per a un nou embat!
URL:https://boirabaixa.cat/esdeveniment/preparem-nos-per-tornar-hi-taula-rodona-amb-eulalia-reguant-gerard-boix-i-vidal-aragones/
LOCATION:Casal Popular Boira Baixa\, Plaça Flama del Canigó\, 2\, Manlleu\, Països Catalans\, 08560
ATTACH;FMTTYPE=image/jpeg:https://boirabaixa.cat/wp-content/uploads/sites/36/2025/10/Taula-rodona_A3LQ-scaled.jpg
END:VEVENT
BEGIN:VEVENT
DTSTART;TZID=Europe/Andorra:20251130T190000
DTEND;TZID=Europe/Andorra:20251130T203000
DTSTAMP:20260424T174655
CREATED:20251025T212940Z
LAST-MODIFIED:20251124T131522Z
UID:10146-1764529200-1764534600@boirabaixa.cat
SUMMARY:Presentació del llibre "Joan Rocamora: un relat calidoscòpic"
DESCRIPTION:Amb Pep Musté\, Narcís Lòpez\, Oriol Falguera i Agustí Barrera.
URL:https://boirabaixa.cat/esdeveniment/presentacio-del-llibre-joan-rocamora-un-relat-calidoscopic/
LOCATION:Casal Popular Boira Baixa\, Plaça Flama del Canigó\, 2\, Manlleu\, Països Catalans\, 08560
ATTACH;FMTTYPE=image/jpeg:https://boirabaixa.cat/wp-content/uploads/sites/36/2025/10/Presentacio_llibre_Rocamora_LQ-1.jpg
ORGANIZER;CN="Casal Popular Boira Baixa":MAILTO:boirabaixa@gmail.com
END:VEVENT
END:VCALENDAR